BEGIN:VCALENDAR
PRODID:-//WikiCFP//jaapgordijn 1.0//EN
VERSION:2.0
CALSCALE:GREGORIAN
BEGIN:VEVENT
DTSTAMP:20260426T010441Z
DTSTART;VALUE=DATE:20191127
DTEND;VALUE=DATE:20191130
SUMMARY:PoEM 2019
DESCRIPTION:12th IFIP WG 8.1 working conference on the Practice of Enterp
 rise Modelling - PoEM
URL:http://www.wikicfp.com/cfp/servlet/event.showcfp?eventid=88538&copyow
 nerid=148308
UID:cfp781425-E@wikicfp.com
END:VEVENT
BEGIN:VEVENT
DTSTAMP:20260426T010441Z
DTSTART;VALUE=DATE:20190721
SUMMARY:PoEM 2019 Abstract Due
DESCRIPTION:12th IFIP WG 8.1 working conference on the Practice of Enterp
 rise Modelling - PoEM
URL:http://www.wikicfp.com/cfp/servlet/event.showcfp?eventid=88538&copyow
 nerid=148308
UID:cfp781425-A@wikicfp.com
END:VEVENT
BEGIN:VEVENT
DTSTAMP:20260426T010441Z
DTSTART;VALUE=DATE:20190728
SUMMARY:PoEM 2019 Deadline
DESCRIPTION:12th IFIP WG 8.1 working conference on the Practice of Enterp
 rise Modelling - PoEM
URL:http://www.wikicfp.com/cfp/servlet/event.showcfp?eventid=88538&copyow
 nerid=148308
UID:cfp781425-D@wikicfp.com
END:VEVENT
BEGIN:VEVENT
DTSTAMP:20260426T010441Z
DTSTART;VALUE=DATE:20190916
SUMMARY:PoEM 2019 Notification Due
DESCRIPTION:12th IFIP WG 8.1 working conference on the Practice of Enterp
 rise Modelling - PoEM
URL:http://www.wikicfp.com/cfp/servlet/event.showcfp?eventid=88538&copyow
 nerid=148308
UID:cfp781425-N@wikicfp.com
END:VEVENT
BEGIN:VEVENT
DTSTAMP:20260426T010441Z
DTSTART;VALUE=DATE:20220615
DTEND;VALUE=DATE:20220618
SUMMARY:IEEE CBI 2022
DESCRIPTION:IEEE Conference on Business Informatics
URL:http://www.wikicfp.com/cfp/servlet/event.showcfp?eventid=154183&copyo
 wnerid=148308
UID:cfp918977-E@wikicfp.com
END:VEVENT
BEGIN:VEVENT
DTSTAMP:20260426T010441Z
DTSTART;VALUE=DATE:20220301
SUMMARY:IEEE CBI 2022 Abstract Due
DESCRIPTION:IEEE Conference on Business Informatics
URL:http://www.wikicfp.com/cfp/servlet/event.showcfp?eventid=154183&copyo
 wnerid=148308
UID:cfp918977-A@wikicfp.com
END:VEVENT
BEGIN:VEVENT
DTSTAMP:20260426T010441Z
DTSTART;VALUE=DATE:20220308
SUMMARY:IEEE CBI 2022 Deadline
DESCRIPTION:IEEE Conference on Business Informatics
URL:http://www.wikicfp.com/cfp/servlet/event.showcfp?eventid=154183&copyo
 wnerid=148308
UID:cfp918977-D@wikicfp.com
END:VEVENT
BEGIN:VEVENT
DTSTAMP:20260426T010441Z
DTSTART;VALUE=DATE:20220415
SUMMARY:IEEE CBI 2022 Notification Due
DESCRIPTION:IEEE Conference on Business Informatics
URL:http://www.wikicfp.com/cfp/servlet/event.showcfp?eventid=154183&copyo
 wnerid=148308
UID:cfp918977-N@wikicfp.com
END:VEVENT
BEGIN:VEVENT
DTSTAMP:20260426T010441Z
DTSTART;VALUE=DATE:20220515
SUMMARY:IEEE CBI 2022 Final Version Due
DESCRIPTION:IEEE Conference on Business Informatics
URL:http://www.wikicfp.com/cfp/servlet/event.showcfp?eventid=154183&copyo
 wnerid=148308
UID:cfp918977-N@wikicfp.com
END:VEVENT
END:VCALENDAR
