BEGIN:VCALENDAR
PRODID:-//WikiCFP//Lubby 1.0//EN
VERSION:2.0
CALSCALE:GREGORIAN
BEGIN:VEVENT
DTSTAMP:20260421T153115Z
DTSTART;VALUE=DATE:20190108
DTEND;VALUE=DATE:20190112
SUMMARY:MMM 2019
DESCRIPTION:Conference on Multimedia Modeling
URL:http://www.wikicfp.com/cfp/servlet/event.showcfp?eventid=73505&copyow
 nerid=147593
UID:cfp780553-E@wikicfp.com
END:VEVENT
BEGIN:VEVENT
DTSTAMP:20260421T153115Z
DTSTART;VALUE=DATE:20180715
SUMMARY:MMM 2019 Deadline
DESCRIPTION:Conference on Multimedia Modeling
URL:http://www.wikicfp.com/cfp/servlet/event.showcfp?eventid=73505&copyow
 nerid=147593
UID:cfp780553-D@wikicfp.com
END:VEVENT
BEGIN:VEVENT
DTSTAMP:20260421T153115Z
DTSTART;VALUE=DATE:20180917
SUMMARY:MMM 2019 Notification Due
DESCRIPTION:Conference on Multimedia Modeling
URL:http://www.wikicfp.com/cfp/servlet/event.showcfp?eventid=73505&copyow
 nerid=147593
UID:cfp780553-N@wikicfp.com
END:VEVENT
BEGIN:VEVENT
DTSTAMP:20260421T153115Z
DTSTART;VALUE=DATE:20190616
DTEND;VALUE=DATE:20190622
SUMMARY:CVPR UG2+ Workshop 2019
DESCRIPTION:UG2+ Workshop - Bridging the Gap between Computational Photog
 raphy and Visual Recognition
URL:http://www.wikicfp.com/cfp/servlet/event.showcfp?eventid=88078&copyow
 nerid=147593
UID:cfp780367-E@wikicfp.com
END:VEVENT
BEGIN:VEVENT
DTSTAMP:20260421T153115Z
DTSTART;VALUE=DATE:20190501
SUMMARY:CVPR UG2+ Workshop 2019 Deadline
DESCRIPTION:UG2+ Workshop - Bridging the Gap between Computational Photog
 raphy and Visual Recognition
URL:http://www.wikicfp.com/cfp/servlet/event.showcfp?eventid=88078&copyow
 nerid=147593
UID:cfp780367-D@wikicfp.com
END:VEVENT
BEGIN:VEVENT
DTSTAMP:20260421T153115Z
DTSTART;VALUE=DATE:20190510
SUMMARY:CVPR UG2+ Workshop 2019 Notification Due
DESCRIPTION:UG2+ Workshop - Bridging the Gap between Computational Photog
 raphy and Visual Recognition
URL:http://www.wikicfp.com/cfp/servlet/event.showcfp?eventid=88078&copyow
 nerid=147593
UID:cfp780367-N@wikicfp.com
END:VEVENT
BEGIN:VEVENT
DTSTAMP:20260421T153115Z
DTSTART;VALUE=DATE:20190517
SUMMARY:CVPR UG2+ Workshop 2019 Final Version Due
DESCRIPTION:UG2+ Workshop - Bridging the Gap between Computational Photog
 raphy and Visual Recognition
URL:http://www.wikicfp.com/cfp/servlet/event.showcfp?eventid=88078&copyow
 nerid=147593
UID:cfp780367-N@wikicfp.com
END:VEVENT
END:VCALENDAR
