BEGIN:VCALENDAR
PRODID:-//WikiCFP//tinamisu 1.0//EN
VERSION:2.0
CALSCALE:GREGORIAN
BEGIN:VEVENT
DTSTAMP:20260421T031646Z
DTSTART;VALUE=DATE:20190709
DTEND;VALUE=DATE:20190712
SUMMARY:IEEE CIBCB 2019
DESCRIPTION:16th IEEE International Conference on Computational Intellige
 nce in Bioinformatics and Computational Biology
URL:http://www.wikicfp.com/cfp/servlet/event.showcfp?eventid=84593&copyow
 nerid=147009
UID:cfp779185-E@wikicfp.com
END:VEVENT
BEGIN:VEVENT
DTSTAMP:20260421T031646Z
DTSTART;VALUE=DATE:20190531
SUMMARY:IEEE CIBCB 2019 Abstract Due
DESCRIPTION:16th IEEE International Conference on Computational Intellige
 nce in Bioinformatics and Computational Biology
URL:http://www.wikicfp.com/cfp/servlet/event.showcfp?eventid=84593&copyow
 nerid=147009
UID:cfp779185-A@wikicfp.com
END:VEVENT
BEGIN:VEVENT
DTSTAMP:20260421T031646Z
DTSTART;VALUE=DATE:20190301
SUMMARY:IEEE CIBCB 2019 Deadline
DESCRIPTION:16th IEEE International Conference on Computational Intellige
 nce in Bioinformatics and Computational Biology
URL:http://www.wikicfp.com/cfp/servlet/event.showcfp?eventid=84593&copyow
 nerid=147009
UID:cfp779185-D@wikicfp.com
END:VEVENT
BEGIN:VEVENT
DTSTAMP:20260421T031646Z
DTSTART;VALUE=DATE:20190415
SUMMARY:IEEE CIBCB 2019 Notification Due
DESCRIPTION:16th IEEE International Conference on Computational Intellige
 nce in Bioinformatics and Computational Biology
URL:http://www.wikicfp.com/cfp/servlet/event.showcfp?eventid=84593&copyow
 nerid=147009
UID:cfp779185-N@wikicfp.com
END:VEVENT
BEGIN:VEVENT
DTSTAMP:20260421T031646Z
DTSTART;VALUE=DATE:20190531
SUMMARY:IEEE CIBCB 2019 Final Version Due
DESCRIPTION:16th IEEE International Conference on Computational Intellige
 nce in Bioinformatics and Computational Biology
URL:http://www.wikicfp.com/cfp/servlet/event.showcfp?eventid=84593&copyow
 nerid=147009
UID:cfp779185-N@wikicfp.com
END:VEVENT
BEGIN:VEVENT
DTSTAMP:20260421T031646Z
DTSTART;VALUE=DATE:20190930
SUMMARY:Biometrics 2019 Deadline
DESCRIPTION:Special Issue on Recent Advances in Biometrics and its Applic
 ations
URL:http://www.wikicfp.com/cfp/servlet/event.showcfp?eventid=82609&copyow
 nerid=147009
UID:cfp779183-D@wikicfp.com
END:VEVENT
BEGIN:VEVENT
DTSTAMP:20260421T031646Z
DTSTART;VALUE=DATE:20190318
DTEND;VALUE=DATE:20190321
SUMMARY:ICDMML 2020
DESCRIPTION:ãEI SCOPUSã2020 International Conference on Data Mining a
 nd Machine Learning
URL:http://www.wikicfp.com/cfp/servlet/event.showcfp?eventid=75992&copyow
 nerid=147009
UID:cfp779347-E@wikicfp.com
END:VEVENT
BEGIN:VEVENT
DTSTAMP:20260421T031646Z
DTSTART;VALUE=DATE:20200220
SUMMARY:ICDMML 2020 Deadline
DESCRIPTION:ãEI SCOPUSã2020 International Conference on Data Mining a
 nd Machine Learning
URL:http://www.wikicfp.com/cfp/servlet/event.showcfp?eventid=75992&copyow
 nerid=147009
UID:cfp779347-D@wikicfp.com
END:VEVENT
BEGIN:VEVENT
DTSTAMP:20260421T031646Z
DTSTART;VALUE=DATE:20200220
SUMMARY:ICDMML 2020 Notification Due
DESCRIPTION:ãEI SCOPUSã2020 International Conference on Data Mining a
 nd Machine Learning
URL:http://www.wikicfp.com/cfp/servlet/event.showcfp?eventid=75992&copyow
 nerid=147009
UID:cfp779347-N@wikicfp.com
END:VEVENT
BEGIN:VEVENT
DTSTAMP:20260421T031646Z
DTSTART;VALUE=DATE:20200220
SUMMARY:ICDMML 2020 Final Version Due
DESCRIPTION:ãEI SCOPUSã2020 International Conference on Data Mining a
 nd Machine Learning
URL:http://www.wikicfp.com/cfp/servlet/event.showcfp?eventid=75992&copyow
 nerid=147009
UID:cfp779347-N@wikicfp.com
END:VEVENT
END:VCALENDAR
