BEGIN:VCALENDAR
PRODID:-//WikiCFP//realstolz 1.0//EN
VERSION:2.0
CALSCALE:GREGORIAN
BEGIN:VEVENT
DTSTAMP:20260424T200755Z
DTSTART;VALUE=DATE:20090330
DTEND;VALUE=DATE:20090404
SUMMARY:EuroSys 2009
DESCRIPTION:Fourth EuroSys Conference
URL:http://www.wikicfp.com/cfp/servlet/event.showcfp?eventid=2873&copyown
 erid=1460
UID:cfp11676-E@wikicfp.com
END:VEVENT
BEGIN:VEVENT
DTSTAMP:20260424T200755Z
DTSTART;VALUE=DATE:20081107
SUMMARY:EuroSys 2009 Deadline
DESCRIPTION:Fourth EuroSys Conference
URL:http://www.wikicfp.com/cfp/servlet/event.showcfp?eventid=2873&copyown
 erid=1460
UID:cfp11676-D@wikicfp.com
END:VEVENT
BEGIN:VEVENT
DTSTAMP:20260424T200755Z
DTSTART;VALUE=DATE:20090614
DTEND;VALUE=DATE:20090620
SUMMARY:USENIX 2009
DESCRIPTION:2009 USENIX Annual Technical Conference
URL:http://www.wikicfp.com/cfp/servlet/event.showcfp?eventid=3326&copyown
 erid=1460
UID:cfp11670-E@wikicfp.com
END:VEVENT
BEGIN:VEVENT
DTSTAMP:20260424T200755Z
DTSTART;VALUE=DATE:20090109
SUMMARY:USENIX 2009 Deadline
DESCRIPTION:2009 USENIX Annual Technical Conference
URL:http://www.wikicfp.com/cfp/servlet/event.showcfp?eventid=3326&copyown
 erid=1460
UID:cfp11670-D@wikicfp.com
END:VEVENT
BEGIN:VEVENT
DTSTAMP:20260424T200755Z
DTSTART;VALUE=DATE:20090313
SUMMARY:USENIX 2009 Notification Due
DESCRIPTION:2009 USENIX Annual Technical Conference
URL:http://www.wikicfp.com/cfp/servlet/event.showcfp?eventid=3326&copyown
 erid=1460
UID:cfp11670-N@wikicfp.com
END:VEVENT
BEGIN:VEVENT
DTSTAMP:20260424T200755Z
DTSTART;VALUE=DATE:20090518
DTEND;VALUE=DATE:20090521
SUMMARY:HotOS 2009
DESCRIPTION:12th Workshop on Hot Topics in Operating Systems
URL:http://www.wikicfp.com/cfp/servlet/event.showcfp?eventid=3327&copyown
 erid=1460
UID:cfp11671-E@wikicfp.com
END:VEVENT
BEGIN:VEVENT
DTSTAMP:20260424T200755Z
DTSTART;VALUE=DATE:20090113
SUMMARY:HotOS 2009 Deadline
DESCRIPTION:12th Workshop on Hot Topics in Operating Systems
URL:http://www.wikicfp.com/cfp/servlet/event.showcfp?eventid=3327&copyown
 erid=1460
UID:cfp11671-D@wikicfp.com
END:VEVENT
BEGIN:VEVENT
DTSTAMP:20260424T200755Z
DTSTART;VALUE=DATE:20090310
SUMMARY:HotOS 2009 Notification Due
DESCRIPTION:12th Workshop on Hot Topics in Operating Systems
URL:http://www.wikicfp.com/cfp/servlet/event.showcfp?eventid=3327&copyown
 erid=1460
UID:cfp11671-N@wikicfp.com
END:VEVENT
BEGIN:VEVENT
DTSTAMP:20260424T200755Z
DTSTART;VALUE=DATE:20110531
DTEND;VALUE=DATE:20110601
SUMMARY:ROSS 2011
DESCRIPTION:International Workshop on Runtime and Operating Systems for S
 upercomputers
URL:http://www.wikicfp.com/cfp/servlet/event.showcfp?eventid=14861&copyow
 nerid=1460
UID:cfp156374-E@wikicfp.com
END:VEVENT
BEGIN:VEVENT
DTSTAMP:20260424T200755Z
DTSTART;VALUE=DATE:20110328
SUMMARY:ROSS 2011 Deadline
DESCRIPTION:International Workshop on Runtime and Operating Systems for S
 upercomputers
URL:http://www.wikicfp.com/cfp/servlet/event.showcfp?eventid=14861&copyow
 nerid=1460
UID:cfp156374-D@wikicfp.com
END:VEVENT
BEGIN:VEVENT
DTSTAMP:20260424T200755Z
DTSTART;VALUE=DATE:20110418
SUMMARY:ROSS 2011 Notification Due
DESCRIPTION:International Workshop on Runtime and Operating Systems for S
 upercomputers
URL:http://www.wikicfp.com/cfp/servlet/event.showcfp?eventid=14861&copyow
 nerid=1460
UID:cfp156374-N@wikicfp.com
END:VEVENT
END:VCALENDAR
