BEGIN:VCALENDAR
PRODID:-//WikiCFP//carlosmalt 1.0//EN
VERSION:2.0
CALSCALE:GREGORIAN
BEGIN:VEVENT
DTSTAMP:20260424T200843Z
DTSTART;VALUE=DATE:20100506
DTEND;VALUE=DATE:20100508
SUMMARY:MSST: Research Track 2010
DESCRIPTION:The 26th IEEE Symposium on Massive Storage Systems and Techno
 logies  (MSST2010): Research Track
URL:http://www.wikicfp.com/cfp/servlet/event.showcfp?eventid=6654&copyown
 erid=14570
UID:cfp101748-E@wikicfp.com
END:VEVENT
BEGIN:VEVENT
DTSTAMP:20260424T200843Z
DTSTART;VALUE=DATE:20100122
SUMMARY:MSST: Research Track 2010 Deadline
DESCRIPTION:The 26th IEEE Symposium on Massive Storage Systems and Techno
 logies  (MSST2010): Research Track
URL:http://www.wikicfp.com/cfp/servlet/event.showcfp?eventid=6654&copyown
 erid=14570
UID:cfp101748-D@wikicfp.com
END:VEVENT
BEGIN:VEVENT
DTSTAMP:20260424T200843Z
DTSTART;VALUE=DATE:20100319
SUMMARY:MSST: Research Track 2010 Notification Due
DESCRIPTION:The 26th IEEE Symposium on Massive Storage Systems and Techno
 logies  (MSST2010): Research Track
URL:http://www.wikicfp.com/cfp/servlet/event.showcfp?eventid=6654&copyown
 erid=14570
UID:cfp101748-N@wikicfp.com
END:VEVENT
BEGIN:VEVENT
DTSTAMP:20260424T200843Z
DTSTART;VALUE=DATE:20100409
SUMMARY:MSST: Research Track 2010 Final Version Due
DESCRIPTION:The 26th IEEE Symposium on Massive Storage Systems and Techno
 logies  (MSST2010): Research Track
URL:http://www.wikicfp.com/cfp/servlet/event.showcfp?eventid=6654&copyown
 erid=14570
UID:cfp101748-N@wikicfp.com
END:VEVENT
BEGIN:VEVENT
DTSTAMP:20260424T200843Z
DTSTART;VALUE=DATE:20100628
DTEND;VALUE=DATE:20100703
SUMMARY: HPCS 2010
DESCRIPTION:The 2010 High Performance Computing & Simulation Conference
URL:http://www.wikicfp.com/cfp/servlet/event.showcfp?eventid=6971&copyown
 erid=14570
UID:cfp101746-E@wikicfp.com
END:VEVENT
BEGIN:VEVENT
DTSTAMP:20260424T200843Z
DTSTART;VALUE=DATE:20100415
SUMMARY: HPCS 2010 Abstract Due
DESCRIPTION:The 2010 High Performance Computing & Simulation Conference
URL:http://www.wikicfp.com/cfp/servlet/event.showcfp?eventid=6971&copyown
 erid=14570
UID:cfp101746-A@wikicfp.com
END:VEVENT
BEGIN:VEVENT
DTSTAMP:20260424T200843Z
DTSTART;VALUE=DATE:20100215
SUMMARY: HPCS 2010 Deadline
DESCRIPTION:The 2010 High Performance Computing & Simulation Conference
URL:http://www.wikicfp.com/cfp/servlet/event.showcfp?eventid=6971&copyown
 erid=14570
UID:cfp101746-D@wikicfp.com
END:VEVENT
BEGIN:VEVENT
DTSTAMP:20260424T200843Z
DTSTART;VALUE=DATE:20100315
SUMMARY: HPCS 2010 Notification Due
DESCRIPTION:The 2010 High Performance Computing & Simulation Conference
URL:http://www.wikicfp.com/cfp/servlet/event.showcfp?eventid=6971&copyown
 erid=14570
UID:cfp101746-N@wikicfp.com
END:VEVENT
BEGIN:VEVENT
DTSTAMP:20260424T200843Z
DTSTART;VALUE=DATE:20100415
SUMMARY: HPCS 2010 Final Version Due
DESCRIPTION:The 2010 High Performance Computing & Simulation Conference
URL:http://www.wikicfp.com/cfp/servlet/event.showcfp?eventid=6971&copyown
 erid=14570
UID:cfp101746-N@wikicfp.com
END:VEVENT
BEGIN:VEVENT
DTSTAMP:20260424T200843Z
DTSTART;VALUE=DATE:20100913
DTEND;VALUE=DATE:20100917
SUMMARY:ICPP 2010
DESCRIPTION:39th International Conference on Parallel Processing
URL:http://www.wikicfp.com/cfp/servlet/event.showcfp?eventid=7179&copyown
 erid=14570
UID:cfp101740-E@wikicfp.com
END:VEVENT
BEGIN:VEVENT
DTSTAMP:20260424T200843Z
DTSTART;VALUE=DATE:20100224
SUMMARY:ICPP 2010 Deadline
DESCRIPTION:39th International Conference on Parallel Processing
URL:http://www.wikicfp.com/cfp/servlet/event.showcfp?eventid=7179&copyown
 erid=14570
UID:cfp101740-D@wikicfp.com
END:VEVENT
BEGIN:VEVENT
DTSTAMP:20260424T200843Z
DTSTART;VALUE=DATE:20100525
SUMMARY:ICPP 2010 Notification Due
DESCRIPTION:39th International Conference on Parallel Processing
URL:http://www.wikicfp.com/cfp/servlet/event.showcfp?eventid=7179&copyown
 erid=14570
UID:cfp101740-N@wikicfp.com
END:VEVENT
BEGIN:VEVENT
DTSTAMP:20260424T200843Z
DTSTART;VALUE=DATE:20100628
SUMMARY:ICPP 2010 Final Version Due
DESCRIPTION:39th International Conference on Parallel Processing
URL:http://www.wikicfp.com/cfp/servlet/event.showcfp?eventid=7179&copyown
 erid=14570
UID:cfp101740-N@wikicfp.com
END:VEVENT
BEGIN:VEVENT
DTSTAMP:20260424T200843Z
DTSTART;VALUE=DATE:20100920
DTEND;VALUE=DATE:20100925
SUMMARY:Cluster 2010
DESCRIPTION:IEEE International Conference on Cluster Computing
URL:http://www.wikicfp.com/cfp/servlet/event.showcfp?eventid=7125&copyown
 erid=14570
UID:cfp101747-E@wikicfp.com
END:VEVENT
BEGIN:VEVENT
DTSTAMP:20260424T200843Z
DTSTART;VALUE=DATE:20100308
SUMMARY:Cluster 2010 Abstract Due
DESCRIPTION:IEEE International Conference on Cluster Computing
URL:http://www.wikicfp.com/cfp/servlet/event.showcfp?eventid=7125&copyown
 erid=14570
UID:cfp101747-A@wikicfp.com
END:VEVENT
BEGIN:VEVENT
DTSTAMP:20260424T200843Z
DTSTART;VALUE=DATE:20100315
SUMMARY:Cluster 2010 Deadline
DESCRIPTION:IEEE International Conference on Cluster Computing
URL:http://www.wikicfp.com/cfp/servlet/event.showcfp?eventid=7125&copyown
 erid=14570
UID:cfp101747-D@wikicfp.com
END:VEVENT
BEGIN:VEVENT
DTSTAMP:20260424T200843Z
DTSTART;VALUE=DATE:20100615
SUMMARY:Cluster 2010 Notification Due
DESCRIPTION:IEEE International Conference on Cluster Computing
URL:http://www.wikicfp.com/cfp/servlet/event.showcfp?eventid=7125&copyown
 erid=14570
UID:cfp101747-N@wikicfp.com
END:VEVENT
BEGIN:VEVENT
DTSTAMP:20260424T200843Z
DTSTART;VALUE=DATE:20100715
SUMMARY:Cluster 2010 Final Version Due
DESCRIPTION:IEEE International Conference on Cluster Computing
URL:http://www.wikicfp.com/cfp/servlet/event.showcfp?eventid=7125&copyown
 erid=14570
UID:cfp101747-N@wikicfp.com
END:VEVENT
BEGIN:VEVENT
DTSTAMP:20260424T200843Z
DTSTART;VALUE=DATE:20101113
DTEND;VALUE=DATE:20101120
SUMMARY:SC 2010
DESCRIPTION:Supercomputing (preliminary CFP)
URL:http://www.wikicfp.com/cfp/servlet/event.showcfp?eventid=7224&copyown
 erid=14570
UID:cfp101745-E@wikicfp.com
END:VEVENT
BEGIN:VEVENT
DTSTAMP:20260424T200843Z
DTSTART;VALUE=DATE:20100402
SUMMARY:SC 2010 Abstract Due
DESCRIPTION:Supercomputing (preliminary CFP)
URL:http://www.wikicfp.com/cfp/servlet/event.showcfp?eventid=7224&copyown
 erid=14570
UID:cfp101745-A@wikicfp.com
END:VEVENT
BEGIN:VEVENT
DTSTAMP:20260424T200843Z
DTSTART;VALUE=DATE:20100405
SUMMARY:SC 2010 Deadline
DESCRIPTION:Supercomputing (preliminary CFP)
URL:http://www.wikicfp.com/cfp/servlet/event.showcfp?eventid=7224&copyown
 erid=14570
UID:cfp101745-D@wikicfp.com
END:VEVENT
BEGIN:VEVENT
DTSTAMP:20260424T200843Z
DTSTART;VALUE=DATE:20100630
SUMMARY:SC 2010 Notification Due
DESCRIPTION:Supercomputing (preliminary CFP)
URL:http://www.wikicfp.com/cfp/servlet/event.showcfp?eventid=7224&copyown
 erid=14570
UID:cfp101745-N@wikicfp.com
END:VEVENT
BEGIN:VEVENT
DTSTAMP:20260424T200843Z
DTSTART;VALUE=DATE:20101219
DTEND;VALUE=DATE:20101223
SUMMARY:HiPC 2010
DESCRIPTION:International Conference on High Performance Computing
URL:http://www.wikicfp.com/cfp/servlet/event.showcfp?eventid=9341&copyown
 erid=14570
UID:cfp101744-E@wikicfp.com
END:VEVENT
BEGIN:VEVENT
DTSTAMP:20260424T200843Z
DTSTART;VALUE=DATE:20100515
SUMMARY:HiPC 2010 Deadline
DESCRIPTION:International Conference on High Performance Computing
URL:http://www.wikicfp.com/cfp/servlet/event.showcfp?eventid=9341&copyown
 erid=14570
UID:cfp101744-D@wikicfp.com
END:VEVENT
BEGIN:VEVENT
DTSTAMP:20260424T200843Z
DTSTART;VALUE=DATE:20100717
SUMMARY:HiPC 2010 Notification Due
DESCRIPTION:International Conference on High Performance Computing
URL:http://www.wikicfp.com/cfp/servlet/event.showcfp?eventid=9341&copyown
 erid=14570
UID:cfp101744-N@wikicfp.com
END:VEVENT
BEGIN:VEVENT
DTSTAMP:20260424T200843Z
DTSTART;VALUE=DATE:20100817
SUMMARY:HiPC 2010 Final Version Due
DESCRIPTION:International Conference on High Performance Computing
URL:http://www.wikicfp.com/cfp/servlet/event.showcfp?eventid=9341&copyown
 erid=14570
UID:cfp101744-N@wikicfp.com
END:VEVENT
BEGIN:VEVENT
DTSTAMP:20260424T200843Z
DTSTART;VALUE=DATE:20110215
DTEND;VALUE=DATE:20110219
SUMMARY:FAST 2011
DESCRIPTION:9th USENIX Conference on File and Storage Technologies
URL:http://www.wikicfp.com/cfp/servlet/event.showcfp?eventid=9730&copyown
 erid=14570
UID:cfp101738-E@wikicfp.com
END:VEVENT
BEGIN:VEVENT
DTSTAMP:20260424T200843Z
DTSTART;VALUE=DATE:20100902
SUMMARY:FAST 2011 Deadline
DESCRIPTION:9th USENIX Conference on File and Storage Technologies
URL:http://www.wikicfp.com/cfp/servlet/event.showcfp?eventid=9730&copyown
 erid=14570
UID:cfp101738-D@wikicfp.com
END:VEVENT
BEGIN:VEVENT
DTSTAMP:20260424T200843Z
DTSTART;VALUE=DATE:20101108
SUMMARY:FAST 2011 Notification Due
DESCRIPTION:9th USENIX Conference on File and Storage Technologies
URL:http://www.wikicfp.com/cfp/servlet/event.showcfp?eventid=9730&copyown
 erid=14570
UID:cfp101738-N@wikicfp.com
END:VEVENT
BEGIN:VEVENT
DTSTAMP:20260424T200843Z
DTSTART;VALUE=DATE:20101216
SUMMARY:FAST 2011 Final Version Due
DESCRIPTION:9th USENIX Conference on File and Storage Technologies
URL:http://www.wikicfp.com/cfp/servlet/event.showcfp?eventid=9730&copyown
 erid=14570
UID:cfp101738-N@wikicfp.com
END:VEVENT
BEGIN:VEVENT
DTSTAMP:20260424T200843Z
DTSTART;VALUE=DATE:20101115
DTEND;VALUE=DATE:20101116
SUMMARY:PDSW 2010
DESCRIPTION:5th Petascale Data Storage Workshop
URL:http://www.wikicfp.com/cfp/servlet/event.showcfp?eventid=11077&copyow
 nerid=14570
UID:cfp101737-E@wikicfp.com
END:VEVENT
BEGIN:VEVENT
DTSTAMP:20260424T200843Z
DTSTART;VALUE=DATE:20100917
SUMMARY:PDSW 2010 Deadline
DESCRIPTION:5th Petascale Data Storage Workshop
URL:http://www.wikicfp.com/cfp/servlet/event.showcfp?eventid=11077&copyow
 nerid=14570
UID:cfp101737-D@wikicfp.com
END:VEVENT
BEGIN:VEVENT
DTSTAMP:20260424T200843Z
DTSTART;VALUE=DATE:20101011
SUMMARY:PDSW 2010 Notification Due
DESCRIPTION:5th Petascale Data Storage Workshop
URL:http://www.wikicfp.com/cfp/servlet/event.showcfp?eventid=11077&copyow
 nerid=14570
UID:cfp101737-N@wikicfp.com
END:VEVENT
BEGIN:VEVENT
DTSTAMP:20260424T200843Z
DTSTART;VALUE=DATE:20101108
SUMMARY:PDSW 2010 Final Version Due
DESCRIPTION:5th Petascale Data Storage Workshop
URL:http://www.wikicfp.com/cfp/servlet/event.showcfp?eventid=11077&copyow
 nerid=14570
UID:cfp101737-N@wikicfp.com
END:VEVENT
BEGIN:VEVENT
DTSTAMP:20260424T200843Z
DTSTART;VALUE=DATE:20110516
DTEND;VALUE=DATE:20110523
SUMMARY:IPDPS 2011
DESCRIPTION:IEEE International Symposium on Parallel & Distributed Proces
 sing
URL:http://www.wikicfp.com/cfp/servlet/event.showcfp?eventid=8125&copyown
 erid=14570
UID:cfp101742-E@wikicfp.com
END:VEVENT
BEGIN:VEVENT
DTSTAMP:20260424T200843Z
DTSTART;VALUE=DATE:20101001
SUMMARY:IPDPS 2011 Deadline
DESCRIPTION:IEEE International Symposium on Parallel & Distributed Proces
 sing
URL:http://www.wikicfp.com/cfp/servlet/event.showcfp?eventid=8125&copyown
 erid=14570
UID:cfp101742-D@wikicfp.com
END:VEVENT
BEGIN:VEVENT
DTSTAMP:20260424T200843Z
DTSTART;VALUE=DATE:20101217
SUMMARY:IPDPS 2011 Notification Due
DESCRIPTION:IEEE International Symposium on Parallel & Distributed Proces
 sing
URL:http://www.wikicfp.com/cfp/servlet/event.showcfp?eventid=8125&copyown
 erid=14570
UID:cfp101742-N@wikicfp.com
END:VEVENT
BEGIN:VEVENT
DTSTAMP:20260424T200843Z
DTSTART;VALUE=DATE:20110201
SUMMARY:IPDPS 2011 Final Version Due
DESCRIPTION:IEEE International Symposium on Parallel & Distributed Proces
 sing
URL:http://www.wikicfp.com/cfp/servlet/event.showcfp?eventid=8125&copyown
 erid=14570
UID:cfp101742-N@wikicfp.com
END:VEVENT
BEGIN:VEVENT
DTSTAMP:20260424T200843Z
DTSTART;VALUE=DATE:20110621
DTEND;VALUE=DATE:20110625
SUMMARY:ICDCS 2011
DESCRIPTION:International Conference On Distributed Computing Systems
URL:http://www.wikicfp.com/cfp/servlet/event.showcfp?eventid=10712&copyow
 nerid=14570
UID:cfp101741-E@wikicfp.com
END:VEVENT
BEGIN:VEVENT
DTSTAMP:20260424T200843Z
DTSTART;VALUE=DATE:20101123
SUMMARY:ICDCS 2011 Deadline
DESCRIPTION:International Conference On Distributed Computing Systems
URL:http://www.wikicfp.com/cfp/servlet/event.showcfp?eventid=10712&copyow
 nerid=14570
UID:cfp101741-D@wikicfp.com
END:VEVENT
BEGIN:VEVENT
DTSTAMP:20260424T200843Z
DTSTART;VALUE=DATE:20110207
SUMMARY:ICDCS 2011 Notification Due
DESCRIPTION:International Conference On Distributed Computing Systems
URL:http://www.wikicfp.com/cfp/servlet/event.showcfp?eventid=10712&copyow
 nerid=14570
UID:cfp101741-N@wikicfp.com
END:VEVENT
BEGIN:VEVENT
DTSTAMP:20260424T200843Z
DTSTART;VALUE=DATE:20110314
SUMMARY:ICDCS 2011 Final Version Due
DESCRIPTION:International Conference On Distributed Computing Systems
URL:http://www.wikicfp.com/cfp/servlet/event.showcfp?eventid=10712&copyow
 nerid=14570
UID:cfp101741-N@wikicfp.com
END:VEVENT
BEGIN:VEVENT
DTSTAMP:20260424T200843Z
DTSTART;VALUE=DATE:20110601
DTEND;VALUE=DATE:20110605
SUMMARY:ICS 2011
DESCRIPTION:25th International Conference on Supercomputing
URL:http://www.wikicfp.com/cfp/servlet/event.showcfp?eventid=10971&copyow
 nerid=14570
UID:cfp101743-E@wikicfp.com
END:VEVENT
BEGIN:VEVENT
DTSTAMP:20260424T200843Z
DTSTART;VALUE=DATE:20110110
SUMMARY:ICS 2011 Abstract Due
DESCRIPTION:25th International Conference on Supercomputing
URL:http://www.wikicfp.com/cfp/servlet/event.showcfp?eventid=10971&copyow
 nerid=14570
UID:cfp101743-A@wikicfp.com
END:VEVENT
BEGIN:VEVENT
DTSTAMP:20260424T200843Z
DTSTART;VALUE=DATE:20110114
SUMMARY:ICS 2011 Deadline
DESCRIPTION:25th International Conference on Supercomputing
URL:http://www.wikicfp.com/cfp/servlet/event.showcfp?eventid=10971&copyow
 nerid=14570
UID:cfp101743-D@wikicfp.com
END:VEVENT
BEGIN:VEVENT
DTSTAMP:20260424T200843Z
DTSTART;VALUE=DATE:20110301
SUMMARY:ICS 2011 Notification Due
DESCRIPTION:25th International Conference on Supercomputing
URL:http://www.wikicfp.com/cfp/servlet/event.showcfp?eventid=10971&copyow
 nerid=14570
UID:cfp101743-N@wikicfp.com
END:VEVENT
BEGIN:VEVENT
DTSTAMP:20260424T200843Z
DTSTART;VALUE=DATE:20110331
SUMMARY:ICS 2011 Final Version Due
DESCRIPTION:25th International Conference on Supercomputing
URL:http://www.wikicfp.com/cfp/servlet/event.showcfp?eventid=10971&copyow
 nerid=14570
UID:cfp101743-N@wikicfp.com
END:VEVENT
BEGIN:VEVENT
DTSTAMP:20260424T200843Z
DTSTART;VALUE=DATE:20110608
DTEND;VALUE=DATE:20110612
SUMMARY:HPDC 2011
DESCRIPTION:The 20th International Symposium on High Performance Distribu
 ted Computing
URL:http://www.wikicfp.com/cfp/servlet/event.showcfp?eventid=10555&copyow
 nerid=14570
UID:cfp101739-E@wikicfp.com
END:VEVENT
BEGIN:VEVENT
DTSTAMP:20260424T200843Z
DTSTART;VALUE=DATE:20110117
SUMMARY:HPDC 2011 Abstract Due
DESCRIPTION:The 20th International Symposium on High Performance Distribu
 ted Computing
URL:http://www.wikicfp.com/cfp/servlet/event.showcfp?eventid=10555&copyow
 nerid=14570
UID:cfp101739-A@wikicfp.com
END:VEVENT
BEGIN:VEVENT
DTSTAMP:20260424T200843Z
DTSTART;VALUE=DATE:20110124
SUMMARY:HPDC 2011 Deadline
DESCRIPTION:The 20th International Symposium on High Performance Distribu
 ted Computing
URL:http://www.wikicfp.com/cfp/servlet/event.showcfp?eventid=10555&copyow
 nerid=14570
UID:cfp101739-D@wikicfp.com
END:VEVENT
BEGIN:VEVENT
DTSTAMP:20260424T200843Z
DTSTART;VALUE=DATE:20110228
SUMMARY:HPDC 2011 Notification Due
DESCRIPTION:The 20th International Symposium on High Performance Distribu
 ted Computing
URL:http://www.wikicfp.com/cfp/servlet/event.showcfp?eventid=10555&copyow
 nerid=14570
UID:cfp101739-N@wikicfp.com
END:VEVENT
BEGIN:VEVENT
DTSTAMP:20260424T200843Z
DTSTART;VALUE=DATE:20110324
SUMMARY:HPDC 2011 Final Version Due
DESCRIPTION:The 20th International Symposium on High Performance Distribu
 ted Computing
URL:http://www.wikicfp.com/cfp/servlet/event.showcfp?eventid=10555&copyow
 nerid=14570
UID:cfp101739-N@wikicfp.com
END:VEVENT
END:VCALENDAR
