BEGIN:VCALENDAR
PRODID:-//WikiCFP//Muntaha19 1.0//EN
VERSION:2.0
CALSCALE:GREGORIAN
BEGIN:VEVENT
DTSTAMP:20260422T045550Z
DTSTART;VALUE=DATE:20191029
DTEND;VALUE=DATE:20191101
SUMMARY:VSIP--ACM\, Ei and Scopus 2019
DESCRIPTION:ACM--2019 International Conference on Video\, Signal and Imag
 e Processing (VSIP 2019)--EI Compendex\, Scopus
URL:http://www.wikicfp.com/cfp/servlet/event.showcfp?eventid=82515&copyow
 nerid=145555
UID:cfp776680-E@wikicfp.com
END:VEVENT
BEGIN:VEVENT
DTSTAMP:20260422T045550Z
DTSTART;VALUE=DATE:20190830
SUMMARY:VSIP--ACM\, Ei and Scopus 2019 Deadline
DESCRIPTION:ACM--2019 International Conference on Video\, Signal and Imag
 e Processing (VSIP 2019)--EI Compendex\, Scopus
URL:http://www.wikicfp.com/cfp/servlet/event.showcfp?eventid=82515&copyow
 nerid=145555
UID:cfp776680-D@wikicfp.com
END:VEVENT
END:VCALENDAR
