BEGIN:VCALENDAR
PRODID:-//WikiCFP//vvvishen2002 1.0//EN
VERSION:2.0
CALSCALE:GREGORIAN
BEGIN:VEVENT
DTSTAMP:20260420T134740Z
DTSTART;VALUE=DATE:20100915
DTEND;VALUE=DATE:20100918
SUMMARY:ACC 2010
DESCRIPTION:First International Conference on Advanced Computing and Comm
 unications
URL:http://www.wikicfp.com/cfp/servlet/event.showcfp?eventid=9816&copyown
 erid=14548
UID:cfp101621-E@wikicfp.com
END:VEVENT
BEGIN:VEVENT
DTSTAMP:20260420T134740Z
DTSTART;VALUE=DATE:20100530
SUMMARY:ACC 2010 Deadline
DESCRIPTION:First International Conference on Advanced Computing and Comm
 unications
URL:http://www.wikicfp.com/cfp/servlet/event.showcfp?eventid=9816&copyown
 erid=14548
UID:cfp101621-D@wikicfp.com
END:VEVENT
BEGIN:VEVENT
DTSTAMP:20260420T134740Z
DTSTART;VALUE=DATE:20100611
SUMMARY:ACC 2010 Notification Due
DESCRIPTION:First International Conference on Advanced Computing and Comm
 unications
URL:http://www.wikicfp.com/cfp/servlet/event.showcfp?eventid=9816&copyown
 erid=14548
UID:cfp101621-N@wikicfp.com
END:VEVENT
BEGIN:VEVENT
DTSTAMP:20260420T134740Z
DTSTART;VALUE=DATE:20100709
SUMMARY:ACC 2010 Final Version Due
DESCRIPTION:First International Conference on Advanced Computing and Comm
 unications
URL:http://www.wikicfp.com/cfp/servlet/event.showcfp?eventid=9816&copyown
 erid=14548
UID:cfp101621-N@wikicfp.com
END:VEVENT
BEGIN:VEVENT
DTSTAMP:20260420T134740Z
DTSTART;VALUE=DATE:20100712
DTEND;VALUE=DATE:20100715
SUMMARY:CCN 2010
DESCRIPTION:2010 International Conference on Computer Communications and 
 Networks
URL:http://www.wikicfp.com/cfp/servlet/event.showcfp?eventid=8439&copyown
 erid=14548
UID:cfp101618-E@wikicfp.com
END:VEVENT
BEGIN:VEVENT
DTSTAMP:20260420T134740Z
DTSTART;VALUE=DATE:20100531
SUMMARY:CCN 2010 Deadline
DESCRIPTION:2010 International Conference on Computer Communications and 
 Networks
URL:http://www.wikicfp.com/cfp/servlet/event.showcfp?eventid=8439&copyown
 erid=14548
UID:cfp101618-D@wikicfp.com
END:VEVENT
BEGIN:VEVENT
DTSTAMP:20260420T134740Z
DTSTART;VALUE=DATE:20101021
DTEND;VALUE=DATE:20101024
SUMMARY:WCSP 2010
DESCRIPTION:International Conference on Wireless Communications & Signal 
 Processing
URL:http://www.wikicfp.com/cfp/servlet/event.showcfp?eventid=9203&copyown
 erid=14548
UID:cfp101620-E@wikicfp.com
END:VEVENT
BEGIN:VEVENT
DTSTAMP:20260420T134740Z
DTSTART;VALUE=DATE:20100531
SUMMARY:WCSP 2010 Deadline
DESCRIPTION:International Conference on Wireless Communications & Signal 
 Processing
URL:http://www.wikicfp.com/cfp/servlet/event.showcfp?eventid=9203&copyown
 erid=14548
UID:cfp101620-D@wikicfp.com
END:VEVENT
BEGIN:VEVENT
DTSTAMP:20260420T134740Z
DTSTART;VALUE=DATE:20100731
SUMMARY:WCSP 2010 Notification Due
DESCRIPTION:International Conference on Wireless Communications & Signal 
 Processing
URL:http://www.wikicfp.com/cfp/servlet/event.showcfp?eventid=9203&copyown
 erid=14548
UID:cfp101620-N@wikicfp.com
END:VEVENT
BEGIN:VEVENT
DTSTAMP:20260420T134740Z
DTSTART;VALUE=DATE:20100831
SUMMARY:WCSP 2010 Final Version Due
DESCRIPTION:International Conference on Wireless Communications & Signal 
 Processing
URL:http://www.wikicfp.com/cfp/servlet/event.showcfp?eventid=9203&copyown
 erid=14548
UID:cfp101620-N@wikicfp.com
END:VEVENT
BEGIN:VEVENT
DTSTAMP:20260420T134740Z
DTSTART;VALUE=DATE:20101031
DTEND;VALUE=DATE:20101104
SUMMARY:APCC 2010
DESCRIPTION:The 16th Asia-Pacific Conference on Communications
URL:http://www.wikicfp.com/cfp/servlet/event.showcfp?eventid=9244&copyown
 erid=14548
UID:cfp101619-E@wikicfp.com
END:VEVENT
BEGIN:VEVENT
DTSTAMP:20260420T134740Z
DTSTART;VALUE=DATE:20100614
SUMMARY:APCC 2010 Deadline
DESCRIPTION:The 16th Asia-Pacific Conference on Communications
URL:http://www.wikicfp.com/cfp/servlet/event.showcfp?eventid=9244&copyown
 erid=14548
UID:cfp101619-D@wikicfp.com
END:VEVENT
BEGIN:VEVENT
DTSTAMP:20260420T134740Z
DTSTART;VALUE=DATE:20100802
SUMMARY:APCC 2010 Notification Due
DESCRIPTION:The 16th Asia-Pacific Conference on Communications
URL:http://www.wikicfp.com/cfp/servlet/event.showcfp?eventid=9244&copyown
 erid=14548
UID:cfp101619-N@wikicfp.com
END:VEVENT
BEGIN:VEVENT
DTSTAMP:20260420T134740Z
DTSTART;VALUE=DATE:20100823
SUMMARY:APCC 2010 Final Version Due
DESCRIPTION:The 16th Asia-Pacific Conference on Communications
URL:http://www.wikicfp.com/cfp/servlet/event.showcfp?eventid=9244&copyown
 erid=14548
UID:cfp101619-N@wikicfp.com
END:VEVENT
BEGIN:VEVENT
DTSTAMP:20260420T134740Z
DTSTART;VALUE=DATE:20101213
DTEND;VALUE=DATE:20101216
SUMMARY:ICSPCS 2010
DESCRIPTION:4th International Conference on Signal Processing and Communi
 cation Systems
URL:http://www.wikicfp.com/cfp/servlet/event.showcfp?eventid=9384&copyown
 erid=14548
UID:cfp101617-E@wikicfp.com
END:VEVENT
BEGIN:VEVENT
DTSTAMP:20260420T134740Z
DTSTART;VALUE=DATE:20100630
SUMMARY:ICSPCS 2010 Deadline
DESCRIPTION:4th International Conference on Signal Processing and Communi
 cation Systems
URL:http://www.wikicfp.com/cfp/servlet/event.showcfp?eventid=9384&copyown
 erid=14548
UID:cfp101617-D@wikicfp.com
END:VEVENT
BEGIN:VEVENT
DTSTAMP:20260420T134740Z
DTSTART;VALUE=DATE:20100915
SUMMARY:ICSPCS 2010 Notification Due
DESCRIPTION:4th International Conference on Signal Processing and Communi
 cation Systems
URL:http://www.wikicfp.com/cfp/servlet/event.showcfp?eventid=9384&copyown
 erid=14548
UID:cfp101617-N@wikicfp.com
END:VEVENT
BEGIN:VEVENT
DTSTAMP:20260420T134740Z
DTSTART;VALUE=DATE:20101015
SUMMARY:ICSPCS 2010 Final Version Due
DESCRIPTION:4th International Conference on Signal Processing and Communi
 cation Systems
URL:http://www.wikicfp.com/cfp/servlet/event.showcfp?eventid=9384&copyown
 erid=14548
UID:cfp101617-N@wikicfp.com
END:VEVENT
BEGIN:VEVENT
DTSTAMP:20260420T134740Z
DTSTART;VALUE=DATE:20110210
DTEND;VALUE=DATE:20110213
SUMMARY:ICCSP 2011
DESCRIPTION:International Conference on Communications and Signal Process
 ing
URL:http://www.wikicfp.com/cfp/servlet/event.showcfp?eventid=10012&copyow
 nerid=14548
UID:cfp101601-E@wikicfp.com
END:VEVENT
BEGIN:VEVENT
DTSTAMP:20260420T134740Z
DTSTART;VALUE=DATE:20100905
SUMMARY:ICCSP 2011 Deadline
DESCRIPTION:International Conference on Communications and Signal Process
 ing
URL:http://www.wikicfp.com/cfp/servlet/event.showcfp?eventid=10012&copyow
 nerid=14548
UID:cfp101601-D@wikicfp.com
END:VEVENT
BEGIN:VEVENT
DTSTAMP:20260420T134740Z
DTSTART;VALUE=DATE:20101029
SUMMARY:ICCSP 2011 Notification Due
DESCRIPTION:International Conference on Communications and Signal Process
 ing
URL:http://www.wikicfp.com/cfp/servlet/event.showcfp?eventid=10012&copyow
 nerid=14548
UID:cfp101601-N@wikicfp.com
END:VEVENT
BEGIN:VEVENT
DTSTAMP:20260420T134740Z
DTSTART;VALUE=DATE:20101130
SUMMARY:ICCSP 2011 Final Version Due
DESCRIPTION:International Conference on Communications and Signal Process
 ing
URL:http://www.wikicfp.com/cfp/servlet/event.showcfp?eventid=10012&copyow
 nerid=14548
UID:cfp101601-N@wikicfp.com
END:VEVENT
BEGIN:VEVENT
DTSTAMP:20260420T134740Z
DTSTART;VALUE=DATE:20110128
DTEND;VALUE=DATE:20110131
SUMMARY:NCC 2011
DESCRIPTION:National Conference on Communications
URL:http://www.wikicfp.com/cfp/servlet/event.showcfp?eventid=10775&copyow
 nerid=14548
UID:cfp101604-E@wikicfp.com
END:VEVENT
BEGIN:VEVENT
DTSTAMP:20260420T134740Z
DTSTART;VALUE=DATE:20100917
SUMMARY:NCC 2011 Deadline
DESCRIPTION:National Conference on Communications
URL:http://www.wikicfp.com/cfp/servlet/event.showcfp?eventid=10775&copyow
 nerid=14548
UID:cfp101604-D@wikicfp.com
END:VEVENT
BEGIN:VEVENT
DTSTAMP:20260420T134740Z
DTSTART;VALUE=DATE:20101115
SUMMARY:NCC 2011 Notification Due
DESCRIPTION:National Conference on Communications
URL:http://www.wikicfp.com/cfp/servlet/event.showcfp?eventid=10775&copyow
 nerid=14548
UID:cfp101604-N@wikicfp.com
END:VEVENT
BEGIN:VEVENT
DTSTAMP:20260420T134740Z
DTSTART;VALUE=DATE:20101205
SUMMARY:NCC 2011 Final Version Due
DESCRIPTION:National Conference on Communications
URL:http://www.wikicfp.com/cfp/servlet/event.showcfp?eventid=10775&copyow
 nerid=14548
UID:cfp101604-N@wikicfp.com
END:VEVENT
BEGIN:VEVENT
DTSTAMP:20260420T134740Z
DTSTART;VALUE=DATE:20110605
DTEND;VALUE=DATE:20110610
SUMMARY:ICC 2011
DESCRIPTION:IEEE International Conference on Communications
URL:http://www.wikicfp.com/cfp/servlet/event.showcfp?eventid=8676&copyown
 erid=14548
UID:cfp101599-E@wikicfp.com
END:VEVENT
BEGIN:VEVENT
DTSTAMP:20260420T134740Z
DTSTART;VALUE=DATE:20100920
SUMMARY:ICC 2011 Deadline
DESCRIPTION:IEEE International Conference on Communications
URL:http://www.wikicfp.com/cfp/servlet/event.showcfp?eventid=8676&copyown
 erid=14548
UID:cfp101599-D@wikicfp.com
END:VEVENT
BEGIN:VEVENT
DTSTAMP:20260420T134740Z
DTSTART;VALUE=DATE:20110111
SUMMARY:ICC 2011 Notification Due
DESCRIPTION:IEEE International Conference on Communications
URL:http://www.wikicfp.com/cfp/servlet/event.showcfp?eventid=8676&copyown
 erid=14548
UID:cfp101599-N@wikicfp.com
END:VEVENT
BEGIN:VEVENT
DTSTAMP:20260420T134740Z
DTSTART;VALUE=DATE:20110211
SUMMARY:ICC 2011 Final Version Due
DESCRIPTION:IEEE International Conference on Communications
URL:http://www.wikicfp.com/cfp/servlet/event.showcfp?eventid=8676&copyown
 erid=14548
UID:cfp101599-N@wikicfp.com
END:VEVENT
BEGIN:VEVENT
DTSTAMP:20260420T134740Z
DTSTART;VALUE=DATE:20110104
DTEND;VALUE=DATE:20110109
SUMMARY:COMSNETS 2011
DESCRIPTION:The Third International Conference on Communication Systems a
 nd Networks
URL:http://www.wikicfp.com/cfp/servlet/event.showcfp?eventid=10243&copyow
 nerid=14548
UID:cfp101602-E@wikicfp.com
END:VEVENT
BEGIN:VEVENT
DTSTAMP:20260420T134740Z
DTSTART;VALUE=DATE:20100927
SUMMARY:COMSNETS 2011 Deadline
DESCRIPTION:The Third International Conference on Communication Systems a
 nd Networks
URL:http://www.wikicfp.com/cfp/servlet/event.showcfp?eventid=10243&copyow
 nerid=14548
UID:cfp101602-D@wikicfp.com
END:VEVENT
BEGIN:VEVENT
DTSTAMP:20260420T134740Z
DTSTART;VALUE=DATE:20101108
SUMMARY:COMSNETS 2011 Notification Due
DESCRIPTION:The Third International Conference on Communication Systems a
 nd Networks
URL:http://www.wikicfp.com/cfp/servlet/event.showcfp?eventid=10243&copyow
 nerid=14548
UID:cfp101602-N@wikicfp.com
END:VEVENT
BEGIN:VEVENT
DTSTAMP:20260420T134740Z
DTSTART;VALUE=DATE:20101208
SUMMARY:COMSNETS 2011 Final Version Due
DESCRIPTION:The Third International Conference on Communication Systems a
 nd Networks
URL:http://www.wikicfp.com/cfp/servlet/event.showcfp?eventid=10243&copyow
 nerid=14548
UID:cfp101602-N@wikicfp.com
END:VEVENT
BEGIN:VEVENT
DTSTAMP:20260420T134740Z
DTSTART;VALUE=DATE:20110328
DTEND;VALUE=DATE:20110401
SUMMARY:WCNC 2011
DESCRIPTION:IEEE Wireless Communications And Networking Conference
URL:http://www.wikicfp.com/cfp/servlet/event.showcfp?eventid=10707&copyow
 nerid=14548
UID:cfp101603-E@wikicfp.com
END:VEVENT
BEGIN:VEVENT
DTSTAMP:20260420T134740Z
DTSTART;VALUE=DATE:20101005
SUMMARY:WCNC 2011 Deadline
DESCRIPTION:IEEE Wireless Communications And Networking Conference
URL:http://www.wikicfp.com/cfp/servlet/event.showcfp?eventid=10707&copyow
 nerid=14548
UID:cfp101603-D@wikicfp.com
END:VEVENT
BEGIN:VEVENT
DTSTAMP:20260420T134740Z
DTSTART;VALUE=DATE:20101115
SUMMARY:WCNC 2011 Notification Due
DESCRIPTION:IEEE Wireless Communications And Networking Conference
URL:http://www.wikicfp.com/cfp/servlet/event.showcfp?eventid=10707&copyow
 nerid=14548
UID:cfp101603-N@wikicfp.com
END:VEVENT
BEGIN:VEVENT
DTSTAMP:20260420T134740Z
DTSTART;VALUE=DATE:20101213
SUMMARY:WCNC 2011 Final Version Due
DESCRIPTION:IEEE Wireless Communications And Networking Conference
URL:http://www.wikicfp.com/cfp/servlet/event.showcfp?eventid=10707&copyow
 nerid=14548
UID:cfp101603-N@wikicfp.com
END:VEVENT
BEGIN:VEVENT
DTSTAMP:20260420T134740Z
DTSTART;VALUE=DATE:20110503
DTEND;VALUE=DATE:20110507
SUMMARY:IWT 2011
DESCRIPTION:International Workshop on Telecommunications
URL:http://www.wikicfp.com/cfp/servlet/event.showcfp?eventid=10370&copyow
 nerid=14548
UID:cfp101594-E@wikicfp.com
END:VEVENT
BEGIN:VEVENT
DTSTAMP:20260420T134740Z
DTSTART;VALUE=DATE:20101015
SUMMARY:IWT 2011 Deadline
DESCRIPTION:International Workshop on Telecommunications
URL:http://www.wikicfp.com/cfp/servlet/event.showcfp?eventid=10370&copyow
 nerid=14548
UID:cfp101594-D@wikicfp.com
END:VEVENT
BEGIN:VEVENT
DTSTAMP:20260420T134740Z
DTSTART;VALUE=DATE:20101215
SUMMARY:IWT 2011 Notification Due
DESCRIPTION:International Workshop on Telecommunications
URL:http://www.wikicfp.com/cfp/servlet/event.showcfp?eventid=10370&copyow
 nerid=14548
UID:cfp101594-N@wikicfp.com
END:VEVENT
BEGIN:VEVENT
DTSTAMP:20260420T134740Z
DTSTART;VALUE=DATE:20110301
SUMMARY:IWT 2011 Final Version Due
DESCRIPTION:International Workshop on Telecommunications
URL:http://www.wikicfp.com/cfp/servlet/event.showcfp?eventid=10370&copyow
 nerid=14548
UID:cfp101594-N@wikicfp.com
END:VEVENT
BEGIN:VEVENT
DTSTAMP:20260420T134740Z
DTSTART;VALUE=DATE:20110305
DTEND;VALUE=DATE:20110308
SUMMARY:PECCS 2011
DESCRIPTION:International Conference on Pervasive and Embedded Computing 
 and Communication Systems
URL:http://www.wikicfp.com/cfp/servlet/event.showcfp?eventid=10645&copyow
 nerid=14548
UID:cfp101597-E@wikicfp.com
END:VEVENT
BEGIN:VEVENT
DTSTAMP:20260420T134740Z
DTSTART;VALUE=DATE:20110112
SUMMARY:PECCS 2011 Abstract Due
DESCRIPTION:International Conference on Pervasive and Embedded Computing 
 and Communication Systems
URL:http://www.wikicfp.com/cfp/servlet/event.showcfp?eventid=10645&copyow
 nerid=14548
UID:cfp101597-A@wikicfp.com
END:VEVENT
BEGIN:VEVENT
DTSTAMP:20260420T134740Z
DTSTART;VALUE=DATE:20101021
SUMMARY:PECCS 2011 Deadline
DESCRIPTION:International Conference on Pervasive and Embedded Computing 
 and Communication Systems
URL:http://www.wikicfp.com/cfp/servlet/event.showcfp?eventid=10645&copyow
 nerid=14548
UID:cfp101597-D@wikicfp.com
END:VEVENT
BEGIN:VEVENT
DTSTAMP:20260420T134740Z
DTSTART;VALUE=DATE:20101021
SUMMARY:PECCS 2011 Notification Due
DESCRIPTION:International Conference on Pervasive and Embedded Computing 
 and Communication Systems
URL:http://www.wikicfp.com/cfp/servlet/event.showcfp?eventid=10645&copyow
 nerid=14548
UID:cfp101597-N@wikicfp.com
END:VEVENT
BEGIN:VEVENT
DTSTAMP:20260420T134740Z
DTSTART;VALUE=DATE:20110112
SUMMARY:PECCS 2011 Final Version Due
DESCRIPTION:International Conference on Pervasive and Embedded Computing 
 and Communication Systems
URL:http://www.wikicfp.com/cfp/servlet/event.showcfp?eventid=10645&copyow
 nerid=14548
UID:cfp101597-N@wikicfp.com
END:VEVENT
BEGIN:VEVENT
DTSTAMP:20260420T134740Z
DTSTART;VALUE=DATE:20110228
DTEND;VALUE=DATE:20110304
SUMMARY:Wireless VITAE 2011
DESCRIPTION:2nd International Conference on Wireless Communications\, Veh
 icular Technology\, Information Theory and Aerospace & Electronic System
 s
URL:http://www.wikicfp.com/cfp/servlet/event.showcfp?eventid=11019&copyow
 nerid=14548
UID:cfp101605-E@wikicfp.com
END:VEVENT
BEGIN:VEVENT
DTSTAMP:20260420T134740Z
DTSTART;VALUE=DATE:20101031
SUMMARY:Wireless VITAE 2011 Deadline
DESCRIPTION:2nd International Conference on Wireless Communications\, Veh
 icular Technology\, Information Theory and Aerospace & Electronic System
 s
URL:http://www.wikicfp.com/cfp/servlet/event.showcfp?eventid=11019&copyow
 nerid=14548
UID:cfp101605-D@wikicfp.com
END:VEVENT
BEGIN:VEVENT
DTSTAMP:20260420T134740Z
DTSTART;VALUE=DATE:20101115
SUMMARY:Wireless VITAE 2011 Notification Due
DESCRIPTION:2nd International Conference on Wireless Communications\, Veh
 icular Technology\, Information Theory and Aerospace & Electronic System
 s
URL:http://www.wikicfp.com/cfp/servlet/event.showcfp?eventid=11019&copyow
 nerid=14548
UID:cfp101605-N@wikicfp.com
END:VEVENT
BEGIN:VEVENT
DTSTAMP:20260420T134740Z
DTSTART;VALUE=DATE:20101210
SUMMARY:Wireless VITAE 2011 Final Version Due
DESCRIPTION:2nd International Conference on Wireless Communications\, Veh
 icular Technology\, Information Theory and Aerospace & Electronic System
 s
URL:http://www.wikicfp.com/cfp/servlet/event.showcfp?eventid=11019&copyow
 nerid=14548
UID:cfp101605-N@wikicfp.com
END:VEVENT
BEGIN:VEVENT
DTSTAMP:20260420T134740Z
DTSTART;VALUE=DATE:20110516
DTEND;VALUE=DATE:20110521
SUMMARY:ICNS 2011
DESCRIPTION:Integrated Communication\, Navigation\, Surveillance Conferen
 ce
URL:http://www.wikicfp.com/cfp/servlet/event.showcfp?eventid=10111&copyow
 nerid=14548
UID:cfp101593-E@wikicfp.com
END:VEVENT
BEGIN:VEVENT
DTSTAMP:20260420T134740Z
DTSTART;VALUE=DATE:20110214
SUMMARY:ICNS 2011 Deadline
DESCRIPTION:Integrated Communication\, Navigation\, Surveillance Conferen
 ce
URL:http://www.wikicfp.com/cfp/servlet/event.showcfp?eventid=10111&copyow
 nerid=14548
UID:cfp101593-D@wikicfp.com
END:VEVENT
BEGIN:VEVENT
DTSTAMP:20260420T134740Z
DTSTART;VALUE=DATE:20110314
SUMMARY:ICNS 2011 Notification Due
DESCRIPTION:Integrated Communication\, Navigation\, Surveillance Conferen
 ce
URL:http://www.wikicfp.com/cfp/servlet/event.showcfp?eventid=10111&copyow
 nerid=14548
UID:cfp101593-N@wikicfp.com
END:VEVENT
BEGIN:VEVENT
DTSTAMP:20260420T134740Z
DTSTART;VALUE=DATE:20110415
SUMMARY:ICNS 2011 Final Version Due
DESCRIPTION:Integrated Communication\, Navigation\, Surveillance Conferen
 ce
URL:http://www.wikicfp.com/cfp/servlet/event.showcfp?eventid=10111&copyow
 nerid=14548
UID:cfp101593-N@wikicfp.com
END:VEVENT
BEGIN:VEVENT
DTSTAMP:20260420T134740Z
DTSTART;VALUE=DATE:20110509
DTEND;VALUE=DATE:20110512
SUMMARY:MOBILIGHT 2011
DESCRIPTION:3rd International ICST Conference on Mobile Lightweight Wirel
 ess Systems
URL:http://www.wikicfp.com/cfp/servlet/event.showcfp?eventid=10635&copyow
 nerid=14548
UID:cfp101596-E@wikicfp.com
END:VEVENT
BEGIN:VEVENT
DTSTAMP:20260420T134740Z
DTSTART;VALUE=DATE:20110225
SUMMARY:MOBILIGHT 2011 Deadline
DESCRIPTION:3rd International ICST Conference on Mobile Lightweight Wirel
 ess Systems
URL:http://www.wikicfp.com/cfp/servlet/event.showcfp?eventid=10635&copyow
 nerid=14548
UID:cfp101596-D@wikicfp.com
END:VEVENT
BEGIN:VEVENT
DTSTAMP:20260420T134740Z
DTSTART;VALUE=DATE:20110318
SUMMARY:MOBILIGHT 2011 Notification Due
DESCRIPTION:3rd International ICST Conference on Mobile Lightweight Wirel
 ess Systems
URL:http://www.wikicfp.com/cfp/servlet/event.showcfp?eventid=10635&copyow
 nerid=14548
UID:cfp101596-N@wikicfp.com
END:VEVENT
BEGIN:VEVENT
DTSTAMP:20260420T134740Z
DTSTART;VALUE=DATE:20110402
SUMMARY:MOBILIGHT 2011 Final Version Due
DESCRIPTION:3rd International ICST Conference on Mobile Lightweight Wirel
 ess Systems
URL:http://www.wikicfp.com/cfp/servlet/event.showcfp?eventid=10635&copyow
 nerid=14548
UID:cfp101596-N@wikicfp.com
END:VEVENT
BEGIN:VEVENT
DTSTAMP:20260420T134740Z
DTSTART;VALUE=DATE:20110801
DTEND;VALUE=DATE:20110804
SUMMARY:ICWCA 2011
DESCRIPTION:The First International Conference on Wireless Communications
  and Applications 
URL:http://www.wikicfp.com/cfp/servlet/event.showcfp?eventid=10606&copyow
 nerid=14548
UID:cfp101595-E@wikicfp.com
END:VEVENT
BEGIN:VEVENT
DTSTAMP:20260420T134740Z
DTSTART;VALUE=DATE:20110331
SUMMARY:ICWCA 2011 Deadline
DESCRIPTION:The First International Conference on Wireless Communications
  and Applications 
URL:http://www.wikicfp.com/cfp/servlet/event.showcfp?eventid=10606&copyow
 nerid=14548
UID:cfp101595-D@wikicfp.com
END:VEVENT
BEGIN:VEVENT
DTSTAMP:20260420T134740Z
DTSTART;VALUE=DATE:20110415
SUMMARY:ICWCA 2011 Notification Due
DESCRIPTION:The First International Conference on Wireless Communications
  and Applications 
URL:http://www.wikicfp.com/cfp/servlet/event.showcfp?eventid=10606&copyow
 nerid=14548
UID:cfp101595-N@wikicfp.com
END:VEVENT
BEGIN:VEVENT
DTSTAMP:20260420T134740Z
DTSTART;VALUE=DATE:20110520
SUMMARY:ICWCA 2011 Final Version Due
DESCRIPTION:The First International Conference on Wireless Communications
  and Applications 
URL:http://www.wikicfp.com/cfp/servlet/event.showcfp?eventid=10606&copyow
 nerid=14548
UID:cfp101595-N@wikicfp.com
END:VEVENT
BEGIN:VEVENT
DTSTAMP:20260420T134740Z
DTSTART;VALUE=DATE:20110923
DTEND;VALUE=DATE:20110926
SUMMARY:WiCOM 2011
DESCRIPTION:7th International Conference on Wireless Communications\, Net
 working and Mobile Computing
URL:http://www.wikicfp.com/cfp/servlet/event.showcfp?eventid=7832&copyown
 erid=14548
UID:cfp101592-E@wikicfp.com
END:VEVENT
BEGIN:VEVENT
DTSTAMP:20260420T134740Z
DTSTART;VALUE=DATE:20110428
SUMMARY:WiCOM 2011 Deadline
DESCRIPTION:7th International Conference on Wireless Communications\, Net
 working and Mobile Computing
URL:http://www.wikicfp.com/cfp/servlet/event.showcfp?eventid=7832&copyown
 erid=14548
UID:cfp101592-D@wikicfp.com
END:VEVENT
BEGIN:VEVENT
DTSTAMP:20260420T134740Z
DTSTART;VALUE=DATE:20110510
SUMMARY:WiCOM 2011 Notification Due
DESCRIPTION:7th International Conference on Wireless Communications\, Net
 working and Mobile Computing
URL:http://www.wikicfp.com/cfp/servlet/event.showcfp?eventid=7832&copyown
 erid=14548
UID:cfp101592-N@wikicfp.com
END:VEVENT
BEGIN:VEVENT
DTSTAMP:20260420T134740Z
DTSTART;VALUE=DATE:20110915
DTEND;VALUE=DATE:20110917
SUMMARY:SIBCON 2011
DESCRIPTION:International Siberian Conference on Control and Communicatio
 ns
URL:http://www.wikicfp.com/cfp/servlet/event.showcfp?eventid=7818&copyown
 erid=14548
UID:cfp101591-E@wikicfp.com
END:VEVENT
BEGIN:VEVENT
DTSTAMP:20260420T134740Z
DTSTART;VALUE=DATE:20110510
SUMMARY:SIBCON 2011 Deadline
DESCRIPTION:International Siberian Conference on Control and Communicatio
 ns
URL:http://www.wikicfp.com/cfp/servlet/event.showcfp?eventid=7818&copyown
 erid=14548
UID:cfp101591-D@wikicfp.com
END:VEVENT
BEGIN:VEVENT
DTSTAMP:20260420T134740Z
DTSTART;VALUE=DATE:20110610
SUMMARY:SIBCON 2011 Notification Due
DESCRIPTION:International Siberian Conference on Control and Communicatio
 ns
URL:http://www.wikicfp.com/cfp/servlet/event.showcfp?eventid=7818&copyown
 erid=14548
UID:cfp101591-N@wikicfp.com
END:VEVENT
BEGIN:VEVENT
DTSTAMP:20260420T134740Z
DTSTART;VALUE=DATE:20110710
SUMMARY:SIBCON 2011 Final Version Due
DESCRIPTION:International Siberian Conference on Control and Communicatio
 ns
URL:http://www.wikicfp.com/cfp/servlet/event.showcfp?eventid=7818&copyown
 erid=14548
UID:cfp101591-N@wikicfp.com
END:VEVENT
BEGIN:VEVENT
DTSTAMP:20260420T134740Z
DTSTART;VALUE=DATE:20140131
SUMMARY:IJERTCS 2014 Deadline
DESCRIPTION:Int. J. Embedded and Real-Time Communication Systems
URL:http://www.wikicfp.com/cfp/servlet/event.showcfp?eventid=4905&copyown
 erid=14548
UID:cfp101598-D@wikicfp.com
END:VEVENT
BEGIN:VEVENT
DTSTAMP:20260420T134740Z
DTSTART;VALUE=DATE:20140220
SUMMARY:IJERTCS 2014 Notification Due
DESCRIPTION:Int. J. Embedded and Real-Time Communication Systems
URL:http://www.wikicfp.com/cfp/servlet/event.showcfp?eventid=4905&copyown
 erid=14548
UID:cfp101598-N@wikicfp.com
END:VEVENT
BEGIN:VEVENT
DTSTAMP:20260420T134740Z
DTSTART;VALUE=DATE:20140315
SUMMARY:IJERTCS 2014 Final Version Due
DESCRIPTION:Int. J. Embedded and Real-Time Communication Systems
URL:http://www.wikicfp.com/cfp/servlet/event.showcfp?eventid=4905&copyown
 erid=14548
UID:cfp101598-N@wikicfp.com
END:VEVENT
BEGIN:VEVENT
DTSTAMP:20260420T134740Z
DTSTART;VALUE=DATE:20150715
SUMMARY:ATN 2015 Deadline
DESCRIPTION:Acta Technica Napocensis- Electronics and Telecommunications 
 3/2015
URL:http://www.wikicfp.com/cfp/servlet/event.showcfp?eventid=9454&copyown
 erid=14548
UID:cfp101600-D@wikicfp.com
END:VEVENT
BEGIN:VEVENT
DTSTAMP:20260420T134740Z
DTSTART;VALUE=DATE:20150908
SUMMARY:ATN 2015 Notification Due
DESCRIPTION:Acta Technica Napocensis- Electronics and Telecommunications 
 3/2015
URL:http://www.wikicfp.com/cfp/servlet/event.showcfp?eventid=9454&copyown
 erid=14548
UID:cfp101600-N@wikicfp.com
END:VEVENT
BEGIN:VEVENT
DTSTAMP:20260420T134740Z
DTSTART;VALUE=DATE:20150921
SUMMARY:ATN 2015 Final Version Due
DESCRIPTION:Acta Technica Napocensis- Electronics and Telecommunications 
 3/2015
URL:http://www.wikicfp.com/cfp/servlet/event.showcfp?eventid=9454&copyown
 erid=14548
UID:cfp101600-N@wikicfp.com
END:VEVENT
END:VCALENDAR
