BEGIN:VCALENDAR
PRODID:-//WikiCFP//pruhlig 1.0//EN
VERSION:2.0
CALSCALE:GREGORIAN
BEGIN:VEVENT
DTSTAMP:20260422T225708Z
DTSTART;VALUE=DATE:20191109
DTEND;VALUE=DATE:20191110
SUMMARY:EdgeSP 2019
DESCRIPTION:The Second ACM/IEEE Workshop on Security and Privacy in Edge 
 Computing
URL:http://www.wikicfp.com/cfp/servlet/event.showcfp?eventid=91174&copyow
 nerid=145427
UID:cfp797479-E@wikicfp.com
END:VEVENT
BEGIN:VEVENT
DTSTAMP:20260422T225708Z
DTSTART;VALUE=DATE:20190805
SUMMARY:EdgeSP 2019 Deadline
DESCRIPTION:The Second ACM/IEEE Workshop on Security and Privacy in Edge 
 Computing
URL:http://www.wikicfp.com/cfp/servlet/event.showcfp?eventid=91174&copyow
 nerid=145427
UID:cfp797479-D@wikicfp.com
END:VEVENT
BEGIN:VEVENT
DTSTAMP:20260422T225708Z
DTSTART;VALUE=DATE:20190909
SUMMARY:EdgeSP 2019 Notification Due
DESCRIPTION:The Second ACM/IEEE Workshop on Security and Privacy in Edge 
 Computing
URL:http://www.wikicfp.com/cfp/servlet/event.showcfp?eventid=91174&copyow
 nerid=145427
UID:cfp797479-N@wikicfp.com
END:VEVENT
BEGIN:VEVENT
DTSTAMP:20260422T225708Z
DTSTART;VALUE=DATE:20190919
SUMMARY:EdgeSP 2019 Final Version Due
DESCRIPTION:The Second ACM/IEEE Workshop on Security and Privacy in Edge 
 Computing
URL:http://www.wikicfp.com/cfp/servlet/event.showcfp?eventid=91174&copyow
 nerid=145427
UID:cfp797479-N@wikicfp.com
END:VEVENT
BEGIN:VEVENT
DTSTAMP:20260422T225708Z
DTSTART;VALUE=DATE:20191124
DTEND;VALUE=DATE:20191129
SUMMARY:ICSNC 2019
DESCRIPTION:The Fourteenth International Conference on Systems and Networ
 ks Communications
URL:http://www.wikicfp.com/cfp/servlet/event.showcfp?eventid=90825&copyow
 nerid=145427
UID:cfp797482-E@wikicfp.com
END:VEVENT
BEGIN:VEVENT
DTSTAMP:20260422T225708Z
DTSTART;VALUE=DATE:20190811
SUMMARY:ICSNC 2019 Deadline
DESCRIPTION:The Fourteenth International Conference on Systems and Networ
 ks Communications
URL:http://www.wikicfp.com/cfp/servlet/event.showcfp?eventid=90825&copyow
 nerid=145427
UID:cfp797482-D@wikicfp.com
END:VEVENT
BEGIN:VEVENT
DTSTAMP:20260422T225708Z
DTSTART;VALUE=DATE:20190914
SUMMARY:ICSNC 2019 Notification Due
DESCRIPTION:The Fourteenth International Conference on Systems and Networ
 ks Communications
URL:http://www.wikicfp.com/cfp/servlet/event.showcfp?eventid=90825&copyow
 nerid=145427
UID:cfp797482-N@wikicfp.com
END:VEVENT
BEGIN:VEVENT
DTSTAMP:20260422T225708Z
DTSTART;VALUE=DATE:20191009
SUMMARY:ICSNC 2019 Final Version Due
DESCRIPTION:The Fourteenth International Conference on Systems and Networ
 ks Communications
URL:http://www.wikicfp.com/cfp/servlet/event.showcfp?eventid=90825&copyow
 nerid=145427
UID:cfp797482-N@wikicfp.com
END:VEVENT
BEGIN:VEVENT
DTSTAMP:20260422T225708Z
DTSTART;VALUE=DATE:20191014
DTEND;VALUE=DATE:20191017
SUMMARY:ISSM--ACM\, Ei\, Scopus 2019
DESCRIPTION:ACM--2019 International Conference on Information System and 
 System Management (ISSM 2019)--Ei Compendex\, Scopus
URL:http://www.wikicfp.com/cfp/servlet/event.showcfp?eventid=87206&copyow
 nerid=145427
UID:cfp797485-E@wikicfp.com
END:VEVENT
BEGIN:VEVENT
DTSTAMP:20260422T225708Z
DTSTART;VALUE=DATE:20190820
SUMMARY:ISSM--ACM\, Ei\, Scopus 2019 Deadline
DESCRIPTION:ACM--2019 International Conference on Information System and 
 System Management (ISSM 2019)--Ei Compendex\, Scopus
URL:http://www.wikicfp.com/cfp/servlet/event.showcfp?eventid=87206&copyow
 nerid=145427
UID:cfp797485-D@wikicfp.com
END:VEVENT
BEGIN:VEVENT
DTSTAMP:20260422T225708Z
DTSTART;VALUE=DATE:20191218
DTEND;VALUE=DATE:20191222
SUMMARY:SSCC 2019
DESCRIPTION:Seventh International Symposium on Security in Computing and 
 Communications
URL:http://www.wikicfp.com/cfp/servlet/event.showcfp?eventid=89832&copyow
 nerid=145427
UID:cfp797480-E@wikicfp.com
END:VEVENT
BEGIN:VEVENT
DTSTAMP:20260422T225708Z
DTSTART;VALUE=DATE:20190820
SUMMARY:SSCC 2019 Deadline
DESCRIPTION:Seventh International Symposium on Security in Computing and 
 Communications
URL:http://www.wikicfp.com/cfp/servlet/event.showcfp?eventid=89832&copyow
 nerid=145427
UID:cfp797480-D@wikicfp.com
END:VEVENT
BEGIN:VEVENT
DTSTAMP:20260422T225708Z
DTSTART;VALUE=DATE:20190920
SUMMARY:SSCC 2019 Notification Due
DESCRIPTION:Seventh International Symposium on Security in Computing and 
 Communications
URL:http://www.wikicfp.com/cfp/servlet/event.showcfp?eventid=89832&copyow
 nerid=145427
UID:cfp797480-N@wikicfp.com
END:VEVENT
BEGIN:VEVENT
DTSTAMP:20260422T225708Z
DTSTART;VALUE=DATE:20191018
SUMMARY:SSCC 2019 Final Version Due
DESCRIPTION:Seventh International Symposium on Security in Computing and 
 Communications
URL:http://www.wikicfp.com/cfp/servlet/event.showcfp?eventid=89832&copyow
 nerid=145427
UID:cfp797480-N@wikicfp.com
END:VEVENT
BEGIN:VEVENT
DTSTAMP:20260422T225708Z
DTSTART;VALUE=DATE:20200316
DTEND;VALUE=DATE:20200319
SUMMARY:CODASPY 2020
DESCRIPTION:10th ACM Conference on Data and Application Security and Priv
 acy
URL:http://www.wikicfp.com/cfp/servlet/event.showcfp?eventid=91441&copyow
 nerid=145427
UID:cfp797487-E@wikicfp.com
END:VEVENT
BEGIN:VEVENT
DTSTAMP:20260422T225708Z
DTSTART;VALUE=DATE:20190902
SUMMARY:CODASPY 2020 Abstract Due
DESCRIPTION:10th ACM Conference on Data and Application Security and Priv
 acy
URL:http://www.wikicfp.com/cfp/servlet/event.showcfp?eventid=91441&copyow
 nerid=145427
UID:cfp797487-A@wikicfp.com
END:VEVENT
BEGIN:VEVENT
DTSTAMP:20260422T225708Z
DTSTART;VALUE=DATE:20190909
SUMMARY:CODASPY 2020 Deadline
DESCRIPTION:10th ACM Conference on Data and Application Security and Priv
 acy
URL:http://www.wikicfp.com/cfp/servlet/event.showcfp?eventid=91441&copyow
 nerid=145427
UID:cfp797487-D@wikicfp.com
END:VEVENT
BEGIN:VEVENT
DTSTAMP:20260422T225708Z
DTSTART;VALUE=DATE:20191118
SUMMARY:CODASPY 2020 Notification Due
DESCRIPTION:10th ACM Conference on Data and Application Security and Priv
 acy
URL:http://www.wikicfp.com/cfp/servlet/event.showcfp?eventid=91441&copyow
 nerid=145427
UID:cfp797487-N@wikicfp.com
END:VEVENT
BEGIN:VEVENT
DTSTAMP:20260422T225708Z
DTSTART;VALUE=DATE:20191120
DTEND;VALUE=DATE:20191123
SUMMARY:ATICA 2019
DESCRIPTION:X Congreso Internacional sobre AplicaciÃ³n de TecnologÃ­as de
  la InformaciÃ³n y Comunicaciones Avanzadas
URL:http://www.wikicfp.com/cfp/servlet/event.showcfp?eventid=91481&copyow
 nerid=145427
UID:cfp797488-E@wikicfp.com
END:VEVENT
BEGIN:VEVENT
DTSTAMP:20260422T225708Z
DTSTART;VALUE=DATE:20190923
SUMMARY:ATICA 2019 Deadline
DESCRIPTION:X Congreso Internacional sobre AplicaciÃ³n de TecnologÃ­as de
  la InformaciÃ³n y Comunicaciones Avanzadas
URL:http://www.wikicfp.com/cfp/servlet/event.showcfp?eventid=91481&copyow
 nerid=145427
UID:cfp797488-D@wikicfp.com
END:VEVENT
BEGIN:VEVENT
DTSTAMP:20260422T225708Z
DTSTART;VALUE=DATE:20191013
SUMMARY:ATICA 2019 Notification Due
DESCRIPTION:X Congreso Internacional sobre AplicaciÃ³n de TecnologÃ­as de
  la InformaciÃ³n y Comunicaciones Avanzadas
URL:http://www.wikicfp.com/cfp/servlet/event.showcfp?eventid=91481&copyow
 nerid=145427
UID:cfp797488-N@wikicfp.com
END:VEVENT
BEGIN:VEVENT
DTSTAMP:20260422T225708Z
DTSTART;VALUE=DATE:20191020
SUMMARY:ATICA 2019 Final Version Due
DESCRIPTION:X Congreso Internacional sobre AplicaciÃ³n de TecnologÃ­as de
  la InformaciÃ³n y Comunicaciones Avanzadas
URL:http://www.wikicfp.com/cfp/servlet/event.showcfp?eventid=91481&copyow
 nerid=145427
UID:cfp797488-N@wikicfp.com
END:VEVENT
BEGIN:VEVENT
DTSTAMP:20260422T225708Z
DTSTART;VALUE=DATE:20191115
DTEND;VALUE=DATE:20191118
SUMMARY:ICCNS--ACM\, Ei and Scopus 2019
DESCRIPTION:ACM--2019 9th International Conference on Communication and N
 etwork Security (ICCNS 2019)--Ei Compendex and Scopus
URL:http://www.wikicfp.com/cfp/servlet/event.showcfp?eventid=84715&copyow
 nerid=145427
UID:cfp797483-E@wikicfp.com
END:VEVENT
BEGIN:VEVENT
DTSTAMP:20260422T225708Z
DTSTART;VALUE=DATE:20191005
SUMMARY:ICCNS--ACM\, Ei and Scopus 2019 Deadline
DESCRIPTION:ACM--2019 9th International Conference on Communication and N
 etwork Security (ICCNS 2019)--Ei Compendex and Scopus
URL:http://www.wikicfp.com/cfp/servlet/event.showcfp?eventid=84715&copyow
 nerid=145427
UID:cfp797483-D@wikicfp.com
END:VEVENT
BEGIN:VEVENT
DTSTAMP:20260422T225708Z
DTSTART;VALUE=DATE:20191218
DTEND;VALUE=DATE:20191221
SUMMARY:ICCSIT 2019
DESCRIPTION:2019 the 12th International Conference on Computer Science an
 d Information Technology (ICCSIT 2019)
URL:http://www.wikicfp.com/cfp/servlet/event.showcfp?eventid=86957&copyow
 nerid=145427
UID:cfp797486-E@wikicfp.com
END:VEVENT
BEGIN:VEVENT
DTSTAMP:20260422T225708Z
DTSTART;VALUE=DATE:20191015
SUMMARY:ICCSIT 2019 Deadline
DESCRIPTION:2019 the 12th International Conference on Computer Science an
 d Information Technology (ICCSIT 2019)
URL:http://www.wikicfp.com/cfp/servlet/event.showcfp?eventid=86957&copyow
 nerid=145427
UID:cfp797486-D@wikicfp.com
END:VEVENT
BEGIN:VEVENT
DTSTAMP:20260422T225708Z
DTSTART;VALUE=DATE:20210211
DTEND;VALUE=DATE:20210214
SUMMARY:ICISSP 2021
DESCRIPTION:7th International Conference on Information Systems Security 
 and Privacy
URL:http://www.wikicfp.com/cfp/servlet/event.showcfp?eventid=90948&copyow
 nerid=145427
UID:cfp797478-E@wikicfp.com
END:VEVENT
BEGIN:VEVENT
DTSTAMP:20260422T225708Z
DTSTART;VALUE=DATE:20200914
SUMMARY:ICISSP 2021 Deadline
DESCRIPTION:7th International Conference on Information Systems Security 
 and Privacy
URL:http://www.wikicfp.com/cfp/servlet/event.showcfp?eventid=90948&copyow
 nerid=145427
UID:cfp797478-D@wikicfp.com
END:VEVENT
BEGIN:VEVENT
DTSTAMP:20260422T225708Z
DTSTART;VALUE=DATE:20201112
SUMMARY:ICISSP 2021 Notification Due
DESCRIPTION:7th International Conference on Information Systems Security 
 and Privacy
URL:http://www.wikicfp.com/cfp/servlet/event.showcfp?eventid=90948&copyow
 nerid=145427
UID:cfp797478-N@wikicfp.com
END:VEVENT
BEGIN:VEVENT
DTSTAMP:20260422T225708Z
DTSTART;VALUE=DATE:20201126
SUMMARY:ICISSP 2021 Final Version Due
DESCRIPTION:7th International Conference on Information Systems Security 
 and Privacy
URL:http://www.wikicfp.com/cfp/servlet/event.showcfp?eventid=90948&copyow
 nerid=145427
UID:cfp797478-N@wikicfp.com
END:VEVENT
BEGIN:VEVENT
DTSTAMP:20260422T225708Z
DTSTART;VALUE=DATE:20211213
DTEND;VALUE=DATE:20211216
SUMMARY:ICFMCE 2021
DESCRIPTION:2021 International Conference on Functional Materials and Che
 mical Engineering(ICFMCE 2021)
URL:http://www.wikicfp.com/cfp/servlet/event.showcfp?eventid=86373&copyow
 nerid=145427
UID:cfp797481-E@wikicfp.com
END:VEVENT
BEGIN:VEVENT
DTSTAMP:20260422T225708Z
DTSTART;VALUE=DATE:20211031
SUMMARY:ICFMCE 2021 Deadline
DESCRIPTION:2021 International Conference on Functional Materials and Che
 mical Engineering(ICFMCE 2021)
URL:http://www.wikicfp.com/cfp/servlet/event.showcfp?eventid=86373&copyow
 nerid=145427
UID:cfp797481-D@wikicfp.com
END:VEVENT
BEGIN:VEVENT
DTSTAMP:20260422T225708Z
DTSTART;VALUE=DATE:20211031
SUMMARY:ICFMCE 2021 Notification Due
DESCRIPTION:2021 International Conference on Functional Materials and Che
 mical Engineering(ICFMCE 2021)
URL:http://www.wikicfp.com/cfp/servlet/event.showcfp?eventid=86373&copyow
 nerid=145427
UID:cfp797481-N@wikicfp.com
END:VEVENT
BEGIN:VEVENT
DTSTAMP:20260422T225708Z
DTSTART;VALUE=DATE:20211031
SUMMARY:ICFMCE 2021 Final Version Due
DESCRIPTION:2021 International Conference on Functional Materials and Che
 mical Engineering(ICFMCE 2021)
URL:http://www.wikicfp.com/cfp/servlet/event.showcfp?eventid=86373&copyow
 nerid=145427
UID:cfp797481-N@wikicfp.com
END:VEVENT
BEGIN:VEVENT
DTSTAMP:20260422T225708Z
DTSTART;VALUE=DATE:20220625
DTEND;VALUE=DATE:20220627
SUMMARY:CIoT 2022
DESCRIPTION:4th International Conference on Internet of Things
URL:http://www.wikicfp.com/cfp/servlet/event.showcfp?eventid=90953&copyow
 nerid=145427
UID:cfp797484-E@wikicfp.com
END:VEVENT
BEGIN:VEVENT
DTSTAMP:20260422T225708Z
DTSTART;VALUE=DATE:20220611
SUMMARY:CIoT 2022 Deadline
DESCRIPTION:4th International Conference on Internet of Things
URL:http://www.wikicfp.com/cfp/servlet/event.showcfp?eventid=90953&copyow
 nerid=145427
UID:cfp797484-D@wikicfp.com
END:VEVENT
BEGIN:VEVENT
DTSTAMP:20260422T225708Z
DTSTART;VALUE=DATE:20220621
SUMMARY:CIoT 2022 Notification Due
DESCRIPTION:4th International Conference on Internet of Things
URL:http://www.wikicfp.com/cfp/servlet/event.showcfp?eventid=90953&copyow
 nerid=145427
UID:cfp797484-N@wikicfp.com
END:VEVENT
BEGIN:VEVENT
DTSTAMP:20260422T225708Z
DTSTART;VALUE=DATE:20220623
SUMMARY:CIoT 2022 Final Version Due
DESCRIPTION:4th International Conference on Internet of Things
URL:http://www.wikicfp.com/cfp/servlet/event.showcfp?eventid=90953&copyow
 nerid=145427
UID:cfp797484-N@wikicfp.com
END:VEVENT
END:VCALENDAR
