BEGIN:VCALENDAR
PRODID:-//WikiCFP//disnocen 1.0//EN
VERSION:2.0
CALSCALE:GREGORIAN
BEGIN:VEVENT
DTSTAMP:20260424T024452Z
DTSTART;VALUE=DATE:20190630
DTEND;VALUE=DATE:20190701
SUMMARY:SI-BCIA 2019
DESCRIPTION:Special Issue on Recent Advances in Blockchain Infrastructure
 s and Applications
URL:http://www.wikicfp.com/cfp/servlet/event.showcfp?eventid=84432&copyow
 nerid=145059
UID:cfp776260-E@wikicfp.com
END:VEVENT
BEGIN:VEVENT
DTSTAMP:20260424T024452Z
DTSTART;VALUE=DATE:20190630
SUMMARY:SI-BCIA 2019 Deadline
DESCRIPTION:Special Issue on Recent Advances in Blockchain Infrastructure
 s and Applications
URL:http://www.wikicfp.com/cfp/servlet/event.showcfp?eventid=84432&copyow
 nerid=145059
UID:cfp776260-D@wikicfp.com
END:VEVENT
END:VCALENDAR
