BEGIN:VCALENDAR
PRODID:-//WikiCFP//Aymen 1.0//EN
VERSION:2.0
CALSCALE:GREGORIAN
BEGIN:VEVENT
DTSTAMP:20260424T183254Z
DTSTART;VALUE=DATE:20110622
DTEND;VALUE=DATE:20110625
SUMMARY:ASC 2011
DESCRIPTION:The Fourteenth IASTED International Conference on Artificial 
 Intelligence and Soft Computing
URL:http://www.wikicfp.com/cfp/servlet/event.showcfp?eventid=8873&copyown
 erid=14375
UID:cfp102742-E@wikicfp.com
END:VEVENT
BEGIN:VEVENT
DTSTAMP:20260424T183254Z
DTSTART;VALUE=DATE:20110301
SUMMARY:ASC 2011 Deadline
DESCRIPTION:The Fourteenth IASTED International Conference on Artificial 
 Intelligence and Soft Computing
URL:http://www.wikicfp.com/cfp/servlet/event.showcfp?eventid=8873&copyown
 erid=14375
UID:cfp102742-D@wikicfp.com
END:VEVENT
BEGIN:VEVENT
DTSTAMP:20260424T183254Z
DTSTART;VALUE=DATE:20110401
SUMMARY:ASC 2011 Notification Due
DESCRIPTION:The Fourteenth IASTED International Conference on Artificial 
 Intelligence and Soft Computing
URL:http://www.wikicfp.com/cfp/servlet/event.showcfp?eventid=8873&copyown
 erid=14375
UID:cfp102742-N@wikicfp.com
END:VEVENT
BEGIN:VEVENT
DTSTAMP:20260424T183254Z
DTSTART;VALUE=DATE:20110415
SUMMARY:ASC 2011 Final Version Due
DESCRIPTION:The Fourteenth IASTED International Conference on Artificial 
 Intelligence and Soft Computing
URL:http://www.wikicfp.com/cfp/servlet/event.showcfp?eventid=8873&copyown
 erid=14375
UID:cfp102742-N@wikicfp.com
END:VEVENT
BEGIN:VEVENT
DTSTAMP:20260424T183254Z
DTSTART;VALUE=DATE:20110707
DTEND;VALUE=DATE:20110710
SUMMARY:SEKE 2011
DESCRIPTION:The Twenty-Third International Conference on Software Enginee
 ring and Knowledge Engineering
URL:http://www.wikicfp.com/cfp/servlet/event.showcfp?eventid=12561&copyow
 nerid=14375
UID:cfp128771-E@wikicfp.com
END:VEVENT
BEGIN:VEVENT
DTSTAMP:20260424T183254Z
DTSTART;VALUE=DATE:20110322
SUMMARY:SEKE 2011 Deadline
DESCRIPTION:The Twenty-Third International Conference on Software Enginee
 ring and Knowledge Engineering
URL:http://www.wikicfp.com/cfp/servlet/event.showcfp?eventid=12561&copyow
 nerid=14375
UID:cfp128771-D@wikicfp.com
END:VEVENT
BEGIN:VEVENT
DTSTAMP:20260424T183254Z
DTSTART;VALUE=DATE:20110420
SUMMARY:SEKE 2011 Notification Due
DESCRIPTION:The Twenty-Third International Conference on Software Enginee
 ring and Knowledge Engineering
URL:http://www.wikicfp.com/cfp/servlet/event.showcfp?eventid=12561&copyow
 nerid=14375
UID:cfp128771-N@wikicfp.com
END:VEVENT
BEGIN:VEVENT
DTSTAMP:20260424T183254Z
DTSTART;VALUE=DATE:20110510
SUMMARY:SEKE 2011 Final Version Due
DESCRIPTION:The Twenty-Third International Conference on Software Enginee
 ring and Knowledge Engineering
URL:http://www.wikicfp.com/cfp/servlet/event.showcfp?eventid=12561&copyow
 nerid=14375
UID:cfp128771-N@wikicfp.com
END:VEVENT
BEGIN:VEVENT
DTSTAMP:20260424T183254Z
DTSTART;VALUE=DATE:20110623
DTEND;VALUE=DATE:20110626
SUMMARY:INES 2011
DESCRIPTION:15th IEEE International Conference on Intelligent Engineering
  Systems
URL:http://www.wikicfp.com/cfp/servlet/event.showcfp?eventid=11136&copyow
 nerid=14375
UID:cfp102335-E@wikicfp.com
END:VEVENT
BEGIN:VEVENT
DTSTAMP:20260424T183254Z
DTSTART;VALUE=DATE:20110415
SUMMARY:INES 2011 Deadline
DESCRIPTION:15th IEEE International Conference on Intelligent Engineering
  Systems
URL:http://www.wikicfp.com/cfp/servlet/event.showcfp?eventid=11136&copyow
 nerid=14375
UID:cfp102335-D@wikicfp.com
END:VEVENT
BEGIN:VEVENT
DTSTAMP:20260424T183254Z
DTSTART;VALUE=DATE:20110512
SUMMARY:INES 2011 Notification Due
DESCRIPTION:15th IEEE International Conference on Intelligent Engineering
  Systems
URL:http://www.wikicfp.com/cfp/servlet/event.showcfp?eventid=11136&copyow
 nerid=14375
UID:cfp102335-N@wikicfp.com
END:VEVENT
BEGIN:VEVENT
DTSTAMP:20260424T183254Z
DTSTART;VALUE=DATE:20110526
SUMMARY:INES 2011 Final Version Due
DESCRIPTION:15th IEEE International Conference on Intelligent Engineering
  Systems
URL:http://www.wikicfp.com/cfp/servlet/event.showcfp?eventid=11136&copyow
 nerid=14375
UID:cfp102335-N@wikicfp.com
END:VEVENT
BEGIN:VEVENT
DTSTAMP:20260424T183254Z
DTSTART;VALUE=DATE:20110907
DTEND;VALUE=DATE:20110910
SUMMARY:i-KNOW 2011
DESCRIPTION:i-KNOW - International Conference on Knowledge Management and
  Knowledge Technologies
URL:http://www.wikicfp.com/cfp/servlet/event.showcfp?eventid=14092&copyow
 nerid=14375
UID:cfp141398-E@wikicfp.com
END:VEVENT
BEGIN:VEVENT
DTSTAMP:20260424T183254Z
DTSTART;VALUE=DATE:20110430
SUMMARY:i-KNOW 2011 Deadline
DESCRIPTION:i-KNOW - International Conference on Knowledge Management and
  Knowledge Technologies
URL:http://www.wikicfp.com/cfp/servlet/event.showcfp?eventid=14092&copyow
 nerid=14375
UID:cfp141398-D@wikicfp.com
END:VEVENT
BEGIN:VEVENT
DTSTAMP:20260424T183254Z
DTSTART;VALUE=DATE:20110430
SUMMARY:i-KNOW 2011 Notification Due
DESCRIPTION:i-KNOW - International Conference on Knowledge Management and
  Knowledge Technologies
URL:http://www.wikicfp.com/cfp/servlet/event.showcfp?eventid=14092&copyow
 nerid=14375
UID:cfp141398-N@wikicfp.com
END:VEVENT
BEGIN:VEVENT
DTSTAMP:20260424T183254Z
DTSTART;VALUE=DATE:20110531
SUMMARY:i-KNOW 2011 Final Version Due
DESCRIPTION:i-KNOW - International Conference on Knowledge Management and
  Knowledge Technologies
URL:http://www.wikicfp.com/cfp/servlet/event.showcfp?eventid=14092&copyow
 nerid=14375
UID:cfp141398-N@wikicfp.com
END:VEVENT
BEGIN:VEVENT
DTSTAMP:20260424T183254Z
DTSTART;VALUE=DATE:20111026
DTEND;VALUE=DATE:20111030
SUMMARY:IC3K 2011
DESCRIPTION:IC3K- 3rd International Joint Conference on Knowledge Discove
 ry\, Knowledge Engineering and Knowledge Management
URL:http://www.wikicfp.com/cfp/servlet/event.showcfp?eventid=13223&copyow
 nerid=14375
UID:cfp141397-E@wikicfp.com
END:VEVENT
BEGIN:VEVENT
DTSTAMP:20260424T183254Z
DTSTART;VALUE=DATE:20110510
SUMMARY:IC3K 2011 Deadline
DESCRIPTION:IC3K- 3rd International Joint Conference on Knowledge Discove
 ry\, Knowledge Engineering and Knowledge Management
URL:http://www.wikicfp.com/cfp/servlet/event.showcfp?eventid=13223&copyow
 nerid=14375
UID:cfp141397-D@wikicfp.com
END:VEVENT
BEGIN:VEVENT
DTSTAMP:20260424T183254Z
DTSTART;VALUE=DATE:20110706
SUMMARY:IC3K 2011 Notification Due
DESCRIPTION:IC3K- 3rd International Joint Conference on Knowledge Discove
 ry\, Knowledge Engineering and Knowledge Management
URL:http://www.wikicfp.com/cfp/servlet/event.showcfp?eventid=13223&copyow
 nerid=14375
UID:cfp141397-N@wikicfp.com
END:VEVENT
BEGIN:VEVENT
DTSTAMP:20260424T183254Z
DTSTART;VALUE=DATE:20110722
SUMMARY:IC3K 2011 Final Version Due
DESCRIPTION:IC3K- 3rd International Joint Conference on Knowledge Discove
 ry\, Knowledge Engineering and Knowledge Management
URL:http://www.wikicfp.com/cfp/servlet/event.showcfp?eventid=13223&copyow
 nerid=14375
UID:cfp141397-N@wikicfp.com
END:VEVENT
BEGIN:VEVENT
DTSTAMP:20260424T183254Z
DTSTART;VALUE=DATE:20111212
DTEND;VALUE=DATE:20111215
SUMMARY:KSEM 2011
DESCRIPTION:The 5th International Conference on Knowledge Science\, Engin
 eering and Management
URL:http://www.wikicfp.com/cfp/servlet/event.showcfp?eventid=12575&copyow
 nerid=14375
UID:cfp128772-E@wikicfp.com
END:VEVENT
BEGIN:VEVENT
DTSTAMP:20260424T183254Z
DTSTART;VALUE=DATE:20110601
SUMMARY:KSEM 2011 Deadline
DESCRIPTION:The 5th International Conference on Knowledge Science\, Engin
 eering and Management
URL:http://www.wikicfp.com/cfp/servlet/event.showcfp?eventid=12575&copyow
 nerid=14375
UID:cfp128772-D@wikicfp.com
END:VEVENT
BEGIN:VEVENT
DTSTAMP:20260424T183254Z
DTSTART;VALUE=DATE:20110801
SUMMARY:KSEM 2011 Notification Due
DESCRIPTION:The 5th International Conference on Knowledge Science\, Engin
 eering and Management
URL:http://www.wikicfp.com/cfp/servlet/event.showcfp?eventid=12575&copyow
 nerid=14375
UID:cfp128772-N@wikicfp.com
END:VEVENT
BEGIN:VEVENT
DTSTAMP:20260424T183254Z
DTSTART;VALUE=DATE:20120610
DTEND;VALUE=DATE:20120615
SUMMARY:KR 2012
DESCRIPTION:13th International Conference on the Principles of Knowledge 
 Representation and Reasoning
URL:http://www.wikicfp.com/cfp/servlet/event.showcfp?eventid=11757&copyow
 nerid=14375
UID:cfp112367-E@wikicfp.com
END:VEVENT
BEGIN:VEVENT
DTSTAMP:20260424T183254Z
DTSTART;VALUE=DATE:20111130
SUMMARY:KR 2012 Abstract Due
DESCRIPTION:13th International Conference on the Principles of Knowledge 
 Representation and Reasoning
URL:http://www.wikicfp.com/cfp/servlet/event.showcfp?eventid=11757&copyow
 nerid=14375
UID:cfp112367-A@wikicfp.com
END:VEVENT
BEGIN:VEVENT
DTSTAMP:20260424T183254Z
DTSTART;VALUE=DATE:20111209
SUMMARY:KR 2012 Deadline
DESCRIPTION:13th International Conference on the Principles of Knowledge 
 Representation and Reasoning
URL:http://www.wikicfp.com/cfp/servlet/event.showcfp?eventid=11757&copyow
 nerid=14375
UID:cfp112367-D@wikicfp.com
END:VEVENT
BEGIN:VEVENT
DTSTAMP:20260424T183254Z
DTSTART;VALUE=DATE:20120203
SUMMARY:KR 2012 Notification Due
DESCRIPTION:13th International Conference on the Principles of Knowledge 
 Representation and Reasoning
URL:http://www.wikicfp.com/cfp/servlet/event.showcfp?eventid=11757&copyow
 nerid=14375
UID:cfp112367-N@wikicfp.com
END:VEVENT
BEGIN:VEVENT
DTSTAMP:20260424T183254Z
DTSTART;VALUE=DATE:20120304
SUMMARY:KR 2012 Final Version Due
DESCRIPTION:13th International Conference on the Principles of Knowledge 
 Representation and Reasoning
URL:http://www.wikicfp.com/cfp/servlet/event.showcfp?eventid=11757&copyow
 nerid=14375
UID:cfp112367-N@wikicfp.com
END:VEVENT
BEGIN:VEVENT
DTSTAMP:20260424T183254Z
DTSTART;VALUE=DATE:20120827
DTEND;VALUE=DATE:20120901
SUMMARY:ECAI 2012
DESCRIPTION: 20th European Conference on Artificial Intelligence
URL:http://www.wikicfp.com/cfp/servlet/event.showcfp?eventid=11756&copyow
 nerid=14375
UID:cfp112369-E@wikicfp.com
END:VEVENT
BEGIN:VEVENT
DTSTAMP:20260424T183254Z
DTSTART;VALUE=DATE:20120306
SUMMARY:ECAI 2012 Deadline
DESCRIPTION: 20th European Conference on Artificial Intelligence
URL:http://www.wikicfp.com/cfp/servlet/event.showcfp?eventid=11756&copyow
 nerid=14375
UID:cfp112369-D@wikicfp.com
END:VEVENT
BEGIN:VEVENT
DTSTAMP:20260424T183254Z
DTSTART;VALUE=DATE:20120521
SUMMARY:ECAI 2012 Notification Due
DESCRIPTION: 20th European Conference on Artificial Intelligence
URL:http://www.wikicfp.com/cfp/servlet/event.showcfp?eventid=11756&copyow
 nerid=14375
UID:cfp112369-N@wikicfp.com
END:VEVENT
BEGIN:VEVENT
DTSTAMP:20260424T183254Z
DTSTART;VALUE=DATE:20120603
SUMMARY:ECAI 2012 Final Version Due
DESCRIPTION: 20th European Conference on Artificial Intelligence
URL:http://www.wikicfp.com/cfp/servlet/event.showcfp?eventid=11756&copyow
 nerid=14375
UID:cfp112369-N@wikicfp.com
END:VEVENT
BEGIN:VEVENT
DTSTAMP:20260424T183254Z
DTSTART;VALUE=DATE:20131024
DTEND;VALUE=DATE:20131026
SUMMARY:ICICKM 2013
DESCRIPTION:10th International Conference on Intellectual Capital\, Knowl
 edge Management & Organisational Learning â ICICKM 2012
URL:http://www.wikicfp.com/cfp/servlet/event.showcfp?eventid=13212&copyow
 nerid=14375
UID:cfp154860-E@wikicfp.com
END:VEVENT
BEGIN:VEVENT
DTSTAMP:20260424T183254Z
DTSTART;VALUE=DATE:20130919
SUMMARY:ICICKM 2013 Abstract Due
DESCRIPTION:10th International Conference on Intellectual Capital\, Knowl
 edge Management & Organisational Learning â ICICKM 2012
URL:http://www.wikicfp.com/cfp/servlet/event.showcfp?eventid=13212&copyow
 nerid=14375
UID:cfp154860-A@wikicfp.com
END:VEVENT
BEGIN:VEVENT
DTSTAMP:20260424T183254Z
DTSTART;VALUE=DATE:20130401
SUMMARY:ICICKM 2013 Deadline
DESCRIPTION:10th International Conference on Intellectual Capital\, Knowl
 edge Management & Organisational Learning â ICICKM 2012
URL:http://www.wikicfp.com/cfp/servlet/event.showcfp?eventid=13212&copyow
 nerid=14375
UID:cfp154860-D@wikicfp.com
END:VEVENT
BEGIN:VEVENT
DTSTAMP:20260424T183254Z
DTSTART;VALUE=DATE:20130411
SUMMARY:ICICKM 2013 Notification Due
DESCRIPTION:10th International Conference on Intellectual Capital\, Knowl
 edge Management & Organisational Learning â ICICKM 2012
URL:http://www.wikicfp.com/cfp/servlet/event.showcfp?eventid=13212&copyow
 nerid=14375
UID:cfp154860-N@wikicfp.com
END:VEVENT
BEGIN:VEVENT
DTSTAMP:20260424T183254Z
DTSTART;VALUE=DATE:20130523
SUMMARY:ICICKM 2013 Final Version Due
DESCRIPTION:10th International Conference on Intellectual Capital\, Knowl
 edge Management & Organisational Learning â ICICKM 2012
URL:http://www.wikicfp.com/cfp/servlet/event.showcfp?eventid=13212&copyow
 nerid=14375
UID:cfp154860-N@wikicfp.com
END:VEVENT
END:VCALENDAR
