BEGIN:VCALENDAR
PRODID:-//WikiCFP//Agnestasia 1.0//EN
VERSION:2.0
CALSCALE:GREGORIAN
BEGIN:VEVENT
DTSTAMP:20260425T105101Z
DTSTART;VALUE=DATE:20190527
DTEND;VALUE=DATE:20190530
SUMMARY:ACM--ICETT--EI Compendex and Scopus 2019
DESCRIPTION:ACM--2019 5th International Conference on Education and Train
 ing Technologies (ICETT 2019)--EI Compendex and Scopus
URL:http://www.wikicfp.com/cfp/servlet/event.showcfp?eventid=80155&copyow
 nerid=143379
UID:cfp772775-E@wikicfp.com
END:VEVENT
BEGIN:VEVENT
DTSTAMP:20260425T105101Z
DTSTART;VALUE=DATE:20190405
SUMMARY:ACM--ICETT--EI Compendex and Scopus 2019 Deadline
DESCRIPTION:ACM--2019 5th International Conference on Education and Train
 ing Technologies (ICETT 2019)--EI Compendex and Scopus
URL:http://www.wikicfp.com/cfp/servlet/event.showcfp?eventid=80155&copyow
 nerid=143379
UID:cfp772775-D@wikicfp.com
END:VEVENT
BEGIN:VEVENT
DTSTAMP:20260425T105101Z
DTSTART;VALUE=DATE:20190722
DTEND;VALUE=DATE:20190726
SUMMARY:ICTES 2019
DESCRIPTION:2019 6th International Conference on Teaching and Education S
 ciences (ICTES 2019)
URL:http://www.wikicfp.com/cfp/servlet/event.showcfp?eventid=82711&copyow
 nerid=143379
UID:cfp772777-E@wikicfp.com
END:VEVENT
BEGIN:VEVENT
DTSTAMP:20260425T105101Z
DTSTART;VALUE=DATE:20190425
SUMMARY:ICTES 2019 Deadline
DESCRIPTION:2019 6th International Conference on Teaching and Education S
 ciences (ICTES 2019)
URL:http://www.wikicfp.com/cfp/servlet/event.showcfp?eventid=82711&copyow
 nerid=143379
UID:cfp772777-D@wikicfp.com
END:VEVENT
BEGIN:VEVENT
DTSTAMP:20260425T105101Z
DTSTART;VALUE=DATE:20190710
DTEND;VALUE=DATE:20190713
SUMMARY:ICIEI--Ei Compendex and SCOPUS 2019
DESCRIPTION:2019 4th International Conference on Information and Educatio
 n Innovations (ICIEI 2019)--Ei Compendex and SCOPUS
URL:http://www.wikicfp.com/cfp/servlet/event.showcfp?eventid=82154&copyow
 nerid=143379
UID:cfp772776-E@wikicfp.com
END:VEVENT
BEGIN:VEVENT
DTSTAMP:20260425T105101Z
DTSTART;VALUE=DATE:20190430
SUMMARY:ICIEI--Ei Compendex and SCOPUS 2019 Deadline
DESCRIPTION:2019 4th International Conference on Information and Educatio
 n Innovations (ICIEI 2019)--Ei Compendex and SCOPUS
URL:http://www.wikicfp.com/cfp/servlet/event.showcfp?eventid=82154&copyow
 nerid=143379
UID:cfp772776-D@wikicfp.com
END:VEVENT
BEGIN:VEVENT
DTSTAMP:20260425T105101Z
DTSTART;VALUE=DATE:20190802
DTEND;VALUE=DATE:20190805
SUMMARY:ICELT--JA\, Scoupus 2019
DESCRIPTION:2019 5th International Conference on Education\, Learning and
  Training (ICELT 2019)--JA\, Scoupus
URL:http://www.wikicfp.com/cfp/servlet/event.showcfp?eventid=81059&copyow
 nerid=143379
UID:cfp772774-E@wikicfp.com
END:VEVENT
BEGIN:VEVENT
DTSTAMP:20260425T105101Z
DTSTART;VALUE=DATE:20190531
SUMMARY:ICELT--JA\, Scoupus 2019 Deadline
DESCRIPTION:2019 5th International Conference on Education\, Learning and
  Training (ICELT 2019)--JA\, Scoupus
URL:http://www.wikicfp.com/cfp/servlet/event.showcfp?eventid=81059&copyow
 nerid=143379
UID:cfp772774-D@wikicfp.com
END:VEVENT
BEGIN:VEVENT
DTSTAMP:20260425T105101Z
DTSTART;VALUE=DATE:20190802
DTEND;VALUE=DATE:20190805
SUMMARY:ACM--ICEBT--EI Compendex and Scopus 2019
DESCRIPTION:ACM--2019 The 3rd International Conference on E-Education\, E
 -Business and E-Technology (ICEBT 2019)--EI Compendex and Scopus
URL:http://www.wikicfp.com/cfp/servlet/event.showcfp?eventid=84345&copyow
 nerid=143379
UID:cfp772779-E@wikicfp.com
END:VEVENT
BEGIN:VEVENT
DTSTAMP:20260425T105101Z
DTSTART;VALUE=DATE:20190531
SUMMARY:ACM--ICEBT--EI Compendex and Scopus 2019 Deadline
DESCRIPTION:ACM--2019 The 3rd International Conference on E-Education\, E
 -Business and E-Technology (ICEBT 2019)--EI Compendex and Scopus
URL:http://www.wikicfp.com/cfp/servlet/event.showcfp?eventid=84345&copyow
 nerid=143379
UID:cfp772779-D@wikicfp.com
END:VEVENT
BEGIN:VEVENT
DTSTAMP:20260425T105101Z
DTSTART;VALUE=DATE:20190625
DTEND;VALUE=DATE:20190627
SUMMARY:ICTEL 2019
DESCRIPTION:7th ICTEL 2019 â International Conference on Teaching\, Edu
 cation & Learning\, 25-26 June\, Malaysia
URL:http://www.wikicfp.com/cfp/servlet/event.showcfp?eventid=83771&copyow
 nerid=143379
UID:cfp772778-E@wikicfp.com
END:VEVENT
BEGIN:VEVENT
DTSTAMP:20260425T105101Z
DTSTART;VALUE=DATE:20190624
SUMMARY:ICTEL 2019 Deadline
DESCRIPTION:7th ICTEL 2019 â International Conference on Teaching\, Edu
 cation & Learning\, 25-26 June\, Malaysia
URL:http://www.wikicfp.com/cfp/servlet/event.showcfp?eventid=83771&copyow
 nerid=143379
UID:cfp772778-D@wikicfp.com
END:VEVENT
BEGIN:VEVENT
DTSTAMP:20260425T105101Z
DTSTART;VALUE=DATE:20190624
SUMMARY:ICTEL 2019 Notification Due
DESCRIPTION:7th ICTEL 2019 â International Conference on Teaching\, Edu
 cation & Learning\, 25-26 June\, Malaysia
URL:http://www.wikicfp.com/cfp/servlet/event.showcfp?eventid=83771&copyow
 nerid=143379
UID:cfp772778-N@wikicfp.com
END:VEVENT
BEGIN:VEVENT
DTSTAMP:20260425T105101Z
DTSTART;VALUE=DATE:20190624
SUMMARY:ICTEL 2019 Final Version Due
DESCRIPTION:7th ICTEL 2019 â International Conference on Teaching\, Edu
 cation & Learning\, 25-26 June\, Malaysia
URL:http://www.wikicfp.com/cfp/servlet/event.showcfp?eventid=83771&copyow
 nerid=143379
UID:cfp772778-N@wikicfp.com
END:VEVENT
END:VCALENDAR
