BEGIN:VCALENDAR
PRODID:-//WikiCFP//raedamin 1.0//EN
VERSION:2.0
CALSCALE:GREGORIAN
BEGIN:VEVENT
DTSTAMP:20260422T091317Z
DTSTART;VALUE=DATE:20190726
DTEND;VALUE=DATE:20190729
SUMMARY:ICSOFT 2019
DESCRIPTION:14th International Conference on Software Technologies
URL:http://www.wikicfp.com/cfp/servlet/event.showcfp?eventid=82470&copyow
 nerid=142423
UID:cfp771402-E@wikicfp.com
END:VEVENT
BEGIN:VEVENT
DTSTAMP:20260422T091317Z
DTSTART;VALUE=DATE:20190228
SUMMARY:ICSOFT 2019 Deadline
DESCRIPTION:14th International Conference on Software Technologies
URL:http://www.wikicfp.com/cfp/servlet/event.showcfp?eventid=82470&copyow
 nerid=142423
UID:cfp771402-D@wikicfp.com
END:VEVENT
BEGIN:VEVENT
DTSTAMP:20260422T091317Z
DTSTART;VALUE=DATE:20190502
SUMMARY:ICSOFT 2019 Notification Due
DESCRIPTION:14th International Conference on Software Technologies
URL:http://www.wikicfp.com/cfp/servlet/event.showcfp?eventid=82470&copyow
 nerid=142423
UID:cfp771402-N@wikicfp.com
END:VEVENT
BEGIN:VEVENT
DTSTAMP:20260422T091317Z
DTSTART;VALUE=DATE:20190516
SUMMARY:ICSOFT 2019 Final Version Due
DESCRIPTION:14th International Conference on Software Technologies
URL:http://www.wikicfp.com/cfp/servlet/event.showcfp?eventid=82470&copyow
 nerid=142423
UID:cfp771402-N@wikicfp.com
END:VEVENT
BEGIN:VEVENT
DTSTAMP:20260422T091317Z
DTSTART;VALUE=DATE:20190416
DTEND;VALUE=DATE:20190418
SUMMARY:ICCTA--EI Compendex and Scopus 2019
DESCRIPTION:2019 5th International Conference on Computer and Technology 
 Applications (ICCTA 2019)--EI Compendex and Scopus
URL:http://www.wikicfp.com/cfp/servlet/event.showcfp?eventid=79330&copyow
 nerid=142423
UID:cfp771403-E@wikicfp.com
END:VEVENT
BEGIN:VEVENT
DTSTAMP:20260422T091317Z
DTSTART;VALUE=DATE:20190301
SUMMARY:ICCTA--EI Compendex and Scopus 2019 Deadline
DESCRIPTION:2019 5th International Conference on Computer and Technology 
 Applications (ICCTA 2019)--EI Compendex and Scopus
URL:http://www.wikicfp.com/cfp/servlet/event.showcfp?eventid=79330&copyow
 nerid=142423
UID:cfp771403-D@wikicfp.com
END:VEVENT
BEGIN:VEVENT
DTSTAMP:20260422T091317Z
DTSTART;VALUE=DATE:20190714
DTEND;VALUE=DATE:20190717
SUMMARY:ICCSM--JA\, Scopus 2019
DESCRIPTION:2019 3rd International Conference on Computer\, Software and 
 Modeling (ICCSM 2019)--JA\, Scopus
URL:http://www.wikicfp.com/cfp/servlet/event.showcfp?eventid=81887&copyow
 nerid=142423
UID:cfp771399-E@wikicfp.com
END:VEVENT
BEGIN:VEVENT
DTSTAMP:20260422T091317Z
DTSTART;VALUE=DATE:20190525
SUMMARY:ICCSM--JA\, Scopus 2019 Deadline
DESCRIPTION:2019 3rd International Conference on Computer\, Software and 
 Modeling (ICCSM 2019)--JA\, Scopus
URL:http://www.wikicfp.com/cfp/servlet/event.showcfp?eventid=81887&copyow
 nerid=142423
UID:cfp771399-D@wikicfp.com
END:VEVENT
BEGIN:VEVENT
DTSTAMP:20260422T091317Z
DTSTART;VALUE=DATE:20260420
SUMMARY:AVC 2026 Deadline
DESCRIPTION:Advances in Vision Computing: An International Journal
URL:http://www.wikicfp.com/cfp/servlet/event.showcfp?eventid=79843&copyow
 nerid=142423
UID:cfp771401-D@wikicfp.com
END:VEVENT
BEGIN:VEVENT
DTSTAMP:20260422T091317Z
DTSTART;VALUE=DATE:20260519
SUMMARY:AVC 2026 Notification Due
DESCRIPTION:Advances in Vision Computing: An International Journal
URL:http://www.wikicfp.com/cfp/servlet/event.showcfp?eventid=79843&copyow
 nerid=142423
UID:cfp771401-N@wikicfp.com
END:VEVENT
BEGIN:VEVENT
DTSTAMP:20260422T091317Z
DTSTART;VALUE=DATE:20260526
SUMMARY:AVC 2026 Final Version Due
DESCRIPTION:Advances in Vision Computing: An International Journal
URL:http://www.wikicfp.com/cfp/servlet/event.showcfp?eventid=79843&copyow
 nerid=142423
UID:cfp771401-N@wikicfp.com
END:VEVENT
END:VCALENDAR
