BEGIN:VCALENDAR
PRODID:-//WikiCFP//hopespe 1.0//EN
VERSION:2.0
CALSCALE:GREGORIAN
BEGIN:VEVENT
DTSTAMP:20260425T022438Z
DTSTART;VALUE=DATE:20190723
DTEND;VALUE=DATE:20190726
SUMMARY:MTEM 2019
DESCRIPTION:Malware Technical Exchange Meeting
URL:http://www.wikicfp.com/cfp/servlet/event.showcfp?eventid=85533&copyow
 nerid=141997
UID:cfp770508-E@wikicfp.com
END:VEVENT
BEGIN:VEVENT
DTSTAMP:20260425T022438Z
DTSTART;VALUE=DATE:20190325
SUMMARY:MTEM 2019 Deadline
DESCRIPTION:Malware Technical Exchange Meeting
URL:http://www.wikicfp.com/cfp/servlet/event.showcfp?eventid=85533&copyow
 nerid=141997
UID:cfp770508-D@wikicfp.com
END:VEVENT
BEGIN:VEVENT
DTSTAMP:20260425T022438Z
DTSTART;VALUE=DATE:20190423
SUMMARY:MTEM 2019 Notification Due
DESCRIPTION:Malware Technical Exchange Meeting
URL:http://www.wikicfp.com/cfp/servlet/event.showcfp?eventid=85533&copyow
 nerid=141997
UID:cfp770508-N@wikicfp.com
END:VEVENT
BEGIN:VEVENT
DTSTAMP:20260425T022438Z
DTSTART;VALUE=DATE:20190620
SUMMARY:MTEM 2019 Final Version Due
DESCRIPTION:Malware Technical Exchange Meeting
URL:http://www.wikicfp.com/cfp/servlet/event.showcfp?eventid=85533&copyow
 nerid=141997
UID:cfp770508-N@wikicfp.com
END:VEVENT
BEGIN:VEVENT
DTSTAMP:20260425T022438Z
DTSTART;VALUE=DATE:20191115
DTEND;VALUE=DATE:20191117
SUMMARY:CECC 2019
DESCRIPTION:Central European Cybersecurity Conference
URL:http://www.wikicfp.com/cfp/servlet/event.showcfp?eventid=85494&copyow
 nerid=141997
UID:cfp770507-E@wikicfp.com
END:VEVENT
BEGIN:VEVENT
DTSTAMP:20260425T022438Z
DTSTART;VALUE=DATE:20190520
SUMMARY:CECC 2019 Abstract Due
DESCRIPTION:Central European Cybersecurity Conference
URL:http://www.wikicfp.com/cfp/servlet/event.showcfp?eventid=85494&copyow
 nerid=141997
UID:cfp770507-A@wikicfp.com
END:VEVENT
BEGIN:VEVENT
DTSTAMP:20260425T022438Z
DTSTART;VALUE=DATE:20190617
SUMMARY:CECC 2019 Deadline
DESCRIPTION:Central European Cybersecurity Conference
URL:http://www.wikicfp.com/cfp/servlet/event.showcfp?eventid=85494&copyow
 nerid=141997
UID:cfp770507-D@wikicfp.com
END:VEVENT
BEGIN:VEVENT
DTSTAMP:20260425T022438Z
DTSTART;VALUE=DATE:20190729
SUMMARY:CECC 2019 Notification Due
DESCRIPTION:Central European Cybersecurity Conference
URL:http://www.wikicfp.com/cfp/servlet/event.showcfp?eventid=85494&copyow
 nerid=141997
UID:cfp770507-N@wikicfp.com
END:VEVENT
BEGIN:VEVENT
DTSTAMP:20260425T022438Z
DTSTART;VALUE=DATE:20190916
SUMMARY:CECC 2019 Final Version Due
DESCRIPTION:Central European Cybersecurity Conference
URL:http://www.wikicfp.com/cfp/servlet/event.showcfp?eventid=85494&copyow
 nerid=141997
UID:cfp770507-N@wikicfp.com
END:VEVENT
BEGIN:VEVENT
DTSTAMP:20260425T022438Z
DTSTART;VALUE=DATE:20200125
SUMMARY:FGCS-ETDNS 2020 Deadline
DESCRIPTION:Future Generation Computer Systems SI on Emerging Topics in D
 efending Networked Systems
URL:http://www.wikicfp.com/cfp/servlet/event.showcfp?eventid=84897&copyow
 nerid=141997
UID:cfp770506-D@wikicfp.com
END:VEVENT
END:VCALENDAR
