BEGIN:VCALENDAR
PRODID:-//WikiCFP//bubble_gum 1.0//EN
VERSION:2.0
CALSCALE:GREGORIAN
BEGIN:VEVENT
DTSTAMP:20260424T184931Z
DTSTART;VALUE=DATE:20101201
DTEND;VALUE=DATE:20101202
SUMMARY:E-PASSING 2010
DESCRIPTION:European Workshop on Practical Aspects of Service Oriented Co
 mputing Governance
URL:http://www.wikicfp.com/cfp/servlet/event.showcfp?eventid=10916&copyow
 nerid=14168
UID:cfp99123-E@wikicfp.com
END:VEVENT
BEGIN:VEVENT
DTSTAMP:20260424T184931Z
DTSTART;VALUE=DATE:20100920
SUMMARY:E-PASSING 2010 Deadline
DESCRIPTION:European Workshop on Practical Aspects of Service Oriented Co
 mputing Governance
URL:http://www.wikicfp.com/cfp/servlet/event.showcfp?eventid=10916&copyow
 nerid=14168
UID:cfp99123-D@wikicfp.com
END:VEVENT
BEGIN:VEVENT
DTSTAMP:20260424T184931Z
DTSTART;VALUE=DATE:20101030
SUMMARY:E-PASSING 2010 Notification Due
DESCRIPTION:European Workshop on Practical Aspects of Service Oriented Co
 mputing Governance
URL:http://www.wikicfp.com/cfp/servlet/event.showcfp?eventid=10916&copyow
 nerid=14168
UID:cfp99123-N@wikicfp.com
END:VEVENT
BEGIN:VEVENT
DTSTAMP:20260424T184931Z
DTSTART;VALUE=DATE:20101120
SUMMARY:E-PASSING 2010 Final Version Due
DESCRIPTION:European Workshop on Practical Aspects of Service Oriented Co
 mputing Governance
URL:http://www.wikicfp.com/cfp/servlet/event.showcfp?eventid=10916&copyow
 nerid=14168
UID:cfp99123-N@wikicfp.com
END:VEVENT
END:VCALENDAR
