BEGIN:VCALENDAR
PRODID:-//WikiCFP//amdiogo 1.0//EN
VERSION:2.0
CALSCALE:GREGORIAN
BEGIN:VEVENT
DTSTAMP:20260425T202233Z
DTSTART;VALUE=DATE:20190515
DTEND;VALUE=DATE:20190517
SUMMARY:EF/FLUP 2019
DESCRIPTION:III Encontros de Fotografia/FLUP - Â«PLACELESS PLACES. Photog
 raphy & Cinema: (im)probable\, verisimilar and impossible dialoguesÂ» (U
 .Porto\, May 15-16\, 2019)
URL:http://www.wikicfp.com/cfp/servlet/event.showcfp?eventid=85448&copyow
 nerid=141357
UID:cfp769432-E@wikicfp.com
END:VEVENT
BEGIN:VEVENT
DTSTAMP:20260425T202233Z
DTSTART;VALUE=DATE:20190331
SUMMARY:EF/FLUP 2019 Deadline
DESCRIPTION:III Encontros de Fotografia/FLUP - Â«PLACELESS PLACES. Photog
 raphy & Cinema: (im)probable\, verisimilar and impossible dialoguesÂ» (U
 .Porto\, May 15-16\, 2019)
URL:http://www.wikicfp.com/cfp/servlet/event.showcfp?eventid=85448&copyow
 nerid=141357
UID:cfp769432-D@wikicfp.com
END:VEVENT
BEGIN:VEVENT
DTSTAMP:20260425T202233Z
DTSTART;VALUE=DATE:20190415
SUMMARY:EF/FLUP 2019 Notification Due
DESCRIPTION:III Encontros de Fotografia/FLUP - Â«PLACELESS PLACES. Photog
 raphy & Cinema: (im)probable\, verisimilar and impossible dialoguesÂ» (U
 .Porto\, May 15-16\, 2019)
URL:http://www.wikicfp.com/cfp/servlet/event.showcfp?eventid=85448&copyow
 nerid=141357
UID:cfp769432-N@wikicfp.com
END:VEVENT
BEGIN:VEVENT
DTSTAMP:20260425T202233Z
DTSTART;VALUE=DATE:20190630
SUMMARY:EF/FLUP 2019 Final Version Due
DESCRIPTION:III Encontros de Fotografia/FLUP - Â«PLACELESS PLACES. Photog
 raphy & Cinema: (im)probable\, verisimilar and impossible dialoguesÂ» (U
 .Porto\, May 15-16\, 2019)
URL:http://www.wikicfp.com/cfp/servlet/event.showcfp?eventid=85448&copyow
 nerid=141357
UID:cfp769432-N@wikicfp.com
END:VEVENT
END:VCALENDAR
