BEGIN:VCALENDAR
PRODID:-//WikiCFP//gogorock2020 1.0//EN
VERSION:2.0
CALSCALE:GREGORIAN
BEGIN:VEVENT
DTSTAMP:20260424T090224Z
DTSTART;VALUE=DATE:20190522
DTEND;VALUE=DATE:20190525
SUMMARY:iDSC 2019
DESCRIPTION:2nd International Data Science Conference
URL:http://www.wikicfp.com/cfp/servlet/event.showcfp?eventid=77574&copyow
 nerid=139882
UID:cfp766548-E@wikicfp.com
END:VEVENT
BEGIN:VEVENT
DTSTAMP:20260424T090224Z
DTSTART;VALUE=DATE:20190125
SUMMARY:iDSC 2019 Deadline
DESCRIPTION:2nd International Data Science Conference
URL:http://www.wikicfp.com/cfp/servlet/event.showcfp?eventid=77574&copyow
 nerid=139882
UID:cfp766548-D@wikicfp.com
END:VEVENT
BEGIN:VEVENT
DTSTAMP:20260424T090224Z
DTSTART;VALUE=DATE:20190224
SUMMARY:iDSC 2019 Notification Due
DESCRIPTION:2nd International Data Science Conference
URL:http://www.wikicfp.com/cfp/servlet/event.showcfp?eventid=77574&copyow
 nerid=139882
UID:cfp766548-N@wikicfp.com
END:VEVENT
BEGIN:VEVENT
DTSTAMP:20260424T090224Z
DTSTART;VALUE=DATE:20190317
SUMMARY:iDSC 2019 Final Version Due
DESCRIPTION:2nd International Data Science Conference
URL:http://www.wikicfp.com/cfp/servlet/event.showcfp?eventid=77574&copyow
 nerid=139882
UID:cfp766548-N@wikicfp.com
END:VEVENT
BEGIN:VEVENT
DTSTAMP:20260424T090224Z
DTSTART;VALUE=DATE:20190520
DTEND;VALUE=DATE:20190523
SUMMARY:CORES 2019
DESCRIPTION:11th International Conference on Computer Recognition Systems
  CORES 2019
URL:http://www.wikicfp.com/cfp/servlet/event.showcfp?eventid=77324&copyow
 nerid=139882
UID:cfp766550-E@wikicfp.com
END:VEVENT
BEGIN:VEVENT
DTSTAMP:20260424T090224Z
DTSTART;VALUE=DATE:20190203
SUMMARY:CORES 2019 Deadline
DESCRIPTION:11th International Conference on Computer Recognition Systems
  CORES 2019
URL:http://www.wikicfp.com/cfp/servlet/event.showcfp?eventid=77324&copyow
 nerid=139882
UID:cfp766550-D@wikicfp.com
END:VEVENT
BEGIN:VEVENT
DTSTAMP:20260424T090224Z
DTSTART;VALUE=DATE:20190221
SUMMARY:CORES 2019 Notification Due
DESCRIPTION:11th International Conference on Computer Recognition Systems
  CORES 2019
URL:http://www.wikicfp.com/cfp/servlet/event.showcfp?eventid=77324&copyow
 nerid=139882
UID:cfp766550-N@wikicfp.com
END:VEVENT
BEGIN:VEVENT
DTSTAMP:20260424T090224Z
DTSTART;VALUE=DATE:20190305
SUMMARY:CORES 2019 Final Version Due
DESCRIPTION:11th International Conference on Computer Recognition Systems
  CORES 2019
URL:http://www.wikicfp.com/cfp/servlet/event.showcfp?eventid=77324&copyow
 nerid=139882
UID:cfp766550-N@wikicfp.com
END:VEVENT
BEGIN:VEVENT
DTSTAMP:20260424T090224Z
DTSTART;VALUE=DATE:20190912
DTEND;VALUE=DATE:20190917
SUMMARY:IBC Tech Papers 2019
DESCRIPTION:IBC2019 Call for Technical Papers
URL:http://www.wikicfp.com/cfp/servlet/event.showcfp?eventid=84494&copyow
 nerid=139882
UID:cfp766553-E@wikicfp.com
END:VEVENT
BEGIN:VEVENT
DTSTAMP:20260424T090224Z
DTSTART;VALUE=DATE:20190204
SUMMARY:IBC Tech Papers 2019 Deadline
DESCRIPTION:IBC2019 Call for Technical Papers
URL:http://www.wikicfp.com/cfp/servlet/event.showcfp?eventid=84494&copyow
 nerid=139882
UID:cfp766553-D@wikicfp.com
END:VEVENT
BEGIN:VEVENT
DTSTAMP:20260424T090224Z
DTSTART;VALUE=DATE:20190204
SUMMARY:IBC Tech Papers 2019 Notification Due
DESCRIPTION:IBC2019 Call for Technical Papers
URL:http://www.wikicfp.com/cfp/servlet/event.showcfp?eventid=84494&copyow
 nerid=139882
UID:cfp766553-N@wikicfp.com
END:VEVENT
BEGIN:VEVENT
DTSTAMP:20260424T090224Z
DTSTART;VALUE=DATE:20190204
SUMMARY:IBC Tech Papers 2019 Final Version Due
DESCRIPTION:IBC2019 Call for Technical Papers
URL:http://www.wikicfp.com/cfp/servlet/event.showcfp?eventid=84494&copyow
 nerid=139882
UID:cfp766553-N@wikicfp.com
END:VEVENT
BEGIN:VEVENT
DTSTAMP:20260424T090224Z
DTSTART;VALUE=DATE:20190703
DTEND;VALUE=DATE:20190706
SUMMARY:DSBFI 2019
DESCRIPTION:ISSAT International Conference on Data Science in Business\, 
 Finance and Industry
URL:http://www.wikicfp.com/cfp/servlet/event.showcfp?eventid=80618&copyow
 nerid=139882
UID:cfp766551-E@wikicfp.com
END:VEVENT
BEGIN:VEVENT
DTSTAMP:20260424T090224Z
DTSTART;VALUE=DATE:20190205
SUMMARY:DSBFI 2019 Deadline
DESCRIPTION:ISSAT International Conference on Data Science in Business\, 
 Finance and Industry
URL:http://www.wikicfp.com/cfp/servlet/event.showcfp?eventid=80618&copyow
 nerid=139882
UID:cfp766551-D@wikicfp.com
END:VEVENT
BEGIN:VEVENT
DTSTAMP:20260424T090224Z
DTSTART;VALUE=DATE:20190315
SUMMARY:DSBFI 2019 Notification Due
DESCRIPTION:ISSAT International Conference on Data Science in Business\, 
 Finance and Industry
URL:http://www.wikicfp.com/cfp/servlet/event.showcfp?eventid=80618&copyow
 nerid=139882
UID:cfp766551-N@wikicfp.com
END:VEVENT
BEGIN:VEVENT
DTSTAMP:20260424T090224Z
DTSTART;VALUE=DATE:20190415
SUMMARY:DSBFI 2019 Final Version Due
DESCRIPTION:ISSAT International Conference on Data Science in Business\, 
 Finance and Industry
URL:http://www.wikicfp.com/cfp/servlet/event.showcfp?eventid=80618&copyow
 nerid=139882
UID:cfp766551-N@wikicfp.com
END:VEVENT
BEGIN:VEVENT
DTSTAMP:20260424T090224Z
DTSTART;VALUE=DATE:20190617
DTEND;VALUE=DATE:20190621
SUMMARY:CGI 2019
DESCRIPTION:Computer Graphics International 
URL:http://www.wikicfp.com/cfp/servlet/event.showcfp?eventid=82288&copyow
 nerid=139882
UID:cfp766552-E@wikicfp.com
END:VEVENT
BEGIN:VEVENT
DTSTAMP:20260424T090224Z
DTSTART;VALUE=DATE:20190212
SUMMARY:CGI 2019 Deadline
DESCRIPTION:Computer Graphics International 
URL:http://www.wikicfp.com/cfp/servlet/event.showcfp?eventid=82288&copyow
 nerid=139882
UID:cfp766552-D@wikicfp.com
END:VEVENT
BEGIN:VEVENT
DTSTAMP:20260424T090224Z
DTSTART;VALUE=DATE:20190324
SUMMARY:CGI 2019 Notification Due
DESCRIPTION:Computer Graphics International 
URL:http://www.wikicfp.com/cfp/servlet/event.showcfp?eventid=82288&copyow
 nerid=139882
UID:cfp766552-N@wikicfp.com
END:VEVENT
BEGIN:VEVENT
DTSTAMP:20260424T090224Z
DTSTART;VALUE=DATE:20190407
SUMMARY:CGI 2019 Final Version Due
DESCRIPTION:Computer Graphics International 
URL:http://www.wikicfp.com/cfp/servlet/event.showcfp?eventid=82288&copyow
 nerid=139882
UID:cfp766552-N@wikicfp.com
END:VEVENT
BEGIN:VEVENT
DTSTAMP:20260424T090224Z
DTSTART;VALUE=DATE:20190322
DTEND;VALUE=DATE:20190326
SUMMARY:Scopus-PRIS 2019
DESCRIPTION:2019 International Conference on Pattern Recognition and Inte
 lligent Systems (PRIS 2019)
URL:http://www.wikicfp.com/cfp/servlet/event.showcfp?eventid=79773&copyow
 nerid=139882
UID:cfp766718-E@wikicfp.com
END:VEVENT
BEGIN:VEVENT
DTSTAMP:20260424T090224Z
DTSTART;VALUE=DATE:20190215
SUMMARY:Scopus-PRIS 2019 Deadline
DESCRIPTION:2019 International Conference on Pattern Recognition and Inte
 lligent Systems (PRIS 2019)
URL:http://www.wikicfp.com/cfp/servlet/event.showcfp?eventid=79773&copyow
 nerid=139882
UID:cfp766718-D@wikicfp.com
END:VEVENT
BEGIN:VEVENT
DTSTAMP:20260424T090224Z
DTSTART;VALUE=DATE:20190612
DTEND;VALUE=DATE:20190615
SUMMARY:SmartSys 2019
DESCRIPTION:Smart Systems: bringing together computer vision\, sensor net
 works and machine learning
URL:http://www.wikicfp.com/cfp/servlet/event.showcfp?eventid=80513&copyow
 nerid=139882
UID:cfp766719-E@wikicfp.com
END:VEVENT
BEGIN:VEVENT
DTSTAMP:20260424T090224Z
DTSTART;VALUE=DATE:20190217
SUMMARY:SmartSys 2019 Deadline
DESCRIPTION:Smart Systems: bringing together computer vision\, sensor net
 works and machine learning
URL:http://www.wikicfp.com/cfp/servlet/event.showcfp?eventid=80513&copyow
 nerid=139882
UID:cfp766719-D@wikicfp.com
END:VEVENT
BEGIN:VEVENT
DTSTAMP:20260424T090224Z
DTSTART;VALUE=DATE:20190315
SUMMARY:SmartSys 2019 Notification Due
DESCRIPTION:Smart Systems: bringing together computer vision\, sensor net
 works and machine learning
URL:http://www.wikicfp.com/cfp/servlet/event.showcfp?eventid=80513&copyow
 nerid=139882
UID:cfp766719-N@wikicfp.com
END:VEVENT
BEGIN:VEVENT
DTSTAMP:20260424T090224Z
DTSTART;VALUE=DATE:20190405
SUMMARY:SmartSys 2019 Final Version Due
DESCRIPTION:Smart Systems: bringing together computer vision\, sensor net
 works and machine learning
URL:http://www.wikicfp.com/cfp/servlet/event.showcfp?eventid=80513&copyow
 nerid=139882
UID:cfp766719-N@wikicfp.com
END:VEVENT
BEGIN:VEVENT
DTSTAMP:20260424T090224Z
DTSTART;VALUE=DATE:20190902
DTEND;VALUE=DATE:20190906
SUMMARY:CAIP 2019
DESCRIPTION:Computer Analysis of Images and Patterns
URL:http://www.wikicfp.com/cfp/servlet/event.showcfp?eventid=79113&copyow
 nerid=139882
UID:cfp766722-E@wikicfp.com
END:VEVENT
BEGIN:VEVENT
DTSTAMP:20260424T090224Z
DTSTART;VALUE=DATE:20190401
SUMMARY:CAIP 2019 Deadline
DESCRIPTION:Computer Analysis of Images and Patterns
URL:http://www.wikicfp.com/cfp/servlet/event.showcfp?eventid=79113&copyow
 nerid=139882
UID:cfp766722-D@wikicfp.com
END:VEVENT
BEGIN:VEVENT
DTSTAMP:20260424T090224Z
DTSTART;VALUE=DATE:20190524
SUMMARY:CAIP 2019 Notification Due
DESCRIPTION:Computer Analysis of Images and Patterns
URL:http://www.wikicfp.com/cfp/servlet/event.showcfp?eventid=79113&copyow
 nerid=139882
UID:cfp766722-N@wikicfp.com
END:VEVENT
BEGIN:VEVENT
DTSTAMP:20260424T090224Z
DTSTART;VALUE=DATE:20190614
SUMMARY:CAIP 2019 Final Version Due
DESCRIPTION:Computer Analysis of Images and Patterns
URL:http://www.wikicfp.com/cfp/servlet/event.showcfp?eventid=79113&copyow
 nerid=139882
UID:cfp766722-N@wikicfp.com
END:VEVENT
BEGIN:VEVENT
DTSTAMP:20260424T090224Z
DTSTART;VALUE=DATE:20190916
DTEND;VALUE=DATE:20190921
SUMMARY:ECML PKDD 2019
DESCRIPTION:Joint Call for Papers for the Research and ADS tracks\, ECML 
 PKDD 2019
URL:http://www.wikicfp.com/cfp/servlet/event.showcfp?eventid=84495&copyow
 nerid=139882
UID:cfp766725-E@wikicfp.com
END:VEVENT
BEGIN:VEVENT
DTSTAMP:20260424T090224Z
DTSTART;VALUE=DATE:20190329
SUMMARY:ECML PKDD 2019 Abstract Due
DESCRIPTION:Joint Call for Papers for the Research and ADS tracks\, ECML 
 PKDD 2019
URL:http://www.wikicfp.com/cfp/servlet/event.showcfp?eventid=84495&copyow
 nerid=139882
UID:cfp766725-A@wikicfp.com
END:VEVENT
BEGIN:VEVENT
DTSTAMP:20260424T090224Z
DTSTART;VALUE=DATE:20190405
SUMMARY:ECML PKDD 2019 Deadline
DESCRIPTION:Joint Call for Papers for the Research and ADS tracks\, ECML 
 PKDD 2019
URL:http://www.wikicfp.com/cfp/servlet/event.showcfp?eventid=84495&copyow
 nerid=139882
UID:cfp766725-D@wikicfp.com
END:VEVENT
BEGIN:VEVENT
DTSTAMP:20260424T090224Z
DTSTART;VALUE=DATE:20190607
SUMMARY:ECML PKDD 2019 Notification Due
DESCRIPTION:Joint Call for Papers for the Research and ADS tracks\, ECML 
 PKDD 2019
URL:http://www.wikicfp.com/cfp/servlet/event.showcfp?eventid=84495&copyow
 nerid=139882
UID:cfp766725-N@wikicfp.com
END:VEVENT
BEGIN:VEVENT
DTSTAMP:20260424T090224Z
DTSTART;VALUE=DATE:20190728
SUMMARY:ECML PKDD 2019 Final Version Due
DESCRIPTION:Joint Call for Papers for the Research and ADS tracks\, ECML 
 PKDD 2019
URL:http://www.wikicfp.com/cfp/servlet/event.showcfp?eventid=84495&copyow
 nerid=139882
UID:cfp766725-N@wikicfp.com
END:VEVENT
BEGIN:VEVENT
DTSTAMP:20260424T090224Z
DTSTART;VALUE=DATE:20190910
DTEND;VALUE=DATE:20190914
SUMMARY:GCPR 2019
DESCRIPTION:German Conference on Pattern Recognition
URL:http://www.wikicfp.com/cfp/servlet/event.showcfp?eventid=84775&copyow
 nerid=139882
UID:cfp766726-E@wikicfp.com
END:VEVENT
BEGIN:VEVENT
DTSTAMP:20260424T090224Z
DTSTART;VALUE=DATE:20190505
SUMMARY:GCPR 2019 Deadline
DESCRIPTION:German Conference on Pattern Recognition
URL:http://www.wikicfp.com/cfp/servlet/event.showcfp?eventid=84775&copyow
 nerid=139882
UID:cfp766726-D@wikicfp.com
END:VEVENT
BEGIN:VEVENT
DTSTAMP:20260424T090224Z
DTSTART;VALUE=DATE:20190708
SUMMARY:GCPR 2019 Notification Due
DESCRIPTION:German Conference on Pattern Recognition
URL:http://www.wikicfp.com/cfp/servlet/event.showcfp?eventid=84775&copyow
 nerid=139882
UID:cfp766726-N@wikicfp.com
END:VEVENT
BEGIN:VEVENT
DTSTAMP:20260424T090224Z
DTSTART;VALUE=DATE:20190804
SUMMARY:GCPR 2019 Final Version Due
DESCRIPTION:German Conference on Pattern Recognition
URL:http://www.wikicfp.com/cfp/servlet/event.showcfp?eventid=84775&copyow
 nerid=139882
UID:cfp766726-N@wikicfp.com
END:VEVENT
BEGIN:VEVENT
DTSTAMP:20260424T090224Z
DTSTART;VALUE=DATE:20190912
DTEND;VALUE=DATE:20190915
SUMMARY:SISY 2019
DESCRIPTION:IEEE 17th International Symposium on Intelligent Systems and 
 Informatics
URL:http://www.wikicfp.com/cfp/servlet/event.showcfp?eventid=83621&copyow
 nerid=139882
UID:cfp766723-E@wikicfp.com
END:VEVENT
BEGIN:VEVENT
DTSTAMP:20260424T090224Z
DTSTART;VALUE=DATE:20190509
SUMMARY:SISY 2019 Deadline
DESCRIPTION:IEEE 17th International Symposium on Intelligent Systems and 
 Informatics
URL:http://www.wikicfp.com/cfp/servlet/event.showcfp?eventid=83621&copyow
 nerid=139882
UID:cfp766723-D@wikicfp.com
END:VEVENT
BEGIN:VEVENT
DTSTAMP:20260424T090224Z
DTSTART;VALUE=DATE:20190620
SUMMARY:SISY 2019 Notification Due
DESCRIPTION:IEEE 17th International Symposium on Intelligent Systems and 
 Informatics
URL:http://www.wikicfp.com/cfp/servlet/event.showcfp?eventid=83621&copyow
 nerid=139882
UID:cfp766723-N@wikicfp.com
END:VEVENT
BEGIN:VEVENT
DTSTAMP:20260424T090224Z
DTSTART;VALUE=DATE:20190801
SUMMARY:SISY 2019 Final Version Due
DESCRIPTION:IEEE 17th International Symposium on Intelligent Systems and 
 Informatics
URL:http://www.wikicfp.com/cfp/servlet/event.showcfp?eventid=83621&copyow
 nerid=139882
UID:cfp766723-N@wikicfp.com
END:VEVENT
BEGIN:VEVENT
DTSTAMP:20260424T090224Z
DTSTART;VALUE=DATE:20190923
DTEND;VALUE=DATE:20190927
SUMMARY:KI 2019
DESCRIPTION:42nd German Conference on Artificial Intelligence
URL:http://www.wikicfp.com/cfp/servlet/event.showcfp?eventid=83657&copyow
 nerid=139882
UID:cfp766730-E@wikicfp.com
END:VEVENT
BEGIN:VEVENT
DTSTAMP:20260424T090224Z
DTSTART;VALUE=DATE:20190512
SUMMARY:KI 2019 Abstract Due
DESCRIPTION:42nd German Conference on Artificial Intelligence
URL:http://www.wikicfp.com/cfp/servlet/event.showcfp?eventid=83657&copyow
 nerid=139882
UID:cfp766730-A@wikicfp.com
END:VEVENT
BEGIN:VEVENT
DTSTAMP:20260424T090224Z
DTSTART;VALUE=DATE:20190517
SUMMARY:KI 2019 Deadline
DESCRIPTION:42nd German Conference on Artificial Intelligence
URL:http://www.wikicfp.com/cfp/servlet/event.showcfp?eventid=83657&copyow
 nerid=139882
UID:cfp766730-D@wikicfp.com
END:VEVENT
BEGIN:VEVENT
DTSTAMP:20260424T090224Z
DTSTART;VALUE=DATE:20190628
SUMMARY:KI 2019 Notification Due
DESCRIPTION:42nd German Conference on Artificial Intelligence
URL:http://www.wikicfp.com/cfp/servlet/event.showcfp?eventid=83657&copyow
 nerid=139882
UID:cfp766730-N@wikicfp.com
END:VEVENT
BEGIN:VEVENT
DTSTAMP:20260424T090224Z
DTSTART;VALUE=DATE:20190712
SUMMARY:KI 2019 Final Version Due
DESCRIPTION:42nd German Conference on Artificial Intelligence
URL:http://www.wikicfp.com/cfp/servlet/event.showcfp?eventid=83657&copyow
 nerid=139882
UID:cfp766730-N@wikicfp.com
END:VEVENT
BEGIN:VEVENT
DTSTAMP:20260424T090224Z
DTSTART;VALUE=DATE:20190923
DTEND;VALUE=DATE:20190926
SUMMARY:ISPA 2019
DESCRIPTION:11th Int'l Symposium on Image and Signal Processing
URL:http://www.wikicfp.com/cfp/servlet/event.showcfp?eventid=83843&copyow
 nerid=139882
UID:cfp766731-E@wikicfp.com
END:VEVENT
BEGIN:VEVENT
DTSTAMP:20260424T090224Z
DTSTART;VALUE=DATE:20190525
SUMMARY:ISPA 2019 Deadline
DESCRIPTION:11th Int'l Symposium on Image and Signal Processing
URL:http://www.wikicfp.com/cfp/servlet/event.showcfp?eventid=83843&copyow
 nerid=139882
UID:cfp766731-D@wikicfp.com
END:VEVENT
BEGIN:VEVENT
DTSTAMP:20260424T090224Z
DTSTART;VALUE=DATE:20190706
SUMMARY:ISPA 2019 Notification Due
DESCRIPTION:11th Int'l Symposium on Image and Signal Processing
URL:http://www.wikicfp.com/cfp/servlet/event.showcfp?eventid=83843&copyow
 nerid=139882
UID:cfp766731-N@wikicfp.com
END:VEVENT
BEGIN:VEVENT
DTSTAMP:20260424T090224Z
DTSTART;VALUE=DATE:20190712
SUMMARY:ISPA 2019 Final Version Due
DESCRIPTION:11th Int'l Symposium on Image and Signal Processing
URL:http://www.wikicfp.com/cfp/servlet/event.showcfp?eventid=83843&copyow
 nerid=139882
UID:cfp766731-N@wikicfp.com
END:VEVENT
BEGIN:VEVENT
DTSTAMP:20260424T090224Z
DTSTART;VALUE=DATE:20200410
DTEND;VALUE=DATE:20200413
SUMMARY:COMML 2020
DESCRIPTION:International Conference on Optimization\, Metaheuristics and
  Machine Learning
URL:http://www.wikicfp.com/cfp/servlet/event.showcfp?eventid=80809&copyow
 nerid=139882
UID:cfp766727-E@wikicfp.com
END:VEVENT
BEGIN:VEVENT
DTSTAMP:20260424T090224Z
DTSTART;VALUE=DATE:20190531
SUMMARY:COMML 2020 Deadline
DESCRIPTION:International Conference on Optimization\, Metaheuristics and
  Machine Learning
URL:http://www.wikicfp.com/cfp/servlet/event.showcfp?eventid=80809&copyow
 nerid=139882
UID:cfp766727-D@wikicfp.com
END:VEVENT
BEGIN:VEVENT
DTSTAMP:20260424T090224Z
DTSTART;VALUE=DATE:20190831
SUMMARY:COMML 2020 Notification Due
DESCRIPTION:International Conference on Optimization\, Metaheuristics and
  Machine Learning
URL:http://www.wikicfp.com/cfp/servlet/event.showcfp?eventid=80809&copyow
 nerid=139882
UID:cfp766727-N@wikicfp.com
END:VEVENT
BEGIN:VEVENT
DTSTAMP:20260424T090224Z
DTSTART;VALUE=DATE:20191015
SUMMARY:COMML 2020 Final Version Due
DESCRIPTION:International Conference on Optimization\, Metaheuristics and
  Machine Learning
URL:http://www.wikicfp.com/cfp/servlet/event.showcfp?eventid=80809&copyow
 nerid=139882
UID:cfp766727-N@wikicfp.com
END:VEVENT
BEGIN:VEVENT
DTSTAMP:20260424T090224Z
DTSTART;VALUE=DATE:20190918
DTEND;VALUE=DATE:20190921
SUMMARY:MLMI--ACM\, Ei Compendex\, Scopus 2019
DESCRIPTION:ACM--2019 The 2nd International Conference on Machine Learnin
 g and Machine Intelligence (MLMI 2019)--Ei Compendex and Scopus
URL:http://www.wikicfp.com/cfp/servlet/event.showcfp?eventid=84342&copyow
 nerid=139882
UID:cfp766724-E@wikicfp.com
END:VEVENT
BEGIN:VEVENT
DTSTAMP:20260424T090224Z
DTSTART;VALUE=DATE:20190725
SUMMARY:MLMI--ACM\, Ei Compendex\, Scopus 2019 Deadline
DESCRIPTION:ACM--2019 The 2nd International Conference on Machine Learnin
 g and Machine Intelligence (MLMI 2019)--Ei Compendex and Scopus
URL:http://www.wikicfp.com/cfp/servlet/event.showcfp?eventid=84342&copyow
 nerid=139882
UID:cfp766724-D@wikicfp.com
END:VEVENT
BEGIN:VEVENT
DTSTAMP:20260424T090224Z
DTSTART;VALUE=DATE:20191216
DTEND;VALUE=DATE:20191220
SUMMARY:ICMLA 2019
DESCRIPTION:18th IEEE International Conference on Machine Learning and Ap
 plications
URL:http://www.wikicfp.com/cfp/servlet/event.showcfp?eventid=83617&copyow
 nerid=139882
UID:cfp766729-E@wikicfp.com
END:VEVENT
BEGIN:VEVENT
DTSTAMP:20260424T090224Z
DTSTART;VALUE=DATE:20190907
SUMMARY:ICMLA 2019 Deadline
DESCRIPTION:18th IEEE International Conference on Machine Learning and Ap
 plications
URL:http://www.wikicfp.com/cfp/servlet/event.showcfp?eventid=83617&copyow
 nerid=139882
UID:cfp766729-D@wikicfp.com
END:VEVENT
BEGIN:VEVENT
DTSTAMP:20260424T090224Z
DTSTART;VALUE=DATE:20191007
SUMMARY:ICMLA 2019 Notification Due
DESCRIPTION:18th IEEE International Conference on Machine Learning and Ap
 plications
URL:http://www.wikicfp.com/cfp/servlet/event.showcfp?eventid=83617&copyow
 nerid=139882
UID:cfp766729-N@wikicfp.com
END:VEVENT
BEGIN:VEVENT
DTSTAMP:20260424T090224Z
DTSTART;VALUE=DATE:20191017
SUMMARY:ICMLA 2019 Final Version Due
DESCRIPTION:18th IEEE International Conference on Machine Learning and Ap
 plications
URL:http://www.wikicfp.com/cfp/servlet/event.showcfp?eventid=83617&copyow
 nerid=139882
UID:cfp766729-N@wikicfp.com
END:VEVENT
BEGIN:VEVENT
DTSTAMP:20260424T090224Z
DTSTART;VALUE=DATE:20190930
SUMMARY:Biometrics 2019 Deadline
DESCRIPTION:Special Issue on Recent Advances in Biometrics and its Applic
 ations
URL:http://www.wikicfp.com/cfp/servlet/event.showcfp?eventid=82609&copyow
 nerid=139882
UID:cfp766728-D@wikicfp.com
END:VEVENT
BEGIN:VEVENT
DTSTAMP:20260424T090224Z
DTSTART;VALUE=DATE:20200417
DTEND;VALUE=DATE:20200420
SUMMARY:IWUAS 2020 2020
DESCRIPTION:2020 International Workshop on Unmanned Aircraft Systems (IWU
 AS 2020)
URL:http://www.wikicfp.com/cfp/servlet/event.showcfp?eventid=70040&copyow
 nerid=139882
UID:cfp766717-E@wikicfp.com
END:VEVENT
BEGIN:VEVENT
DTSTAMP:20260424T090224Z
DTSTART;VALUE=DATE:20191231
SUMMARY:IWUAS 2020 2020 Deadline
DESCRIPTION:2020 International Workshop on Unmanned Aircraft Systems (IWU
 AS 2020)
URL:http://www.wikicfp.com/cfp/servlet/event.showcfp?eventid=70040&copyow
 nerid=139882
UID:cfp766717-D@wikicfp.com
END:VEVENT
BEGIN:VEVENT
DTSTAMP:20260424T090224Z
DTSTART;VALUE=DATE:20200220
SUMMARY:IWUAS 2020 2020 Notification Due
DESCRIPTION:2020 International Workshop on Unmanned Aircraft Systems (IWU
 AS 2020)
URL:http://www.wikicfp.com/cfp/servlet/event.showcfp?eventid=70040&copyow
 nerid=139882
UID:cfp766717-N@wikicfp.com
END:VEVENT
BEGIN:VEVENT
DTSTAMP:20260424T090224Z
DTSTART;VALUE=DATE:20200220
SUMMARY:IWUAS 2020 2020 Final Version Due
DESCRIPTION:2020 International Workshop on Unmanned Aircraft Systems (IWU
 AS 2020)
URL:http://www.wikicfp.com/cfp/servlet/event.showcfp?eventid=70040&copyow
 nerid=139882
UID:cfp766717-N@wikicfp.com
END:VEVENT
END:VCALENDAR
