BEGIN:VCALENDAR
PRODID:-//WikiCFP//riza_on 1.0//EN
VERSION:2.0
CALSCALE:GREGORIAN
BEGIN:VEVENT
DTSTAMP:20260422T125525Z
DTSTART;VALUE=DATE:20190225
DTEND;VALUE=DATE:20190301
SUMMARY:FAST 2019
DESCRIPTION:17th USENIX Conference on File and Storage Technologies
URL:http://www.wikicfp.com/cfp/servlet/event.showcfp?eventid=73763&copyow
 nerid=138890
UID:cfp764355-E@wikicfp.com
END:VEVENT
BEGIN:VEVENT
DTSTAMP:20260422T125525Z
DTSTART;VALUE=DATE:20180926
SUMMARY:FAST 2019 Deadline
DESCRIPTION:17th USENIX Conference on File and Storage Technologies
URL:http://www.wikicfp.com/cfp/servlet/event.showcfp?eventid=73763&copyow
 nerid=138890
UID:cfp764355-D@wikicfp.com
END:VEVENT
BEGIN:VEVENT
DTSTAMP:20260422T125525Z
DTSTART;VALUE=DATE:20181211
SUMMARY:FAST 2019 Notification Due
DESCRIPTION:17th USENIX Conference on File and Storage Technologies
URL:http://www.wikicfp.com/cfp/servlet/event.showcfp?eventid=73763&copyow
 nerid=138890
UID:cfp764355-N@wikicfp.com
END:VEVENT
BEGIN:VEVENT
DTSTAMP:20260422T125525Z
DTSTART;VALUE=DATE:20190124
SUMMARY:FAST 2019 Final Version Due
DESCRIPTION:17th USENIX Conference on File and Storage Technologies
URL:http://www.wikicfp.com/cfp/servlet/event.showcfp?eventid=73763&copyow
 nerid=138890
UID:cfp764355-N@wikicfp.com
END:VEVENT
BEGIN:VEVENT
DTSTAMP:20260422T125525Z
DTSTART;VALUE=DATE:20190325
DTEND;VALUE=DATE:20190329
SUMMARY:EuroSys 2019
DESCRIPTION:European Conference on Computer Systems
URL:http://www.wikicfp.com/cfp/servlet/event.showcfp?eventid=75808&copyow
 nerid=138890
UID:cfp764356-E@wikicfp.com
END:VEVENT
BEGIN:VEVENT
DTSTAMP:20260422T125525Z
DTSTART;VALUE=DATE:20180924
SUMMARY:EuroSys 2019 Abstract Due
DESCRIPTION:European Conference on Computer Systems
URL:http://www.wikicfp.com/cfp/servlet/event.showcfp?eventid=75808&copyow
 nerid=138890
UID:cfp764356-A@wikicfp.com
END:VEVENT
BEGIN:VEVENT
DTSTAMP:20260422T125525Z
DTSTART;VALUE=DATE:20181001
SUMMARY:EuroSys 2019 Deadline
DESCRIPTION:European Conference on Computer Systems
URL:http://www.wikicfp.com/cfp/servlet/event.showcfp?eventid=75808&copyow
 nerid=138890
UID:cfp764356-D@wikicfp.com
END:VEVENT
BEGIN:VEVENT
DTSTAMP:20260422T125525Z
DTSTART;VALUE=DATE:20181221
SUMMARY:EuroSys 2019 Notification Due
DESCRIPTION:European Conference on Computer Systems
URL:http://www.wikicfp.com/cfp/servlet/event.showcfp?eventid=75808&copyow
 nerid=138890
UID:cfp764356-N@wikicfp.com
END:VEVENT
BEGIN:VEVENT
DTSTAMP:20260422T125525Z
DTSTART;VALUE=DATE:20190710
DTEND;VALUE=DATE:20190713
SUMMARY:USENIX ATC 2019
DESCRIPTION:2019 USENIX Annual Technical Conference
URL:http://www.wikicfp.com/cfp/servlet/event.showcfp?eventid=81337&copyow
 nerid=138890
UID:cfp764357-E@wikicfp.com
END:VEVENT
BEGIN:VEVENT
DTSTAMP:20260422T125525Z
DTSTART;VALUE=DATE:20190110
SUMMARY:USENIX ATC 2019 Deadline
DESCRIPTION:2019 USENIX Annual Technical Conference
URL:http://www.wikicfp.com/cfp/servlet/event.showcfp?eventid=81337&copyow
 nerid=138890
UID:cfp764357-D@wikicfp.com
END:VEVENT
BEGIN:VEVENT
DTSTAMP:20260422T125525Z
DTSTART;VALUE=DATE:20190416
SUMMARY:USENIX ATC 2019 Notification Due
DESCRIPTION:2019 USENIX Annual Technical Conference
URL:http://www.wikicfp.com/cfp/servlet/event.showcfp?eventid=81337&copyow
 nerid=138890
UID:cfp764357-N@wikicfp.com
END:VEVENT
BEGIN:VEVENT
DTSTAMP:20260422T125525Z
DTSTART;VALUE=DATE:20190530
SUMMARY:USENIX ATC 2019 Final Version Due
DESCRIPTION:2019 USENIX Annual Technical Conference
URL:http://www.wikicfp.com/cfp/servlet/event.showcfp?eventid=81337&copyow
 nerid=138890
UID:cfp764357-N@wikicfp.com
END:VEVENT
BEGIN:VEVENT
DTSTAMP:20260422T125525Z
DTSTART;VALUE=DATE:20191027
DTEND;VALUE=DATE:20191031
SUMMARY:SOSP 2019
DESCRIPTION:The 27th ACM Symposium on Operating Systems Principles
URL:http://www.wikicfp.com/cfp/servlet/event.showcfp?eventid=83728&copyow
 nerid=138890
UID:cfp764359-E@wikicfp.com
END:VEVENT
BEGIN:VEVENT
DTSTAMP:20260422T125525Z
DTSTART;VALUE=DATE:20190417
SUMMARY:SOSP 2019 Abstract Due
DESCRIPTION:The 27th ACM Symposium on Operating Systems Principles
URL:http://www.wikicfp.com/cfp/servlet/event.showcfp?eventid=83728&copyow
 nerid=138890
UID:cfp764359-A@wikicfp.com
END:VEVENT
BEGIN:VEVENT
DTSTAMP:20260422T125525Z
DTSTART;VALUE=DATE:20190424
SUMMARY:SOSP 2019 Deadline
DESCRIPTION:The 27th ACM Symposium on Operating Systems Principles
URL:http://www.wikicfp.com/cfp/servlet/event.showcfp?eventid=83728&copyow
 nerid=138890
UID:cfp764359-D@wikicfp.com
END:VEVENT
END:VCALENDAR
