BEGIN:VCALENDAR
PRODID:-//WikiCFP//Mebin 1.0//EN
VERSION:2.0
CALSCALE:GREGORIAN
BEGIN:VEVENT
DTSTAMP:20260421T085419Z
DTSTART;VALUE=DATE:20110411
DTEND;VALUE=DATE:20110416
SUMMARY:SIS 2011
DESCRIPTION:2011 IEEE Symposium on Swarm Intelligence
URL:http://www.wikicfp.com/cfp/servlet/event.showcfp?eventid=9933&copyown
 erid=13756
UID:cfp96404-E@wikicfp.com
END:VEVENT
BEGIN:VEVENT
DTSTAMP:20260421T085419Z
DTSTART;VALUE=DATE:20101031
SUMMARY:SIS 2011 Deadline
DESCRIPTION:2011 IEEE Symposium on Swarm Intelligence
URL:http://www.wikicfp.com/cfp/servlet/event.showcfp?eventid=9933&copyown
 erid=13756
UID:cfp96404-D@wikicfp.com
END:VEVENT
BEGIN:VEVENT
DTSTAMP:20260421T085419Z
DTSTART;VALUE=DATE:20101215
SUMMARY:SIS 2011 Notification Due
DESCRIPTION:2011 IEEE Symposium on Swarm Intelligence
URL:http://www.wikicfp.com/cfp/servlet/event.showcfp?eventid=9933&copyown
 erid=13756
UID:cfp96404-N@wikicfp.com
END:VEVENT
BEGIN:VEVENT
DTSTAMP:20260421T085419Z
DTSTART;VALUE=DATE:20110115
SUMMARY:SIS 2011 Final Version Due
DESCRIPTION:2011 IEEE Symposium on Swarm Intelligence
URL:http://www.wikicfp.com/cfp/servlet/event.showcfp?eventid=9933&copyown
 erid=13756
UID:cfp96404-N@wikicfp.com
END:VEVENT
END:VCALENDAR
