BEGIN:VCALENDAR
PRODID:-//WikiCFP//zhoujiangus 1.0//EN
VERSION:2.0
CALSCALE:GREGORIAN
BEGIN:VEVENT
DTSTAMP:20260424T184923Z
DTSTART;VALUE=DATE:20190805
DTEND;VALUE=DATE:20190809
SUMMARY:P2S2 2019
DESCRIPTION:The Twelfth International Workshop on Parallel Programming Mo
 dels and Systems Software for High-End Computing
URL:http://www.wikicfp.com/cfp/servlet/event.showcfp?eventid=84048&copyow
 nerid=137346
UID:cfp761985-E@wikicfp.com
END:VEVENT
BEGIN:VEVENT
DTSTAMP:20260424T184923Z
DTSTART;VALUE=DATE:20190419
SUMMARY:P2S2 2019 Deadline
DESCRIPTION:The Twelfth International Workshop on Parallel Programming Mo
 dels and Systems Software for High-End Computing
URL:http://www.wikicfp.com/cfp/servlet/event.showcfp?eventid=84048&copyow
 nerid=137346
UID:cfp761985-D@wikicfp.com
END:VEVENT
END:VCALENDAR
