BEGIN:VCALENDAR
PRODID:-//WikiCFP//faisal786 1.0//EN
VERSION:2.0
CALSCALE:GREGORIAN
BEGIN:VEVENT
DTSTAMP:20260425T190034Z
DTSTART;VALUE=DATE:20190922
DTEND;VALUE=DATE:20190926
SUMMARY:ICIP 2019
DESCRIPTION:International Conference on Image Processing
URL:http://www.wikicfp.com/cfp/servlet/event.showcfp?eventid=79713&copyow
 nerid=135330
UID:cfp759423-E@wikicfp.com
END:VEVENT
BEGIN:VEVENT
DTSTAMP:20260425T190034Z
DTSTART;VALUE=DATE:20190131
SUMMARY:ICIP 2019 Deadline
DESCRIPTION:International Conference on Image Processing
URL:http://www.wikicfp.com/cfp/servlet/event.showcfp?eventid=79713&copyow
 nerid=135330
UID:cfp759423-D@wikicfp.com
END:VEVENT
BEGIN:VEVENT
DTSTAMP:20260425T190034Z
DTSTART;VALUE=DATE:20190430
SUMMARY:ICIP 2019 Notification Due
DESCRIPTION:International Conference on Image Processing
URL:http://www.wikicfp.com/cfp/servlet/event.showcfp?eventid=79713&copyow
 nerid=135330
UID:cfp759423-N@wikicfp.com
END:VEVENT
END:VCALENDAR
