BEGIN:VCALENDAR
PRODID:-//WikiCFP//francesco_gargiulo 1.0//EN
VERSION:2.0
CALSCALE:GREGORIAN
BEGIN:VEVENT
DTSTAMP:20260420T160324Z
DTSTART;VALUE=DATE:20190705
DTEND;VALUE=DATE:20190708
SUMMARY:AI4H:B2E 2019
DESCRIPTION:IEEE Special Track on AI for Healthcare: from black box to ex
 plainable models (AI4H:B2E 2019)
URL:http://www.wikicfp.com/cfp/servlet/event.showcfp?eventid=82818&copyow
 nerid=134052
UID:cfp755557-E@wikicfp.com
END:VEVENT
BEGIN:VEVENT
DTSTAMP:20260420T160324Z
DTSTART;VALUE=DATE:20190114
SUMMARY:AI4H:B2E 2019 Deadline
DESCRIPTION:IEEE Special Track on AI for Healthcare: from black box to ex
 plainable models (AI4H:B2E 2019)
URL:http://www.wikicfp.com/cfp/servlet/event.showcfp?eventid=82818&copyow
 nerid=134052
UID:cfp755557-D@wikicfp.com
END:VEVENT
BEGIN:VEVENT
DTSTAMP:20260420T160324Z
DTSTART;VALUE=DATE:20190301
SUMMARY:AI4H:B2E 2019 Notification Due
DESCRIPTION:IEEE Special Track on AI for Healthcare: from black box to ex
 plainable models (AI4H:B2E 2019)
URL:http://www.wikicfp.com/cfp/servlet/event.showcfp?eventid=82818&copyow
 nerid=134052
UID:cfp755557-N@wikicfp.com
END:VEVENT
BEGIN:VEVENT
DTSTAMP:20260420T160324Z
DTSTART;VALUE=DATE:20190315
SUMMARY:AI4H:B2E 2019 Final Version Due
DESCRIPTION:IEEE Special Track on AI for Healthcare: from black box to ex
 plainable models (AI4H:B2E 2019)
URL:http://www.wikicfp.com/cfp/servlet/event.showcfp?eventid=82818&copyow
 nerid=134052
UID:cfp755557-N@wikicfp.com
END:VEVENT
BEGIN:VEVENT
DTSTAMP:20260420T160324Z
DTSTART;VALUE=DATE:20190605
DTEND;VALUE=DATE:20190608
SUMMARY:IEEE AI4H:B2E 2019
DESCRIPTION:Call for Papers: IEEE AI4H:B2E 2019 Special Track within IEEE
  CBMS\, June 05-07 2019\, CÃ³rdoba\, Spain (with Best Paper Award)
URL:http://www.wikicfp.com/cfp/servlet/event.showcfp?eventid=83428&copyow
 nerid=134052
UID:cfp759740-E@wikicfp.com
END:VEVENT
BEGIN:VEVENT
DTSTAMP:20260420T160324Z
DTSTART;VALUE=DATE:20190114
SUMMARY:IEEE AI4H:B2E 2019 Deadline
DESCRIPTION:Call for Papers: IEEE AI4H:B2E 2019 Special Track within IEEE
  CBMS\, June 05-07 2019\, CÃ³rdoba\, Spain (with Best Paper Award)
URL:http://www.wikicfp.com/cfp/servlet/event.showcfp?eventid=83428&copyow
 nerid=134052
UID:cfp759740-D@wikicfp.com
END:VEVENT
BEGIN:VEVENT
DTSTAMP:20260420T160324Z
DTSTART;VALUE=DATE:20190301
SUMMARY:IEEE AI4H:B2E 2019 Notification Due
DESCRIPTION:Call for Papers: IEEE AI4H:B2E 2019 Special Track within IEEE
  CBMS\, June 05-07 2019\, CÃ³rdoba\, Spain (with Best Paper Award)
URL:http://www.wikicfp.com/cfp/servlet/event.showcfp?eventid=83428&copyow
 nerid=134052
UID:cfp759740-N@wikicfp.com
END:VEVENT
BEGIN:VEVENT
DTSTAMP:20260420T160324Z
DTSTART;VALUE=DATE:20190315
SUMMARY:IEEE AI4H:B2E 2019 Final Version Due
DESCRIPTION:Call for Papers: IEEE AI4H:B2E 2019 Special Track within IEEE
  CBMS\, June 05-07 2019\, CÃ³rdoba\, Spain (with Best Paper Award)
URL:http://www.wikicfp.com/cfp/servlet/event.showcfp?eventid=83428&copyow
 nerid=134052
UID:cfp759740-N@wikicfp.com
END:VEVENT
BEGIN:VEVENT
DTSTAMP:20260420T160324Z
DTSTART;VALUE=DATE:20210915
SUMMARY:MDPI-SI-BDHA 2021 Deadline
DESCRIPTION:Call for Papers: Special Issue âBig Data for eHealth Applic
 ationsâ (MDPI Applied Sciences\, IF 2.474 â Indexed on Scopus\, Web 
 of Science)
URL:http://www.wikicfp.com/cfp/servlet/event.showcfp?eventid=119519&copyo
 wnerid=134052
UID:cfp864274-D@wikicfp.com
END:VEVENT
END:VCALENDAR
