BEGIN:VCALENDAR
PRODID:-//WikiCFP//paulingbl 1.0//EN
VERSION:2.0
CALSCALE:GREGORIAN
BEGIN:VEVENT
DTSTAMP:20260424T060029Z
DTSTART;VALUE=DATE:20190612
DTEND;VALUE=DATE:20190615
SUMMARY:COMS 2019
DESCRIPTION:The 10th Workshop on Computational Optimization\, Modelling a
 nd Simulation 
URL:http://www.wikicfp.com/cfp/servlet/event.showcfp?eventid=78100&copyow
 nerid=133427
UID:cfp754557-E@wikicfp.com
END:VEVENT
BEGIN:VEVENT
DTSTAMP:20260424T060029Z
DTSTART;VALUE=DATE:20181215
SUMMARY:COMS 2019 Deadline
DESCRIPTION:The 10th Workshop on Computational Optimization\, Modelling a
 nd Simulation 
URL:http://www.wikicfp.com/cfp/servlet/event.showcfp?eventid=78100&copyow
 nerid=133427
UID:cfp754557-D@wikicfp.com
END:VEVENT
BEGIN:VEVENT
DTSTAMP:20260424T060029Z
DTSTART;VALUE=DATE:20190215
SUMMARY:COMS 2019 Notification Due
DESCRIPTION:The 10th Workshop on Computational Optimization\, Modelling a
 nd Simulation 
URL:http://www.wikicfp.com/cfp/servlet/event.showcfp?eventid=78100&copyow
 nerid=133427
UID:cfp754557-N@wikicfp.com
END:VEVENT
BEGIN:VEVENT
DTSTAMP:20260424T060029Z
DTSTART;VALUE=DATE:20190301
SUMMARY:COMS 2019 Final Version Due
DESCRIPTION:The 10th Workshop on Computational Optimization\, Modelling a
 nd Simulation 
URL:http://www.wikicfp.com/cfp/servlet/event.showcfp?eventid=78100&copyow
 nerid=133427
UID:cfp754557-N@wikicfp.com
END:VEVENT
BEGIN:VEVENT
DTSTAMP:20260424T060029Z
DTSTART;VALUE=DATE:20190702
DTEND;VALUE=DATE:20190705
SUMMARY:ICCAD 2019
DESCRIPTION:IEEE-International Conference on Control\, Automation and Dia
 gnosis - ICCAD'19
URL:http://www.wikicfp.com/cfp/servlet/event.showcfp?eventid=80829&copyow
 nerid=133427
UID:cfp754540-E@wikicfp.com
END:VEVENT
BEGIN:VEVENT
DTSTAMP:20260424T060029Z
DTSTART;VALUE=DATE:20190131
SUMMARY:ICCAD 2019 Deadline
DESCRIPTION:IEEE-International Conference on Control\, Automation and Dia
 gnosis - ICCAD'19
URL:http://www.wikicfp.com/cfp/servlet/event.showcfp?eventid=80829&copyow
 nerid=133427
UID:cfp754540-D@wikicfp.com
END:VEVENT
BEGIN:VEVENT
DTSTAMP:20260424T060029Z
DTSTART;VALUE=DATE:20190331
SUMMARY:ICCAD 2019 Notification Due
DESCRIPTION:IEEE-International Conference on Control\, Automation and Dia
 gnosis - ICCAD'19
URL:http://www.wikicfp.com/cfp/servlet/event.showcfp?eventid=80829&copyow
 nerid=133427
UID:cfp754540-N@wikicfp.com
END:VEVENT
BEGIN:VEVENT
DTSTAMP:20260424T060029Z
DTSTART;VALUE=DATE:20190801
DTEND;VALUE=DATE:20190804
SUMMARY:DSIS 2019
DESCRIPTION:ISSAT International Conference on Data Science and Intelligen
 t Systems
URL:http://www.wikicfp.com/cfp/servlet/event.showcfp?eventid=80595&copyow
 nerid=133427
UID:cfp754558-E@wikicfp.com
END:VEVENT
BEGIN:VEVENT
DTSTAMP:20260424T060029Z
DTSTART;VALUE=DATE:20190215
SUMMARY:DSIS 2019 Deadline
DESCRIPTION:ISSAT International Conference on Data Science and Intelligen
 t Systems
URL:http://www.wikicfp.com/cfp/servlet/event.showcfp?eventid=80595&copyow
 nerid=133427
UID:cfp754558-D@wikicfp.com
END:VEVENT
BEGIN:VEVENT
DTSTAMP:20260424T060029Z
DTSTART;VALUE=DATE:20190331
SUMMARY:DSIS 2019 Notification Due
DESCRIPTION:ISSAT International Conference on Data Science and Intelligen
 t Systems
URL:http://www.wikicfp.com/cfp/servlet/event.showcfp?eventid=80595&copyow
 nerid=133427
UID:cfp754558-N@wikicfp.com
END:VEVENT
BEGIN:VEVENT
DTSTAMP:20260424T060029Z
DTSTART;VALUE=DATE:20190515
SUMMARY:DSIS 2019 Final Version Due
DESCRIPTION:ISSAT International Conference on Data Science and Intelligen
 t Systems
URL:http://www.wikicfp.com/cfp/servlet/event.showcfp?eventid=80595&copyow
 nerid=133427
UID:cfp754558-N@wikicfp.com
END:VEVENT
BEGIN:VEVENT
DTSTAMP:20260424T060029Z
DTSTART;VALUE=DATE:20190902
DTEND;VALUE=DATE:20190907
SUMMARY:EUSIPCO 2019
DESCRIPTION:European Signal Processing Coference
URL:http://www.wikicfp.com/cfp/servlet/event.showcfp?eventid=79711&copyow
 nerid=133427
UID:cfp754555-E@wikicfp.com
END:VEVENT
BEGIN:VEVENT
DTSTAMP:20260424T060029Z
DTSTART;VALUE=DATE:20190218
SUMMARY:EUSIPCO 2019 Deadline
DESCRIPTION:European Signal Processing Coference
URL:http://www.wikicfp.com/cfp/servlet/event.showcfp?eventid=79711&copyow
 nerid=133427
UID:cfp754555-D@wikicfp.com
END:VEVENT
BEGIN:VEVENT
DTSTAMP:20260424T060029Z
DTSTART;VALUE=DATE:20190517
SUMMARY:EUSIPCO 2019 Notification Due
DESCRIPTION:European Signal Processing Coference
URL:http://www.wikicfp.com/cfp/servlet/event.showcfp?eventid=79711&copyow
 nerid=133427
UID:cfp754555-N@wikicfp.com
END:VEVENT
BEGIN:VEVENT
DTSTAMP:20260424T060029Z
DTSTART;VALUE=DATE:20190729
DTEND;VALUE=DATE:20190801
SUMMARY:ICINCO 2019
DESCRIPTION:16th International Conference on Informatics in Control\, Aut
 omation and Robotics
URL:http://www.wikicfp.com/cfp/servlet/event.showcfp?eventid=82202&copyow
 nerid=133427
UID:cfp754901-E@wikicfp.com
END:VEVENT
BEGIN:VEVENT
DTSTAMP:20260424T060029Z
DTSTART;VALUE=DATE:20190228
SUMMARY:ICINCO 2019 Deadline
DESCRIPTION:16th International Conference on Informatics in Control\, Aut
 omation and Robotics
URL:http://www.wikicfp.com/cfp/servlet/event.showcfp?eventid=82202&copyow
 nerid=133427
UID:cfp754901-D@wikicfp.com
END:VEVENT
BEGIN:VEVENT
DTSTAMP:20260424T060029Z
DTSTART;VALUE=DATE:20190502
SUMMARY:ICINCO 2019 Notification Due
DESCRIPTION:16th International Conference on Informatics in Control\, Aut
 omation and Robotics
URL:http://www.wikicfp.com/cfp/servlet/event.showcfp?eventid=82202&copyow
 nerid=133427
UID:cfp754901-N@wikicfp.com
END:VEVENT
BEGIN:VEVENT
DTSTAMP:20260424T060029Z
DTSTART;VALUE=DATE:20190516
SUMMARY:ICINCO 2019 Final Version Due
DESCRIPTION:16th International Conference on Informatics in Control\, Aut
 omation and Robotics
URL:http://www.wikicfp.com/cfp/servlet/event.showcfp?eventid=82202&copyow
 nerid=133427
UID:cfp754901-N@wikicfp.com
END:VEVENT
BEGIN:VEVENT
DTSTAMP:20260424T060029Z
DTSTART;VALUE=DATE:20190726
DTEND;VALUE=DATE:20190729
SUMMARY:SIGMAP 2019
DESCRIPTION:International Conference on Signal Processing and Multimedia 
 Applications
URL:http://www.wikicfp.com/cfp/servlet/event.showcfp?eventid=82467&copyow
 nerid=133427
UID:cfp754556-E@wikicfp.com
END:VEVENT
BEGIN:VEVENT
DTSTAMP:20260424T060029Z
DTSTART;VALUE=DATE:20190228
SUMMARY:SIGMAP 2019 Deadline
DESCRIPTION:International Conference on Signal Processing and Multimedia 
 Applications
URL:http://www.wikicfp.com/cfp/servlet/event.showcfp?eventid=82467&copyow
 nerid=133427
UID:cfp754556-D@wikicfp.com
END:VEVENT
BEGIN:VEVENT
DTSTAMP:20260424T060029Z
DTSTART;VALUE=DATE:20190502
SUMMARY:SIGMAP 2019 Notification Due
DESCRIPTION:International Conference on Signal Processing and Multimedia 
 Applications
URL:http://www.wikicfp.com/cfp/servlet/event.showcfp?eventid=82467&copyow
 nerid=133427
UID:cfp754556-N@wikicfp.com
END:VEVENT
BEGIN:VEVENT
DTSTAMP:20260424T060029Z
DTSTART;VALUE=DATE:20190516
SUMMARY:SIGMAP 2019 Final Version Due
DESCRIPTION:International Conference on Signal Processing and Multimedia 
 Applications
URL:http://www.wikicfp.com/cfp/servlet/event.showcfp?eventid=82467&copyow
 nerid=133427
UID:cfp754556-N@wikicfp.com
END:VEVENT
BEGIN:VEVENT
DTSTAMP:20260424T060029Z
DTSTART;VALUE=DATE:20201009
DTEND;VALUE=DATE:20201012
SUMMARY:EI-ICBICC 2020 2020
DESCRIPTION:2020 2nd International Conference on Big Data\, IoT\, and Clo
 ud Computing (ICBICC 2020)
URL:http://www.wikicfp.com/cfp/servlet/event.showcfp?eventid=70032&copyow
 nerid=133427
UID:cfp754851-E@wikicfp.com
END:VEVENT
BEGIN:VEVENT
DTSTAMP:20260424T060029Z
DTSTART;VALUE=DATE:20200331
SUMMARY:EI-ICBICC 2020 2020 Deadline
DESCRIPTION:2020 2nd International Conference on Big Data\, IoT\, and Clo
 ud Computing (ICBICC 2020)
URL:http://www.wikicfp.com/cfp/servlet/event.showcfp?eventid=70032&copyow
 nerid=133427
UID:cfp754851-D@wikicfp.com
END:VEVENT
BEGIN:VEVENT
DTSTAMP:20260424T060029Z
DTSTART;VALUE=DATE:20190331
SUMMARY:EI-ICBICC 2020 2020 Final Version Due
DESCRIPTION:2020 2nd International Conference on Big Data\, IoT\, and Clo
 ud Computing (ICBICC 2020)
URL:http://www.wikicfp.com/cfp/servlet/event.showcfp?eventid=70032&copyow
 nerid=133427
UID:cfp754851-N@wikicfp.com
END:VEVENT
BEGIN:VEVENT
DTSTAMP:20260424T060029Z
DTSTART;VALUE=DATE:20210115
DTEND;VALUE=DATE:20210118
SUMMARY:SIUSAI 2021-Ei Compendex 2021
DESCRIPTION:2021 International Symposium on Intelligent Unmanned Systems 
 and Artificial Intelligence(SIUSAI 2021)
URL:http://www.wikicfp.com/cfp/servlet/event.showcfp?eventid=70038&copyow
 nerid=133427
UID:cfp754852-E@wikicfp.com
END:VEVENT
BEGIN:VEVENT
DTSTAMP:20260424T060029Z
DTSTART;VALUE=DATE:20200731
SUMMARY:SIUSAI 2021-Ei Compendex 2021 Deadline
DESCRIPTION:2021 International Symposium on Intelligent Unmanned Systems 
 and Artificial Intelligence(SIUSAI 2021)
URL:http://www.wikicfp.com/cfp/servlet/event.showcfp?eventid=70038&copyow
 nerid=133427
UID:cfp754852-D@wikicfp.com
END:VEVENT
BEGIN:VEVENT
DTSTAMP:20260424T060029Z
DTSTART;VALUE=DATE:20200731
SUMMARY:SIUSAI 2021-Ei Compendex 2021 Final Version Due
DESCRIPTION:2021 International Symposium on Intelligent Unmanned Systems 
 and Artificial Intelligence(SIUSAI 2021)
URL:http://www.wikicfp.com/cfp/servlet/event.showcfp?eventid=70038&copyow
 nerid=133427
UID:cfp754852-N@wikicfp.com
END:VEVENT
END:VCALENDAR
