BEGIN:VCALENDAR
PRODID:-//WikiCFP//srtthree1 1.0//EN
VERSION:2.0
CALSCALE:GREGORIAN
BEGIN:VEVENT
DTSTAMP:20260424T102904Z
DTSTART;VALUE=DATE:20221126
DTEND;VALUE=DATE:20221128
SUMMARY:NECO  2022
DESCRIPTION:11th International Conference of Networks and Communications
URL:http://www.wikicfp.com/cfp/servlet/event.showcfp?eventid=82291&copyow
 nerid=132526
UID:cfp753467-E@wikicfp.com
END:VEVENT
BEGIN:VEVENT
DTSTAMP:20260424T102904Z
DTSTART;VALUE=DATE:20221112
SUMMARY:NECO  2022 Deadline
DESCRIPTION:11th International Conference of Networks and Communications
URL:http://www.wikicfp.com/cfp/servlet/event.showcfp?eventid=82291&copyow
 nerid=132526
UID:cfp753467-D@wikicfp.com
END:VEVENT
BEGIN:VEVENT
DTSTAMP:20260424T102904Z
DTSTART;VALUE=DATE:20221115
SUMMARY:NECO  2022 Notification Due
DESCRIPTION:11th International Conference of Networks and Communications
URL:http://www.wikicfp.com/cfp/servlet/event.showcfp?eventid=82291&copyow
 nerid=132526
UID:cfp753467-N@wikicfp.com
END:VEVENT
BEGIN:VEVENT
DTSTAMP:20260424T102904Z
DTSTART;VALUE=DATE:20221117
SUMMARY:NECO  2022 Final Version Due
DESCRIPTION:11th International Conference of Networks and Communications
URL:http://www.wikicfp.com/cfp/servlet/event.showcfp?eventid=82291&copyow
 nerid=132526
UID:cfp753467-N@wikicfp.com
END:VEVENT
END:VCALENDAR
