BEGIN:VCALENDAR
PRODID:-//WikiCFP//dan2ysgl88 1.0//EN
VERSION:2.0
CALSCALE:GREGORIAN
BEGIN:VEVENT
DTSTAMP:20260423T213432Z
DTSTART;VALUE=DATE:20190625
DTEND;VALUE=DATE:20190628
SUMMARY:IFIPSEC 2019
DESCRIPTION:IFIP Information Security Conference & Privacy Conference - I
 FIP Technical Commitee 11
URL:http://www.wikicfp.com/cfp/servlet/event.showcfp?eventid=80740&copyow
 nerid=132298
UID:cfp752868-E@wikicfp.com
END:VEVENT
BEGIN:VEVENT
DTSTAMP:20260423T213432Z
DTSTART;VALUE=DATE:20190301
SUMMARY:IFIPSEC 2019 Deadline
DESCRIPTION:IFIP Information Security Conference & Privacy Conference - I
 FIP Technical Commitee 11
URL:http://www.wikicfp.com/cfp/servlet/event.showcfp?eventid=80740&copyow
 nerid=132298
UID:cfp752868-D@wikicfp.com
END:VEVENT
BEGIN:VEVENT
DTSTAMP:20260423T213432Z
DTSTART;VALUE=DATE:20190322
SUMMARY:IFIPSEC 2019 Notification Due
DESCRIPTION:IFIP Information Security Conference & Privacy Conference - I
 FIP Technical Commitee 11
URL:http://www.wikicfp.com/cfp/servlet/event.showcfp?eventid=80740&copyow
 nerid=132298
UID:cfp752868-N@wikicfp.com
END:VEVENT
BEGIN:VEVENT
DTSTAMP:20260423T213432Z
DTSTART;VALUE=DATE:20190329
SUMMARY:IFIPSEC 2019 Final Version Due
DESCRIPTION:IFIP Information Security Conference & Privacy Conference - I
 FIP Technical Commitee 11
URL:http://www.wikicfp.com/cfp/servlet/event.showcfp?eventid=80740&copyow
 nerid=132298
UID:cfp752868-N@wikicfp.com
END:VEVENT
END:VCALENDAR
