BEGIN:VCALENDAR
PRODID:-//WikiCFP//alexf 1.0//EN
VERSION:2.0
CALSCALE:GREGORIAN
BEGIN:VEVENT
DTSTAMP:20260424T213142Z
DTSTART;VALUE=DATE:20190616
DTEND;VALUE=DATE:20190621
SUMMARY:ISC HPC 2019
DESCRIPTION:ISC High Performance 2019
URL:http://www.wikicfp.com/cfp/servlet/event.showcfp?eventid=81796&copyow
 nerid=132146
UID:cfp752688-E@wikicfp.com
END:VEVENT
BEGIN:VEVENT
DTSTAMP:20260424T213142Z
DTSTART;VALUE=DATE:20181212
SUMMARY:ISC HPC 2019 Deadline
DESCRIPTION:ISC High Performance 2019
URL:http://www.wikicfp.com/cfp/servlet/event.showcfp?eventid=81796&copyow
 nerid=132146
UID:cfp752688-D@wikicfp.com
END:VEVENT
BEGIN:VEVENT
DTSTAMP:20260424T213142Z
DTSTART;VALUE=DATE:20190227
SUMMARY:ISC HPC 2019 Notification Due
DESCRIPTION:ISC High Performance 2019
URL:http://www.wikicfp.com/cfp/servlet/event.showcfp?eventid=81796&copyow
 nerid=132146
UID:cfp752688-N@wikicfp.com
END:VEVENT
BEGIN:VEVENT
DTSTAMP:20260424T213142Z
DTSTART;VALUE=DATE:20190325
SUMMARY:ISC HPC 2019 Final Version Due
DESCRIPTION:ISC High Performance 2019
URL:http://www.wikicfp.com/cfp/servlet/event.showcfp?eventid=81796&copyow
 nerid=132146
UID:cfp752688-N@wikicfp.com
END:VEVENT
BEGIN:VEVENT
DTSTAMP:20260424T213142Z
DTSTART;VALUE=DATE:20190612
DTEND;VALUE=DATE:20190615
SUMMARY:PASC 2019
DESCRIPTION:Platform for Advanced Scientific Computing
URL:http://www.wikicfp.com/cfp/servlet/event.showcfp?eventid=81966&copyow
 nerid=132146
UID:cfp752689-E@wikicfp.com
END:VEVENT
BEGIN:VEVENT
DTSTAMP:20260424T213142Z
DTSTART;VALUE=DATE:20191115
SUMMARY:PASC 2019 Deadline
DESCRIPTION:Platform for Advanced Scientific Computing
URL:http://www.wikicfp.com/cfp/servlet/event.showcfp?eventid=81966&copyow
 nerid=132146
UID:cfp752689-D@wikicfp.com
END:VEVENT
END:VCALENDAR
