BEGIN:VCALENDAR
PRODID:-//WikiCFP//hirocky 1.0//EN
VERSION:2.0
CALSCALE:GREGORIAN
BEGIN:VEVENT
DTSTAMP:20260420T221913Z
DTSTART;VALUE=DATE:20191209
DTEND;VALUE=DATE:20191214
SUMMARY:GLOBECOM 2019
DESCRIPTION:Global Communications Conference
URL:http://www.wikicfp.com/cfp/servlet/event.showcfp?eventid=79143&copyow
 nerid=131328
UID:cfp751322-E@wikicfp.com
END:VEVENT
BEGIN:VEVENT
DTSTAMP:20260420T221913Z
DTSTART;VALUE=DATE:20190401
SUMMARY:GLOBECOM 2019 Deadline
DESCRIPTION:Global Communications Conference
URL:http://www.wikicfp.com/cfp/servlet/event.showcfp?eventid=79143&copyow
 nerid=131328
UID:cfp751322-D@wikicfp.com
END:VEVENT
BEGIN:VEVENT
DTSTAMP:20260420T221913Z
DTSTART;VALUE=DATE:20190901
SUMMARY:GLOBECOM 2019 Notification Due
DESCRIPTION:Global Communications Conference
URL:http://www.wikicfp.com/cfp/servlet/event.showcfp?eventid=79143&copyow
 nerid=131328
UID:cfp751322-N@wikicfp.com
END:VEVENT
END:VCALENDAR
