BEGIN:VCALENDAR
PRODID:-//WikiCFP//peijie_hfut 1.0//EN
VERSION:2.0
CALSCALE:GREGORIAN
BEGIN:VEVENT
DTSTAMP:20260425T143650Z
DTSTART;VALUE=DATE:20220711
DTEND;VALUE=DATE:20220716
SUMMARY:SIGIR 2022
DESCRIPTION:The 45th International ACM SIGIR Conference on Research and D
 evelopment in Information Retrieval
URL:http://www.wikicfp.com/cfp/servlet/event.showcfp?eventid=140225&copyo
 wnerid=131257
UID:cfp929642-E@wikicfp.com
END:VEVENT
BEGIN:VEVENT
DTSTAMP:20260425T143650Z
DTSTART;VALUE=DATE:20220121
SUMMARY:SIGIR 2022 Abstract Due
DESCRIPTION:The 45th International ACM SIGIR Conference on Research and D
 evelopment in Information Retrieval
URL:http://www.wikicfp.com/cfp/servlet/event.showcfp?eventid=140225&copyo
 wnerid=131257
UID:cfp929642-A@wikicfp.com
END:VEVENT
BEGIN:VEVENT
DTSTAMP:20260425T143650Z
DTSTART;VALUE=DATE:20220128
SUMMARY:SIGIR 2022 Deadline
DESCRIPTION:The 45th International ACM SIGIR Conference on Research and D
 evelopment in Information Retrieval
URL:http://www.wikicfp.com/cfp/servlet/event.showcfp?eventid=140225&copyo
 wnerid=131257
UID:cfp929642-D@wikicfp.com
END:VEVENT
BEGIN:VEVENT
DTSTAMP:20260425T143650Z
DTSTART;VALUE=DATE:20220331
SUMMARY:SIGIR 2022 Notification Due
DESCRIPTION:The 45th International ACM SIGIR Conference on Research and D
 evelopment in Information Retrieval
URL:http://www.wikicfp.com/cfp/servlet/event.showcfp?eventid=140225&copyo
 wnerid=131257
UID:cfp929642-N@wikicfp.com
END:VEVENT
END:VCALENDAR
