BEGIN:VCALENDAR
PRODID:-//WikiCFP//MHW 1.0//EN
VERSION:2.0
CALSCALE:GREGORIAN
BEGIN:VEVENT
DTSTAMP:20260421T220614Z
DTSTART;VALUE=DATE:20190828
DTEND;VALUE=DATE:20190830
SUMMARY:Reproductive Health 2019
DESCRIPTION:World Congress on Sexual & Reproductive Health and Family Pla
 nning
URL:http://www.wikicfp.com/cfp/servlet/event.showcfp?eventid=80932&copyow
 nerid=130599
UID:cfp749598-E@wikicfp.com
END:VEVENT
BEGIN:VEVENT
DTSTAMP:20260421T220614Z
DTSTART;VALUE=DATE:20181231
SUMMARY:Reproductive Health 2019 Deadline
DESCRIPTION:World Congress on Sexual & Reproductive Health and Family Pla
 nning
URL:http://www.wikicfp.com/cfp/servlet/event.showcfp?eventid=80932&copyow
 nerid=130599
UID:cfp749598-D@wikicfp.com
END:VEVENT
BEGIN:VEVENT
DTSTAMP:20260421T220614Z
DTSTART;VALUE=DATE:20181231
SUMMARY:Reproductive Health 2019 Notification Due
DESCRIPTION:World Congress on Sexual & Reproductive Health and Family Pla
 nning
URL:http://www.wikicfp.com/cfp/servlet/event.showcfp?eventid=80932&copyow
 nerid=130599
UID:cfp749598-N@wikicfp.com
END:VEVENT
BEGIN:VEVENT
DTSTAMP:20260421T220614Z
DTSTART;VALUE=DATE:20190829
SUMMARY:Reproductive Health 2019 Final Version Due
DESCRIPTION:World Congress on Sexual & Reproductive Health and Family Pla
 nning
URL:http://www.wikicfp.com/cfp/servlet/event.showcfp?eventid=80932&copyow
 nerid=130599
UID:cfp749598-N@wikicfp.com
END:VEVENT
BEGIN:VEVENT
DTSTAMP:20260421T220614Z
DTSTART;VALUE=DATE:20190916
DTEND;VALUE=DATE:20190918
SUMMARY:MHW  2019
DESCRIPTION:Mental Health and Wellness 2019
URL:http://www.wikicfp.com/cfp/servlet/event.showcfp?eventid=81549&copyow
 nerid=130599
UID:cfp749599-E@wikicfp.com
END:VEVENT
BEGIN:VEVENT
DTSTAMP:20260421T220614Z
DTSTART;VALUE=DATE:20181101
SUMMARY:MHW  2019 Abstract Due
DESCRIPTION:Mental Health and Wellness 2019
URL:http://www.wikicfp.com/cfp/servlet/event.showcfp?eventid=81549&copyow
 nerid=130599
UID:cfp749599-A@wikicfp.com
END:VEVENT
BEGIN:VEVENT
DTSTAMP:20260421T220614Z
DTSTART;VALUE=DATE:20190830
SUMMARY:MHW  2019 Deadline
DESCRIPTION:Mental Health and Wellness 2019
URL:http://www.wikicfp.com/cfp/servlet/event.showcfp?eventid=81549&copyow
 nerid=130599
UID:cfp749599-D@wikicfp.com
END:VEVENT
BEGIN:VEVENT
DTSTAMP:20260421T220614Z
DTSTART;VALUE=DATE:20190830
SUMMARY:MHW  2019 Notification Due
DESCRIPTION:Mental Health and Wellness 2019
URL:http://www.wikicfp.com/cfp/servlet/event.showcfp?eventid=81549&copyow
 nerid=130599
UID:cfp749599-N@wikicfp.com
END:VEVENT
BEGIN:VEVENT
DTSTAMP:20260421T220614Z
DTSTART;VALUE=DATE:20190830
SUMMARY:MHW  2019 Final Version Due
DESCRIPTION:Mental Health and Wellness 2019
URL:http://www.wikicfp.com/cfp/servlet/event.showcfp?eventid=81549&copyow
 nerid=130599
UID:cfp749599-N@wikicfp.com
END:VEVENT
END:VCALENDAR
