BEGIN:VCALENDAR
PRODID:-//WikiCFP//sinhvtr 1.0//EN
VERSION:2.0
CALSCALE:GREGORIAN
BEGIN:VEVENT
DTSTAMP:20260423T153856Z
DTSTART;VALUE=DATE:20181101
DTEND;VALUE=DATE:20181104
SUMMARY:KSE 2018
DESCRIPTION:2018 10th International Conference on Knowledge and Systems E
 ngineering (KSE) 
URL:http://www.wikicfp.com/cfp/servlet/event.showcfp?eventid=73559&copyow
 nerid=130416
UID:cfp749209-E@wikicfp.com
END:VEVENT
BEGIN:VEVENT
DTSTAMP:20260423T153856Z
DTSTART;VALUE=DATE:20180625
SUMMARY:KSE 2018 Deadline
DESCRIPTION:2018 10th International Conference on Knowledge and Systems E
 ngineering (KSE) 
URL:http://www.wikicfp.com/cfp/servlet/event.showcfp?eventid=73559&copyow
 nerid=130416
UID:cfp749209-D@wikicfp.com
END:VEVENT
BEGIN:VEVENT
DTSTAMP:20260423T153856Z
DTSTART;VALUE=DATE:20180730
SUMMARY:KSE 2018 Notification Due
DESCRIPTION:2018 10th International Conference on Knowledge and Systems E
 ngineering (KSE) 
URL:http://www.wikicfp.com/cfp/servlet/event.showcfp?eventid=73559&copyow
 nerid=130416
UID:cfp749209-N@wikicfp.com
END:VEVENT
BEGIN:VEVENT
DTSTAMP:20260423T153856Z
DTSTART;VALUE=DATE:20180815
SUMMARY:KSE 2018 Final Version Due
DESCRIPTION:2018 10th International Conference on Knowledge and Systems E
 ngineering (KSE) 
URL:http://www.wikicfp.com/cfp/servlet/event.showcfp?eventid=73559&copyow
 nerid=130416
UID:cfp749209-N@wikicfp.com
END:VEVENT
BEGIN:VEVENT
DTSTAMP:20260423T153856Z
DTSTART;VALUE=DATE:20181015
SUMMARY:NLEDialects 2019 Deadline
DESCRIPTION:Natural Language Engineering Journal Special Issue on NLP for
  Similar Languages\, Varieties and Dialects
URL:http://www.wikicfp.com/cfp/servlet/event.showcfp?eventid=77849&copyow
 nerid=130416
UID:cfp749180-D@wikicfp.com
END:VEVENT
BEGIN:VEVENT
DTSTAMP:20260423T153856Z
DTSTART;VALUE=DATE:20181215
SUMMARY:NLEDialects 2019 Notification Due
DESCRIPTION:Natural Language Engineering Journal Special Issue on NLP for
  Similar Languages\, Varieties and Dialects
URL:http://www.wikicfp.com/cfp/servlet/event.showcfp?eventid=77849&copyow
 nerid=130416
UID:cfp749180-N@wikicfp.com
END:VEVENT
BEGIN:VEVENT
DTSTAMP:20260423T153856Z
DTSTART;VALUE=DATE:20190415
SUMMARY:NLEDialects 2019 Final Version Due
DESCRIPTION:Natural Language Engineering Journal Special Issue on NLP for
  Similar Languages\, Varieties and Dialects
URL:http://www.wikicfp.com/cfp/servlet/event.showcfp?eventid=77849&copyow
 nerid=130416
UID:cfp749180-N@wikicfp.com
END:VEVENT
BEGIN:VEVENT
DTSTAMP:20260423T153856Z
DTSTART;VALUE=DATE:20181210
DTEND;VALUE=DATE:20181214
SUMMARY:FinancialNews&Data-IEEEBigData2018 2018
DESCRIPTION:The 2nd International Workshop on Big Data for Financial News
  and Data
URL:http://www.wikicfp.com/cfp/servlet/event.showcfp?eventid=81024&copyow
 nerid=130416
UID:cfp749181-E@wikicfp.com
END:VEVENT
BEGIN:VEVENT
DTSTAMP:20260423T153856Z
DTSTART;VALUE=DATE:20181020
SUMMARY:FinancialNews&Data-IEEEBigData2018 2018 Deadline
DESCRIPTION:The 2nd International Workshop on Big Data for Financial News
  and Data
URL:http://www.wikicfp.com/cfp/servlet/event.showcfp?eventid=81024&copyow
 nerid=130416
UID:cfp749181-D@wikicfp.com
END:VEVENT
BEGIN:VEVENT
DTSTAMP:20260423T153856Z
DTSTART;VALUE=DATE:20181105
SUMMARY:FinancialNews&Data-IEEEBigData2018 2018 Notification Due
DESCRIPTION:The 2nd International Workshop on Big Data for Financial News
  and Data
URL:http://www.wikicfp.com/cfp/servlet/event.showcfp?eventid=81024&copyow
 nerid=130416
UID:cfp749181-N@wikicfp.com
END:VEVENT
BEGIN:VEVENT
DTSTAMP:20260423T153856Z
DTSTART;VALUE=DATE:20181115
SUMMARY:FinancialNews&Data-IEEEBigData2018 2018 Final Version Due
DESCRIPTION:The 2nd International Workshop on Big Data for Financial News
  and Data
URL:http://www.wikicfp.com/cfp/servlet/event.showcfp?eventid=81024&copyow
 nerid=130416
UID:cfp749181-N@wikicfp.com
END:VEVENT
BEGIN:VEVENT
DTSTAMP:20260423T153856Z
DTSTART;VALUE=DATE:20190127
DTEND;VALUE=DATE:20190129
SUMMARY:RecNLP 2019
DESCRIPTION:The AAAI 2019 Workshop on Recommender Systems and Natural Lan
 guage Processing
URL:http://www.wikicfp.com/cfp/servlet/event.showcfp?eventid=80282&copyow
 nerid=130416
UID:cfp749184-E@wikicfp.com
END:VEVENT
BEGIN:VEVENT
DTSTAMP:20260423T153856Z
DTSTART;VALUE=DATE:20181105
SUMMARY:RecNLP 2019 Deadline
DESCRIPTION:The AAAI 2019 Workshop on Recommender Systems and Natural Lan
 guage Processing
URL:http://www.wikicfp.com/cfp/servlet/event.showcfp?eventid=80282&copyow
 nerid=130416
UID:cfp749184-D@wikicfp.com
END:VEVENT
BEGIN:VEVENT
DTSTAMP:20260423T153856Z
DTSTART;VALUE=DATE:20181126
SUMMARY:RecNLP 2019 Notification Due
DESCRIPTION:The AAAI 2019 Workshop on Recommender Systems and Natural Lan
 guage Processing
URL:http://www.wikicfp.com/cfp/servlet/event.showcfp?eventid=80282&copyow
 nerid=130416
UID:cfp749184-N@wikicfp.com
END:VEVENT
BEGIN:VEVENT
DTSTAMP:20260423T153856Z
DTSTART;VALUE=DATE:20190602
DTEND;VALUE=DATE:20190608
SUMMARY:NAACL-HLT 2019
DESCRIPTION:Annual Conference of the North American Chapter of the Associ
 ation for Computational Linguistics
URL:http://www.wikicfp.com/cfp/servlet/event.showcfp?eventid=79605&copyow
 nerid=130416
UID:cfp749183-E@wikicfp.com
END:VEVENT
BEGIN:VEVENT
DTSTAMP:20260423T153856Z
DTSTART;VALUE=DATE:20181203
SUMMARY:NAACL-HLT 2019 Abstract Due
DESCRIPTION:Annual Conference of the North American Chapter of the Associ
 ation for Computational Linguistics
URL:http://www.wikicfp.com/cfp/servlet/event.showcfp?eventid=79605&copyow
 nerid=130416
UID:cfp749183-A@wikicfp.com
END:VEVENT
BEGIN:VEVENT
DTSTAMP:20260423T153856Z
DTSTART;VALUE=DATE:20181210
SUMMARY:NAACL-HLT 2019 Deadline
DESCRIPTION:Annual Conference of the North American Chapter of the Associ
 ation for Computational Linguistics
URL:http://www.wikicfp.com/cfp/servlet/event.showcfp?eventid=79605&copyow
 nerid=130416
UID:cfp749183-D@wikicfp.com
END:VEVENT
BEGIN:VEVENT
DTSTAMP:20260423T153856Z
DTSTART;VALUE=DATE:20190222
SUMMARY:NAACL-HLT 2019 Notification Due
DESCRIPTION:Annual Conference of the North American Chapter of the Associ
 ation for Computational Linguistics
URL:http://www.wikicfp.com/cfp/servlet/event.showcfp?eventid=79605&copyow
 nerid=130416
UID:cfp749183-N@wikicfp.com
END:VEVENT
BEGIN:VEVENT
DTSTAMP:20260423T153856Z
DTSTART;VALUE=DATE:20190401
SUMMARY:NAACL-HLT 2019 Final Version Due
DESCRIPTION:Annual Conference of the North American Chapter of the Associ
 ation for Computational Linguistics
URL:http://www.wikicfp.com/cfp/servlet/event.showcfp?eventid=79605&copyow
 nerid=130416
UID:cfp749183-N@wikicfp.com
END:VEVENT
BEGIN:VEVENT
DTSTAMP:20260423T153856Z
DTSTART;VALUE=DATE:20190610
DTEND;VALUE=DATE:20190616
SUMMARY:ICML 2019
DESCRIPTION:36th International Conference on Machine Learning
URL:http://www.wikicfp.com/cfp/servlet/event.showcfp?eventid=81548&copyow
 nerid=130416
UID:cfp761137-E@wikicfp.com
END:VEVENT
BEGIN:VEVENT
DTSTAMP:20260423T153856Z
DTSTART;VALUE=DATE:20190118
SUMMARY:ICML 2019 Abstract Due
DESCRIPTION:36th International Conference on Machine Learning
URL:http://www.wikicfp.com/cfp/servlet/event.showcfp?eventid=81548&copyow
 nerid=130416
UID:cfp761137-A@wikicfp.com
END:VEVENT
BEGIN:VEVENT
DTSTAMP:20260423T153856Z
DTSTART;VALUE=DATE:20190123
SUMMARY:ICML 2019 Deadline
DESCRIPTION:36th International Conference on Machine Learning
URL:http://www.wikicfp.com/cfp/servlet/event.showcfp?eventid=81548&copyow
 nerid=130416
UID:cfp761137-D@wikicfp.com
END:VEVENT
BEGIN:VEVENT
DTSTAMP:20260423T153856Z
DTSTART;VALUE=DATE:20190810
DTEND;VALUE=DATE:20190817
SUMMARY:IJCAI 2019
DESCRIPTION:International Joint Conference on Artificial Intelligence
URL:http://www.wikicfp.com/cfp/servlet/event.showcfp?eventid=79608&copyow
 nerid=130416
UID:cfp761135-E@wikicfp.com
END:VEVENT
BEGIN:VEVENT
DTSTAMP:20260423T153856Z
DTSTART;VALUE=DATE:20190225
SUMMARY:IJCAI 2019 Deadline
DESCRIPTION:International Joint Conference on Artificial Intelligence
URL:http://www.wikicfp.com/cfp/servlet/event.showcfp?eventid=79608&copyow
 nerid=130416
UID:cfp761135-D@wikicfp.com
END:VEVENT
BEGIN:VEVENT
DTSTAMP:20260423T153856Z
DTSTART;VALUE=DATE:20190509
SUMMARY:IJCAI 2019 Notification Due
DESCRIPTION:International Joint Conference on Artificial Intelligence
URL:http://www.wikicfp.com/cfp/servlet/event.showcfp?eventid=79608&copyow
 nerid=130416
UID:cfp761135-N@wikicfp.com
END:VEVENT
BEGIN:VEVENT
DTSTAMP:20260423T153856Z
DTSTART;VALUE=DATE:20190301
SUMMARY:CL-MISRNLP 2020 Deadline
DESCRIPTION:Special Issue of Computational Linguistics: Multilingual and 
 Interlingual Semantic Representations for Natural Language Processing
URL:http://www.wikicfp.com/cfp/servlet/event.showcfp?eventid=80451&copyow
 nerid=130416
UID:cfp749185-D@wikicfp.com
END:VEVENT
BEGIN:VEVENT
DTSTAMP:20260423T153856Z
DTSTART;VALUE=DATE:20190728
DTEND;VALUE=DATE:20190803
SUMMARY:ACL 2019
DESCRIPTION:57th Annual Meeting of the Association for Computational Ling
 uistics
URL:http://www.wikicfp.com/cfp/servlet/event.showcfp?eventid=81290&copyow
 nerid=130416
UID:cfp749186-E@wikicfp.com
END:VEVENT
BEGIN:VEVENT
DTSTAMP:20260423T153856Z
DTSTART;VALUE=DATE:20190304
SUMMARY:ACL 2019 Deadline
DESCRIPTION:57th Annual Meeting of the Association for Computational Ling
 uistics
URL:http://www.wikicfp.com/cfp/servlet/event.showcfp?eventid=81290&copyow
 nerid=130416
UID:cfp749186-D@wikicfp.com
END:VEVENT
BEGIN:VEVENT
DTSTAMP:20260423T153856Z
DTSTART;VALUE=DATE:20190513
SUMMARY:ACL 2019 Notification Due
DESCRIPTION:57th Annual Meeting of the Association for Computational Ling
 uistics
URL:http://www.wikicfp.com/cfp/servlet/event.showcfp?eventid=81290&copyow
 nerid=130416
UID:cfp749186-N@wikicfp.com
END:VEVENT
BEGIN:VEVENT
DTSTAMP:20260423T153856Z
DTSTART;VALUE=DATE:20190603
SUMMARY:ACL 2019 Final Version Due
DESCRIPTION:57th Annual Meeting of the Association for Computational Ling
 uistics
URL:http://www.wikicfp.com/cfp/servlet/event.showcfp?eventid=81290&copyow
 nerid=130416
UID:cfp749186-N@wikicfp.com
END:VEVENT
BEGIN:VEVENT
DTSTAMP:20260423T153856Z
DTSTART;VALUE=DATE:20191222
DTEND;VALUE=DATE:20191225
SUMMARY: MedPRAI 2019
DESCRIPTION:The 3rd Mediterranean Conference on Pattern Recognition and A
 rtificial Intelligence
URL:http://www.wikicfp.com/cfp/servlet/event.showcfp?eventid=82194&copyow
 nerid=130416
UID:cfp761138-E@wikicfp.com
END:VEVENT
BEGIN:VEVENT
DTSTAMP:20260423T153856Z
DTSTART;VALUE=DATE:20190607
SUMMARY: MedPRAI 2019 Abstract Due
DESCRIPTION:The 3rd Mediterranean Conference on Pattern Recognition and A
 rtificial Intelligence
URL:http://www.wikicfp.com/cfp/servlet/event.showcfp?eventid=82194&copyow
 nerid=130416
UID:cfp761138-A@wikicfp.com
END:VEVENT
BEGIN:VEVENT
DTSTAMP:20260423T153856Z
DTSTART;VALUE=DATE:20190614
SUMMARY: MedPRAI 2019 Deadline
DESCRIPTION:The 3rd Mediterranean Conference on Pattern Recognition and A
 rtificial Intelligence
URL:http://www.wikicfp.com/cfp/servlet/event.showcfp?eventid=82194&copyow
 nerid=130416
UID:cfp761138-D@wikicfp.com
END:VEVENT
BEGIN:VEVENT
DTSTAMP:20260423T153856Z
DTSTART;VALUE=DATE:20190729
SUMMARY: MedPRAI 2019 Notification Due
DESCRIPTION:The 3rd Mediterranean Conference on Pattern Recognition and A
 rtificial Intelligence
URL:http://www.wikicfp.com/cfp/servlet/event.showcfp?eventid=82194&copyow
 nerid=130416
UID:cfp761138-N@wikicfp.com
END:VEVENT
BEGIN:VEVENT
DTSTAMP:20260423T153856Z
DTSTART;VALUE=DATE:20190812
SUMMARY: MedPRAI 2019 Final Version Due
DESCRIPTION:The 3rd Mediterranean Conference on Pattern Recognition and A
 rtificial Intelligence
URL:http://www.wikicfp.com/cfp/servlet/event.showcfp?eventid=82194&copyow
 nerid=130416
UID:cfp761138-N@wikicfp.com
END:VEVENT
BEGIN:VEVENT
DTSTAMP:20260423T153856Z
DTSTART;VALUE=DATE:20191206
DTEND;VALUE=DATE:20191210
SUMMARY:SSCI 2019
DESCRIPTION:The 2019 IEEE Symposium Series on Computational Intelligence
URL:http://www.wikicfp.com/cfp/servlet/event.showcfp?eventid=73721&copyow
 nerid=130416
UID:cfp761136-E@wikicfp.com
END:VEVENT
BEGIN:VEVENT
DTSTAMP:20260423T153856Z
DTSTART;VALUE=DATE:20190710
SUMMARY:SSCI 2019 Deadline
DESCRIPTION:The 2019 IEEE Symposium Series on Computational Intelligence
URL:http://www.wikicfp.com/cfp/servlet/event.showcfp?eventid=73721&copyow
 nerid=130416
UID:cfp761136-D@wikicfp.com
END:VEVENT
BEGIN:VEVENT
DTSTAMP:20260423T153856Z
DTSTART;VALUE=DATE:20190901
SUMMARY:SSCI 2019 Notification Due
DESCRIPTION:The 2019 IEEE Symposium Series on Computational Intelligence
URL:http://www.wikicfp.com/cfp/servlet/event.showcfp?eventid=73721&copyow
 nerid=130416
UID:cfp761136-N@wikicfp.com
END:VEVENT
BEGIN:VEVENT
DTSTAMP:20260423T153856Z
DTSTART;VALUE=DATE:20191001
SUMMARY:SSCI 2019 Final Version Due
DESCRIPTION:The 2019 IEEE Symposium Series on Computational Intelligence
URL:http://www.wikicfp.com/cfp/servlet/event.showcfp?eventid=73721&copyow
 nerid=130416
UID:cfp761136-N@wikicfp.com
END:VEVENT
BEGIN:VEVENT
DTSTAMP:20260423T153856Z
DTSTART;VALUE=DATE:20201212
DTEND;VALUE=DATE:20201214
SUMMARY:AI & FL  2020
DESCRIPTION:8th International Conference of Artificial Intelligence and F
 uzzy Logic
URL:http://www.wikicfp.com/cfp/servlet/event.showcfp?eventid=72997&copyow
 nerid=130416
UID:cfp749179-E@wikicfp.com
END:VEVENT
BEGIN:VEVENT
DTSTAMP:20260423T153856Z
DTSTART;VALUE=DATE:20201122
SUMMARY:AI & FL  2020 Deadline
DESCRIPTION:8th International Conference of Artificial Intelligence and F
 uzzy Logic
URL:http://www.wikicfp.com/cfp/servlet/event.showcfp?eventid=72997&copyow
 nerid=130416
UID:cfp749179-D@wikicfp.com
END:VEVENT
BEGIN:VEVENT
DTSTAMP:20260423T153856Z
DTSTART;VALUE=DATE:20201201
SUMMARY:AI & FL  2020 Notification Due
DESCRIPTION:8th International Conference of Artificial Intelligence and F
 uzzy Logic
URL:http://www.wikicfp.com/cfp/servlet/event.showcfp?eventid=72997&copyow
 nerid=130416
UID:cfp749179-N@wikicfp.com
END:VEVENT
BEGIN:VEVENT
DTSTAMP:20260423T153856Z
DTSTART;VALUE=DATE:20201205
SUMMARY:AI & FL  2020 Final Version Due
DESCRIPTION:8th International Conference of Artificial Intelligence and F
 uzzy Logic
URL:http://www.wikicfp.com/cfp/servlet/event.showcfp?eventid=72997&copyow
 nerid=130416
UID:cfp749179-N@wikicfp.com
END:VEVENT
BEGIN:VEVENT
DTSTAMP:20260423T153856Z
DTSTART;VALUE=DATE:20231031
SUMMARY:JoL 2023 Deadline
DESCRIPTION:International Journal of Law 
URL:http://www.wikicfp.com/cfp/servlet/event.showcfp?eventid=70724&copyow
 nerid=130416
UID:cfp749182-D@wikicfp.com
END:VEVENT
BEGIN:VEVENT
DTSTAMP:20260423T153856Z
DTSTART;VALUE=DATE:20231130
SUMMARY:JoL 2023 Notification Due
DESCRIPTION:International Journal of Law 
URL:http://www.wikicfp.com/cfp/servlet/event.showcfp?eventid=70724&copyow
 nerid=130416
UID:cfp749182-N@wikicfp.com
END:VEVENT
BEGIN:VEVENT
DTSTAMP:20260423T153856Z
DTSTART;VALUE=DATE:20231208
SUMMARY:JoL 2023 Final Version Due
DESCRIPTION:International Journal of Law 
URL:http://www.wikicfp.com/cfp/servlet/event.showcfp?eventid=70724&copyow
 nerid=130416
UID:cfp749182-N@wikicfp.com
END:VEVENT
END:VCALENDAR
