BEGIN:VCALENDAR
PRODID:-//WikiCFP//keto 1.0//EN
VERSION:2.0
CALSCALE:GREGORIAN
BEGIN:VEVENT
DTSTAMP:20260420T221835Z
DTSTART;VALUE=DATE:20101018
DTEND;VALUE=DATE:20101023
SUMMARY:IROS 2010
DESCRIPTION:IEEE/RSJ International Conference on Intelligent Robots and S
 ystems
URL:http://www.wikicfp.com/cfp/servlet/event.showcfp?eventid=3872&copyown
 erid=12982
UID:cfp94673-E@wikicfp.com
END:VEVENT
BEGIN:VEVENT
DTSTAMP:20260420T221835Z
DTSTART;VALUE=DATE:20100228
SUMMARY:IROS 2010 Deadline
DESCRIPTION:IEEE/RSJ International Conference on Intelligent Robots and S
 ystems
URL:http://www.wikicfp.com/cfp/servlet/event.showcfp?eventid=3872&copyown
 erid=12982
UID:cfp94673-D@wikicfp.com
END:VEVENT
BEGIN:VEVENT
DTSTAMP:20260420T221835Z
DTSTART;VALUE=DATE:20100615
SUMMARY:IROS 2010 Notification Due
DESCRIPTION:IEEE/RSJ International Conference on Intelligent Robots and S
 ystems
URL:http://www.wikicfp.com/cfp/servlet/event.showcfp?eventid=3872&copyown
 erid=12982
UID:cfp94673-N@wikicfp.com
END:VEVENT
BEGIN:VEVENT
DTSTAMP:20260420T221835Z
DTSTART;VALUE=DATE:20100715
SUMMARY:IROS 2010 Final Version Due
DESCRIPTION:IEEE/RSJ International Conference on Intelligent Robots and S
 ystems
URL:http://www.wikicfp.com/cfp/servlet/event.showcfp?eventid=3872&copyown
 erid=12982
UID:cfp94673-N@wikicfp.com
END:VEVENT
BEGIN:VEVENT
DTSTAMP:20260420T221835Z
DTSTART;VALUE=DATE:20101201
DTEND;VALUE=DATE:20101204
SUMMARY:Track on AISE Bionetics 2010
DESCRIPTION:Special Track on Artificial Intelligence and Software Enginee
 ring (AISE) (Bionetics 2010)
URL:http://www.wikicfp.com/cfp/servlet/event.showcfp?eventid=8647&copyown
 erid=12982
UID:cfp92416-E@wikicfp.com
END:VEVENT
BEGIN:VEVENT
DTSTAMP:20260420T221835Z
DTSTART;VALUE=DATE:20100716
SUMMARY:Track on AISE Bionetics 2010 Deadline
DESCRIPTION:Special Track on Artificial Intelligence and Software Enginee
 ring (AISE) (Bionetics 2010)
URL:http://www.wikicfp.com/cfp/servlet/event.showcfp?eventid=8647&copyown
 erid=12982
UID:cfp92416-D@wikicfp.com
END:VEVENT
BEGIN:VEVENT
DTSTAMP:20260420T221835Z
DTSTART;VALUE=DATE:20100912
SUMMARY:Track on AISE Bionetics 2010 Notification Due
DESCRIPTION:Special Track on Artificial Intelligence and Software Enginee
 ring (AISE) (Bionetics 2010)
URL:http://www.wikicfp.com/cfp/servlet/event.showcfp?eventid=8647&copyown
 erid=12982
UID:cfp92416-N@wikicfp.com
END:VEVENT
BEGIN:VEVENT
DTSTAMP:20260420T221835Z
DTSTART;VALUE=DATE:20101010
SUMMARY:Track on AISE Bionetics 2010 Final Version Due
DESCRIPTION:Special Track on Artificial Intelligence and Software Enginee
 ring (AISE) (Bionetics 2010)
URL:http://www.wikicfp.com/cfp/servlet/event.showcfp?eventid=8647&copyown
 erid=12982
UID:cfp92416-N@wikicfp.com
END:VEVENT
BEGIN:VEVENT
DTSTAMP:20260420T221835Z
DTSTART;VALUE=DATE:20101201
DTEND;VALUE=DATE:20101205
SUMMARY:SEAL 2010
DESCRIPTION:Eighth International Conference on Simulated Evolution And Le
 arning (SEAL-2010)
URL:http://www.wikicfp.com/cfp/servlet/event.showcfp?eventid=8579&copyown
 erid=12982
UID:cfp92415-E@wikicfp.com
END:VEVENT
BEGIN:VEVENT
DTSTAMP:20260420T221835Z
DTSTART;VALUE=DATE:20100720
SUMMARY:SEAL 2010 Deadline
DESCRIPTION:Eighth International Conference on Simulated Evolution And Le
 arning (SEAL-2010)
URL:http://www.wikicfp.com/cfp/servlet/event.showcfp?eventid=8579&copyown
 erid=12982
UID:cfp92415-D@wikicfp.com
END:VEVENT
BEGIN:VEVENT
DTSTAMP:20260420T221835Z
DTSTART;VALUE=DATE:20100816
SUMMARY:SEAL 2010 Notification Due
DESCRIPTION:Eighth International Conference on Simulated Evolution And Le
 arning (SEAL-2010)
URL:http://www.wikicfp.com/cfp/servlet/event.showcfp?eventid=8579&copyown
 erid=12982
UID:cfp92415-N@wikicfp.com
END:VEVENT
BEGIN:VEVENT
DTSTAMP:20260420T221835Z
DTSTART;VALUE=DATE:20100903
SUMMARY:SEAL 2010 Final Version Due
DESCRIPTION:Eighth International Conference on Simulated Evolution And Le
 arning (SEAL-2010)
URL:http://www.wikicfp.com/cfp/servlet/event.showcfp?eventid=8579&copyown
 erid=12982
UID:cfp92415-N@wikicfp.com
END:VEVENT
BEGIN:VEVENT
DTSTAMP:20260420T221835Z
DTSTART;VALUE=DATE:20101129
DTEND;VALUE=DATE:20101202
SUMMARY:ISDA 2010
DESCRIPTION:10th International Conference on Intelligent Systems Design a
 nd Applications
URL:http://www.wikicfp.com/cfp/servlet/event.showcfp?eventid=8843&copyown
 erid=12982
UID:cfp93260-E@wikicfp.com
END:VEVENT
BEGIN:VEVENT
DTSTAMP:20260420T221835Z
DTSTART;VALUE=DATE:20100731
SUMMARY:ISDA 2010 Deadline
DESCRIPTION:10th International Conference on Intelligent Systems Design a
 nd Applications
URL:http://www.wikicfp.com/cfp/servlet/event.showcfp?eventid=8843&copyown
 erid=12982
UID:cfp93260-D@wikicfp.com
END:VEVENT
BEGIN:VEVENT
DTSTAMP:20260420T221835Z
DTSTART;VALUE=DATE:20100906
SUMMARY:ISDA 2010 Notification Due
DESCRIPTION:10th International Conference on Intelligent Systems Design a
 nd Applications
URL:http://www.wikicfp.com/cfp/servlet/event.showcfp?eventid=8843&copyown
 erid=12982
UID:cfp93260-N@wikicfp.com
END:VEVENT
BEGIN:VEVENT
DTSTAMP:20260420T221835Z
DTSTART;VALUE=DATE:20100915
SUMMARY:ISDA 2010 Final Version Due
DESCRIPTION:10th International Conference on Intelligent Systems Design a
 nd Applications
URL:http://www.wikicfp.com/cfp/servlet/event.showcfp?eventid=8843&copyown
 erid=12982
UID:cfp93260-N@wikicfp.com
END:VEVENT
BEGIN:VEVENT
DTSTAMP:20260420T221835Z
DTSTART;VALUE=DATE:20101215
DTEND;VALUE=DATE:20101218
SUMMARY:NaBIC 2010
DESCRIPTION:Second World Congress on Nature and Biologically Inspired Com
 puting
URL:http://www.wikicfp.com/cfp/servlet/event.showcfp?eventid=7989&copyown
 erid=12982
UID:cfp92414-E@wikicfp.com
END:VEVENT
BEGIN:VEVENT
DTSTAMP:20260420T221835Z
DTSTART;VALUE=DATE:20100906
SUMMARY:NaBIC 2010 Deadline
DESCRIPTION:Second World Congress on Nature and Biologically Inspired Com
 puting
URL:http://www.wikicfp.com/cfp/servlet/event.showcfp?eventid=7989&copyown
 erid=12982
UID:cfp92414-D@wikicfp.com
END:VEVENT
BEGIN:VEVENT
DTSTAMP:20260420T221835Z
DTSTART;VALUE=DATE:20100930
SUMMARY:NaBIC 2010 Notification Due
DESCRIPTION:Second World Congress on Nature and Biologically Inspired Com
 puting
URL:http://www.wikicfp.com/cfp/servlet/event.showcfp?eventid=7989&copyown
 erid=12982
UID:cfp92414-N@wikicfp.com
END:VEVENT
BEGIN:VEVENT
DTSTAMP:20260420T221835Z
DTSTART;VALUE=DATE:20101015
SUMMARY:NaBIC 2010 Final Version Due
DESCRIPTION:Second World Congress on Nature and Biologically Inspired Com
 puting
URL:http://www.wikicfp.com/cfp/servlet/event.showcfp?eventid=7989&copyown
 erid=12982
UID:cfp92414-N@wikicfp.com
END:VEVENT
BEGIN:VEVENT
DTSTAMP:20260420T221835Z
DTSTART;VALUE=DATE:20110117
DTEND;VALUE=DATE:20110122
SUMMARY:LION 2011
DESCRIPTION:Learning and Intelligent Optimization
URL:http://www.wikicfp.com/cfp/servlet/event.showcfp?eventid=10418&copyow
 nerid=12982
UID:cfp92417-E@wikicfp.com
END:VEVENT
BEGIN:VEVENT
DTSTAMP:20260420T221835Z
DTSTART;VALUE=DATE:20101016
SUMMARY:LION 2011 Deadline
DESCRIPTION:Learning and Intelligent Optimization
URL:http://www.wikicfp.com/cfp/servlet/event.showcfp?eventid=10418&copyow
 nerid=12982
UID:cfp92417-D@wikicfp.com
END:VEVENT
BEGIN:VEVENT
DTSTAMP:20260420T221835Z
DTSTART;VALUE=DATE:20101127
SUMMARY:LION 2011 Notification Due
DESCRIPTION:Learning and Intelligent Optimization
URL:http://www.wikicfp.com/cfp/servlet/event.showcfp?eventid=10418&copyow
 nerid=12982
UID:cfp92417-N@wikicfp.com
END:VEVENT
BEGIN:VEVENT
DTSTAMP:20260420T221835Z
DTSTART;VALUE=DATE:20110218
SUMMARY:LION 2011 Final Version Due
DESCRIPTION:Learning and Intelligent Optimization
URL:http://www.wikicfp.com/cfp/servlet/event.showcfp?eventid=10418&copyow
 nerid=12982
UID:cfp92417-N@wikicfp.com
END:VEVENT
BEGIN:VEVENT
DTSTAMP:20260420T221835Z
DTSTART;VALUE=DATE:20110411
DTEND;VALUE=DATE:20110416
SUMMARY:IEEE ALIFE  2011
DESCRIPTION:2011 IEEE Symposium on Artificial Life
URL:http://www.wikicfp.com/cfp/servlet/event.showcfp?eventid=9929&copyown
 erid=12982
UID:cfp92418-E@wikicfp.com
END:VEVENT
BEGIN:VEVENT
DTSTAMP:20260420T221835Z
DTSTART;VALUE=DATE:20101031
SUMMARY:IEEE ALIFE  2011 Deadline
DESCRIPTION:2011 IEEE Symposium on Artificial Life
URL:http://www.wikicfp.com/cfp/servlet/event.showcfp?eventid=9929&copyown
 erid=12982
UID:cfp92418-D@wikicfp.com
END:VEVENT
BEGIN:VEVENT
DTSTAMP:20260420T221835Z
DTSTART;VALUE=DATE:20101215
SUMMARY:IEEE ALIFE  2011 Notification Due
DESCRIPTION:2011 IEEE Symposium on Artificial Life
URL:http://www.wikicfp.com/cfp/servlet/event.showcfp?eventid=9929&copyown
 erid=12982
UID:cfp92418-N@wikicfp.com
END:VEVENT
BEGIN:VEVENT
DTSTAMP:20260420T221835Z
DTSTART;VALUE=DATE:20110115
SUMMARY:IEEE ALIFE  2011 Final Version Due
DESCRIPTION:2011 IEEE Symposium on Artificial Life
URL:http://www.wikicfp.com/cfp/servlet/event.showcfp?eventid=9929&copyown
 erid=12982
UID:cfp92418-N@wikicfp.com
END:VEVENT
BEGIN:VEVENT
DTSTAMP:20260420T221835Z
DTSTART;VALUE=DATE:20110712
DTEND;VALUE=DATE:20110717
SUMMARY:GECCO 2011
DESCRIPTION:GECCO - Genetic and Evolutionary Computation Conference
URL:http://www.wikicfp.com/cfp/servlet/event.showcfp?eventid=10755&copyow
 nerid=12982
UID:cfp96652-E@wikicfp.com
END:VEVENT
BEGIN:VEVENT
DTSTAMP:20260420T221835Z
DTSTART;VALUE=DATE:20110126
SUMMARY:GECCO 2011 Deadline
DESCRIPTION:GECCO - Genetic and Evolutionary Computation Conference
URL:http://www.wikicfp.com/cfp/servlet/event.showcfp?eventid=10755&copyow
 nerid=12982
UID:cfp96652-D@wikicfp.com
END:VEVENT
BEGIN:VEVENT
DTSTAMP:20260420T221835Z
DTSTART;VALUE=DATE:20110323
SUMMARY:GECCO 2011 Notification Due
DESCRIPTION:GECCO - Genetic and Evolutionary Computation Conference
URL:http://www.wikicfp.com/cfp/servlet/event.showcfp?eventid=10755&copyow
 nerid=12982
UID:cfp96652-N@wikicfp.com
END:VEVENT
BEGIN:VEVENT
DTSTAMP:20260420T221835Z
DTSTART;VALUE=DATE:20110418
SUMMARY:GECCO 2011 Final Version Due
DESCRIPTION:GECCO - Genetic and Evolutionary Computation Conference
URL:http://www.wikicfp.com/cfp/servlet/event.showcfp?eventid=10755&copyow
 nerid=12982
UID:cfp96652-N@wikicfp.com
END:VEVENT
BEGIN:VEVENT
DTSTAMP:20260420T221835Z
DTSTART;VALUE=DATE:20110605
DTEND;VALUE=DATE:20110609
SUMMARY:CEC 2011
DESCRIPTION:IEEE Congress on Evolutionary Computation
URL:http://www.wikicfp.com/cfp/servlet/event.showcfp?eventid=10758&copyow
 nerid=12982
UID:cfp96661-E@wikicfp.com
END:VEVENT
BEGIN:VEVENT
DTSTAMP:20260420T221835Z
DTSTART;VALUE=DATE:20110307
SUMMARY:CEC 2011 Deadline
DESCRIPTION:IEEE Congress on Evolutionary Computation
URL:http://www.wikicfp.com/cfp/servlet/event.showcfp?eventid=10758&copyow
 nerid=12982
UID:cfp96661-D@wikicfp.com
END:VEVENT
BEGIN:VEVENT
DTSTAMP:20260420T221835Z
DTSTART;VALUE=DATE:20110315
SUMMARY:CEC 2011 Notification Due
DESCRIPTION:IEEE Congress on Evolutionary Computation
URL:http://www.wikicfp.com/cfp/servlet/event.showcfp?eventid=10758&copyow
 nerid=12982
UID:cfp96661-N@wikicfp.com
END:VEVENT
BEGIN:VEVENT
DTSTAMP:20260420T221835Z
DTSTART;VALUE=DATE:20110401
SUMMARY:CEC 2011 Final Version Due
DESCRIPTION:IEEE Congress on Evolutionary Computation
URL:http://www.wikicfp.com/cfp/servlet/event.showcfp?eventid=10758&copyow
 nerid=12982
UID:cfp96661-N@wikicfp.com
END:VEVENT
END:VCALENDAR
