BEGIN:VCALENDAR
PRODID:-//WikiCFP//thiagomacg 1.0//EN
VERSION:2.0
CALSCALE:GREGORIAN
BEGIN:VEVENT
DTSTAMP:20260420T140458Z
DTSTART;VALUE=DATE:20190424
DTEND;VALUE=DATE:20190427
SUMMARY:EvoApplications 2019
DESCRIPTION:The 22nd International Conference on the Applications of Evol
 utionary Computation\, April 24â26 2019\, Leipzig\, Germany.
URL:http://www.wikicfp.com/cfp/servlet/event.showcfp?eventid=79928&copyow
 nerid=128918
UID:cfp745577-E@wikicfp.com
END:VEVENT
BEGIN:VEVENT
DTSTAMP:20260420T140458Z
DTSTART;VALUE=DATE:20181101
SUMMARY:EvoApplications 2019 Deadline
DESCRIPTION:The 22nd International Conference on the Applications of Evol
 utionary Computation\, April 24â26 2019\, Leipzig\, Germany.
URL:http://www.wikicfp.com/cfp/servlet/event.showcfp?eventid=79928&copyow
 nerid=128918
UID:cfp745577-D@wikicfp.com
END:VEVENT
BEGIN:VEVENT
DTSTAMP:20260420T140458Z
DTSTART;VALUE=DATE:20190103
SUMMARY:EvoApplications 2019 Notification Due
DESCRIPTION:The 22nd International Conference on the Applications of Evol
 utionary Computation\, April 24â26 2019\, Leipzig\, Germany.
URL:http://www.wikicfp.com/cfp/servlet/event.showcfp?eventid=79928&copyow
 nerid=128918
UID:cfp745577-N@wikicfp.com
END:VEVENT
BEGIN:VEVENT
DTSTAMP:20260420T140458Z
DTSTART;VALUE=DATE:20190115
SUMMARY:EvoApplications 2019 Final Version Due
DESCRIPTION:The 22nd International Conference on the Applications of Evol
 utionary Computation\, April 24â26 2019\, Leipzig\, Germany.
URL:http://www.wikicfp.com/cfp/servlet/event.showcfp?eventid=79928&copyow
 nerid=128918
UID:cfp745577-N@wikicfp.com
END:VEVENT
BEGIN:VEVENT
DTSTAMP:20260420T140458Z
DTSTART;VALUE=DATE:20190610
DTEND;VALUE=DATE:20190614
SUMMARY:CEC 2019
DESCRIPTION:Congress on Evolutionary Computation
URL:http://www.wikicfp.com/cfp/servlet/event.showcfp?eventid=79754&copyow
 nerid=128918
UID:cfp745985-E@wikicfp.com
END:VEVENT
BEGIN:VEVENT
DTSTAMP:20260420T140458Z
DTSTART;VALUE=DATE:20190107
SUMMARY:CEC 2019 Deadline
DESCRIPTION:Congress on Evolutionary Computation
URL:http://www.wikicfp.com/cfp/servlet/event.showcfp?eventid=79754&copyow
 nerid=128918
UID:cfp745985-D@wikicfp.com
END:VEVENT
BEGIN:VEVENT
DTSTAMP:20260420T140458Z
DTSTART;VALUE=DATE:20190307
SUMMARY:CEC 2019 Notification Due
DESCRIPTION:Congress on Evolutionary Computation
URL:http://www.wikicfp.com/cfp/servlet/event.showcfp?eventid=79754&copyow
 nerid=128918
UID:cfp745985-N@wikicfp.com
END:VEVENT
BEGIN:VEVENT
DTSTAMP:20260420T140458Z
DTSTART;VALUE=DATE:20190331
SUMMARY:CEC 2019 Final Version Due
DESCRIPTION:Congress on Evolutionary Computation
URL:http://www.wikicfp.com/cfp/servlet/event.showcfp?eventid=79754&copyow
 nerid=128918
UID:cfp745985-N@wikicfp.com
END:VEVENT
BEGIN:VEVENT
DTSTAMP:20260420T140458Z
DTSTART;VALUE=DATE:20190528
DTEND;VALUE=DATE:20190601
SUMMARY:AI 2019
DESCRIPTION:Artificial Intelligence
URL:http://www.wikicfp.com/cfp/servlet/event.showcfp?eventid=80667&copyow
 nerid=128918
UID:cfp745576-E@wikicfp.com
END:VEVENT
BEGIN:VEVENT
DTSTAMP:20260420T140458Z
DTSTART;VALUE=DATE:20190115
SUMMARY:AI 2019 Deadline
DESCRIPTION:Artificial Intelligence
URL:http://www.wikicfp.com/cfp/servlet/event.showcfp?eventid=80667&copyow
 nerid=128918
UID:cfp745576-D@wikicfp.com
END:VEVENT
BEGIN:VEVENT
DTSTAMP:20260420T140458Z
DTSTART;VALUE=DATE:20190213
SUMMARY:AI 2019 Notification Due
DESCRIPTION:Artificial Intelligence
URL:http://www.wikicfp.com/cfp/servlet/event.showcfp?eventid=80667&copyow
 nerid=128918
UID:cfp745576-N@wikicfp.com
END:VEVENT
BEGIN:VEVENT
DTSTAMP:20260420T140458Z
DTSTART;VALUE=DATE:20180226
SUMMARY:AI 2019 Final Version Due
DESCRIPTION:Artificial Intelligence
URL:http://www.wikicfp.com/cfp/servlet/event.showcfp?eventid=80667&copyow
 nerid=128918
UID:cfp745576-N@wikicfp.com
END:VEVENT
BEGIN:VEVENT
DTSTAMP:20260420T140458Z
DTSTART;VALUE=DATE:20190713
DTEND;VALUE=DATE:20190718
SUMMARY:GECCO 2019
DESCRIPTION:Genetic and Evolutionary Computation Conference
URL:http://www.wikicfp.com/cfp/servlet/event.showcfp?eventid=80981&copyow
 nerid=128918
UID:cfp745986-E@wikicfp.com
END:VEVENT
BEGIN:VEVENT
DTSTAMP:20260420T140458Z
DTSTART;VALUE=DATE:20190130
SUMMARY:GECCO 2019 Abstract Due
DESCRIPTION:Genetic and Evolutionary Computation Conference
URL:http://www.wikicfp.com/cfp/servlet/event.showcfp?eventid=80981&copyow
 nerid=128918
UID:cfp745986-A@wikicfp.com
END:VEVENT
BEGIN:VEVENT
DTSTAMP:20260420T140458Z
DTSTART;VALUE=DATE:20190206
SUMMARY:GECCO 2019 Deadline
DESCRIPTION:Genetic and Evolutionary Computation Conference
URL:http://www.wikicfp.com/cfp/servlet/event.showcfp?eventid=80981&copyow
 nerid=128918
UID:cfp745986-D@wikicfp.com
END:VEVENT
BEGIN:VEVENT
DTSTAMP:20260420T140458Z
DTSTART;VALUE=DATE:20190320
SUMMARY:GECCO 2019 Notification Due
DESCRIPTION:Genetic and Evolutionary Computation Conference
URL:http://www.wikicfp.com/cfp/servlet/event.showcfp?eventid=80981&copyow
 nerid=128918
UID:cfp745986-N@wikicfp.com
END:VEVENT
BEGIN:VEVENT
DTSTAMP:20260420T140458Z
DTSTART;VALUE=DATE:20190524
DTEND;VALUE=DATE:20190527
SUMMARY:20th EANN 2019
DESCRIPTION:20th Engineering Applications of Neural Networks conference
URL:http://www.wikicfp.com/cfp/servlet/event.showcfp?eventid=80466&copyow
 nerid=128918
UID:cfp745807-E@wikicfp.com
END:VEVENT
BEGIN:VEVENT
DTSTAMP:20260420T140458Z
DTSTART;VALUE=DATE:20190209
SUMMARY:20th EANN 2019 Deadline
DESCRIPTION:20th Engineering Applications of Neural Networks conference
URL:http://www.wikicfp.com/cfp/servlet/event.showcfp?eventid=80466&copyow
 nerid=128918
UID:cfp745807-D@wikicfp.com
END:VEVENT
BEGIN:VEVENT
DTSTAMP:20260420T140458Z
DTSTART;VALUE=DATE:20190303
SUMMARY:20th EANN 2019 Notification Due
DESCRIPTION:20th Engineering Applications of Neural Networks conference
URL:http://www.wikicfp.com/cfp/servlet/event.showcfp?eventid=80466&copyow
 nerid=128918
UID:cfp745807-N@wikicfp.com
END:VEVENT
BEGIN:VEVENT
DTSTAMP:20260420T140458Z
DTSTART;VALUE=DATE:20190315
SUMMARY:20th EANN 2019 Final Version Due
DESCRIPTION:20th Engineering Applications of Neural Networks conference
URL:http://www.wikicfp.com/cfp/servlet/event.showcfp?eventid=80466&copyow
 nerid=128918
UID:cfp745807-N@wikicfp.com
END:VEVENT
BEGIN:VEVENT
DTSTAMP:20260420T140458Z
DTSTART;VALUE=DATE:20190810
DTEND;VALUE=DATE:20190817
SUMMARY:IJCAI 2019
DESCRIPTION:International Joint Conference on Artificial Intelligence
URL:http://www.wikicfp.com/cfp/servlet/event.showcfp?eventid=79608&copyow
 nerid=128918
UID:cfp745578-E@wikicfp.com
END:VEVENT
BEGIN:VEVENT
DTSTAMP:20260420T140458Z
DTSTART;VALUE=DATE:20190225
SUMMARY:IJCAI 2019 Deadline
DESCRIPTION:International Joint Conference on Artificial Intelligence
URL:http://www.wikicfp.com/cfp/servlet/event.showcfp?eventid=79608&copyow
 nerid=128918
UID:cfp745578-D@wikicfp.com
END:VEVENT
BEGIN:VEVENT
DTSTAMP:20260420T140458Z
DTSTART;VALUE=DATE:20190509
SUMMARY:IJCAI 2019 Notification Due
DESCRIPTION:International Joint Conference on Artificial Intelligence
URL:http://www.wikicfp.com/cfp/servlet/event.showcfp?eventid=79608&copyow
 nerid=128918
UID:cfp745578-N@wikicfp.com
END:VEVENT
END:VCALENDAR
