BEGIN:VCALENDAR
PRODID:-//WikiCFP//serajtheen 1.0//EN
VERSION:2.0
CALSCALE:GREGORIAN
BEGIN:VEVENT
DTSTAMP:20260421T075714Z
DTSTART;VALUE=DATE:20110306
DTEND;VALUE=DATE:20110310
SUMMARY:NITS 2011
DESCRIPTION:NITS 2011: The 3rd National Information Technology Symposium
URL:http://www.wikicfp.com/cfp/servlet/event.showcfp?eventid=10192&copyow
 nerid=12775
UID:cfp91093-E@wikicfp.com
END:VEVENT
BEGIN:VEVENT
DTSTAMP:20260421T075714Z
DTSTART;VALUE=DATE:20101015
SUMMARY:NITS 2011 Deadline
DESCRIPTION:NITS 2011: The 3rd National Information Technology Symposium
URL:http://www.wikicfp.com/cfp/servlet/event.showcfp?eventid=10192&copyow
 nerid=12775
UID:cfp91093-D@wikicfp.com
END:VEVENT
BEGIN:VEVENT
DTSTAMP:20260421T075714Z
DTSTART;VALUE=DATE:20101201
SUMMARY:NITS 2011 Notification Due
DESCRIPTION:NITS 2011: The 3rd National Information Technology Symposium
URL:http://www.wikicfp.com/cfp/servlet/event.showcfp?eventid=10192&copyow
 nerid=12775
UID:cfp91093-N@wikicfp.com
END:VEVENT
BEGIN:VEVENT
DTSTAMP:20260421T075714Z
DTSTART;VALUE=DATE:20110111
SUMMARY:NITS 2011 Final Version Due
DESCRIPTION:NITS 2011: The 3rd National Information Technology Symposium
URL:http://www.wikicfp.com/cfp/servlet/event.showcfp?eventid=10192&copyow
 nerid=12775
UID:cfp91093-N@wikicfp.com
END:VEVENT
END:VCALENDAR
