BEGIN:VCALENDAR
PRODID:-//WikiCFP//hughesdr 1.0//EN
VERSION:2.0
CALSCALE:GREGORIAN
BEGIN:VEVENT
DTSTAMP:20260425T224750Z
DTSTART;VALUE=DATE:20101129
DTEND;VALUE=DATE:20101204
SUMMARY:MidSens 2010
DESCRIPTION:The fifth international workshop on Middleware Tools\, Servic
 es and Run-Time Support for Sensor Networks
URL:http://www.wikicfp.com/cfp/servlet/event.showcfp?eventid=10306&copyow
 nerid=12751
UID:cfp90989-E@wikicfp.com
END:VEVENT
BEGIN:VEVENT
DTSTAMP:20260425T224750Z
DTSTART;VALUE=DATE:20100725
SUMMARY:MidSens 2010 Abstract Due
DESCRIPTION:The fifth international workshop on Middleware Tools\, Servic
 es and Run-Time Support for Sensor Networks
URL:http://www.wikicfp.com/cfp/servlet/event.showcfp?eventid=10306&copyow
 nerid=12751
UID:cfp90989-A@wikicfp.com
END:VEVENT
BEGIN:VEVENT
DTSTAMP:20260425T224750Z
DTSTART;VALUE=DATE:20100801
SUMMARY:MidSens 2010 Deadline
DESCRIPTION:The fifth international workshop on Middleware Tools\, Servic
 es and Run-Time Support for Sensor Networks
URL:http://www.wikicfp.com/cfp/servlet/event.showcfp?eventid=10306&copyow
 nerid=12751
UID:cfp90989-D@wikicfp.com
END:VEVENT
BEGIN:VEVENT
DTSTAMP:20260425T224750Z
DTSTART;VALUE=DATE:20100915
SUMMARY:MidSens 2010 Notification Due
DESCRIPTION:The fifth international workshop on Middleware Tools\, Servic
 es and Run-Time Support for Sensor Networks
URL:http://www.wikicfp.com/cfp/servlet/event.showcfp?eventid=10306&copyow
 nerid=12751
UID:cfp90989-N@wikicfp.com
END:VEVENT
BEGIN:VEVENT
DTSTAMP:20260425T224750Z
DTSTART;VALUE=DATE:20101001
SUMMARY:MidSens 2010 Final Version Due
DESCRIPTION:The fifth international workshop on Middleware Tools\, Servic
 es and Run-Time Support for Sensor Networks
URL:http://www.wikicfp.com/cfp/servlet/event.showcfp?eventid=10306&copyow
 nerid=12751
UID:cfp90989-N@wikicfp.com
END:VEVENT
END:VCALENDAR
