BEGIN:VCALENDAR
PRODID:-//WikiCFP//zhongqi 1.0//EN
VERSION:2.0
CALSCALE:GREGORIAN
BEGIN:VEVENT
DTSTAMP:20260422T172822Z
DTSTART;VALUE=DATE:20240803
DTEND;VALUE=DATE:20240810
SUMMARY:IJCAI 2024
DESCRIPTION:International Joint Conference on Artificial Intelligence
URL:http://www.wikicfp.com/cfp/servlet/event.showcfp?eventid=176727&copyo
 wnerid=126800
UID:cfp978639-E@wikicfp.com
END:VEVENT
BEGIN:VEVENT
DTSTAMP:20260422T172822Z
DTSTART;VALUE=DATE:20190127
DTEND;VALUE=DATE:20190202
SUMMARY:AAAI 2019
DESCRIPTION:National Conference on Artificial Intelligence
URL:http://www.wikicfp.com/cfp/servlet/event.showcfp?eventid=75888&copyow
 nerid=126800
UID:cfp742125-E@wikicfp.com
END:VEVENT
BEGIN:VEVENT
DTSTAMP:20260422T172822Z
DTSTART;VALUE=DATE:20180901
SUMMARY:AAAI 2019 Abstract Due
DESCRIPTION:National Conference on Artificial Intelligence
URL:http://www.wikicfp.com/cfp/servlet/event.showcfp?eventid=75888&copyow
 nerid=126800
UID:cfp742125-A@wikicfp.com
END:VEVENT
BEGIN:VEVENT
DTSTAMP:20260422T172822Z
DTSTART;VALUE=DATE:20180905
SUMMARY:AAAI 2019 Deadline
DESCRIPTION:National Conference on Artificial Intelligence
URL:http://www.wikicfp.com/cfp/servlet/event.showcfp?eventid=75888&copyow
 nerid=126800
UID:cfp742125-D@wikicfp.com
END:VEVENT
BEGIN:VEVENT
DTSTAMP:20260422T172822Z
DTSTART;VALUE=DATE:20181101
SUMMARY:AAAI 2019 Notification Due
DESCRIPTION:National Conference on Artificial Intelligence
URL:http://www.wikicfp.com/cfp/servlet/event.showcfp?eventid=75888&copyow
 nerid=126800
UID:cfp742125-N@wikicfp.com
END:VEVENT
BEGIN:VEVENT
DTSTAMP:20260422T172822Z
DTSTART;VALUE=DATE:20181114
SUMMARY:AAAI 2019 Final Version Due
DESCRIPTION:National Conference on Artificial Intelligence
URL:http://www.wikicfp.com/cfp/servlet/event.showcfp?eventid=75888&copyow
 nerid=126800
UID:cfp742125-N@wikicfp.com
END:VEVENT
BEGIN:VEVENT
DTSTAMP:20260422T172822Z
DTSTART;VALUE=DATE:20201108
DTEND;VALUE=DATE:20201113
SUMMARY:EMNLP 2020
DESCRIPTION:Conference on Empirical Methods in Natural Language Processin
 g
URL:http://www.wikicfp.com/cfp/servlet/event.showcfp?eventid=98012&copyow
 nerid=126800
UID:cfp821568-E@wikicfp.com
END:VEVENT
BEGIN:VEVENT
DTSTAMP:20260422T172822Z
DTSTART;VALUE=DATE:20200508
SUMMARY:EMNLP 2020 Deadline
DESCRIPTION:Conference on Empirical Methods in Natural Language Processin
 g
URL:http://www.wikicfp.com/cfp/servlet/event.showcfp?eventid=98012&copyow
 nerid=126800
UID:cfp821568-D@wikicfp.com
END:VEVENT
BEGIN:VEVENT
DTSTAMP:20260422T172822Z
DTSTART;VALUE=DATE:20200808
SUMMARY:EMNLP 2020 Notification Due
DESCRIPTION:Conference on Empirical Methods in Natural Language Processin
 g
URL:http://www.wikicfp.com/cfp/servlet/event.showcfp?eventid=98012&copyow
 nerid=126800
UID:cfp821568-N@wikicfp.com
END:VEVENT
BEGIN:VEVENT
DTSTAMP:20260422T172822Z
DTSTART;VALUE=DATE:20200828
SUMMARY:EMNLP 2020 Final Version Due
DESCRIPTION:Conference on Empirical Methods in Natural Language Processin
 g
URL:http://www.wikicfp.com/cfp/servlet/event.showcfp?eventid=98012&copyow
 nerid=126800
UID:cfp821568-N@wikicfp.com
END:VEVENT
BEGIN:VEVENT
DTSTAMP:20260422T172822Z
DTSTART;VALUE=DATE:20240710
DTEND;VALUE=DATE:20240715
SUMMARY:ICDM 2024
DESCRIPTION:24th Industrial Conference on Data Mining
URL:http://www.wikicfp.com/cfp/servlet/event.showcfp?eventid=173743&copyo
 wnerid=126800
UID:cfp974123-E@wikicfp.com
END:VEVENT
BEGIN:VEVENT
DTSTAMP:20260422T172822Z
DTSTART;VALUE=DATE:20240115
SUMMARY:ICDM 2024 Deadline
DESCRIPTION:24th Industrial Conference on Data Mining
URL:http://www.wikicfp.com/cfp/servlet/event.showcfp?eventid=173743&copyo
 wnerid=126800
UID:cfp974123-D@wikicfp.com
END:VEVENT
BEGIN:VEVENT
DTSTAMP:20260422T172822Z
DTSTART;VALUE=DATE:20240320
SUMMARY:ICDM 2024 Notification Due
DESCRIPTION:24th Industrial Conference on Data Mining
URL:http://www.wikicfp.com/cfp/servlet/event.showcfp?eventid=173743&copyo
 wnerid=126800
UID:cfp974123-N@wikicfp.com
END:VEVENT
BEGIN:VEVENT
DTSTAMP:20260422T172822Z
DTSTART;VALUE=DATE:20240420
SUMMARY:ICDM 2024 Final Version Due
DESCRIPTION:24th Industrial Conference on Data Mining
URL:http://www.wikicfp.com/cfp/servlet/event.showcfp?eventid=173743&copyo
 wnerid=126800
UID:cfp974123-N@wikicfp.com
END:VEVENT
BEGIN:VEVENT
DTSTAMP:20260422T172822Z
DTSTART;VALUE=DATE:20240714
DTEND;VALUE=DATE:20240719
SUMMARY:SIGIR 2024
DESCRIPTION:The 47th International ACM SIGIR Conference on Research and D
 evelopment in Information Retrieval
URL:http://www.wikicfp.com/cfp/servlet/event.showcfp?eventid=177024&copyo
 wnerid=126800
UID:cfp978641-E@wikicfp.com
END:VEVENT
BEGIN:VEVENT
DTSTAMP:20260422T172822Z
DTSTART;VALUE=DATE:20240118
SUMMARY:SIGIR 2024 Abstract Due
DESCRIPTION:The 47th International ACM SIGIR Conference on Research and D
 evelopment in Information Retrieval
URL:http://www.wikicfp.com/cfp/servlet/event.showcfp?eventid=177024&copyo
 wnerid=126800
UID:cfp978641-A@wikicfp.com
END:VEVENT
BEGIN:VEVENT
DTSTAMP:20260422T172822Z
DTSTART;VALUE=DATE:20240125
SUMMARY:SIGIR 2024 Deadline
DESCRIPTION:The 47th International ACM SIGIR Conference on Research and D
 evelopment in Information Retrieval
URL:http://www.wikicfp.com/cfp/servlet/event.showcfp?eventid=177024&copyo
 wnerid=126800
UID:cfp978641-D@wikicfp.com
END:VEVENT
BEGIN:VEVENT
DTSTAMP:20260422T172822Z
DTSTART;VALUE=DATE:20240721
DTEND;VALUE=DATE:20240728
SUMMARY:ICML 2024
DESCRIPTION:International Conference on Machine Learning
URL:http://www.wikicfp.com/cfp/servlet/event.showcfp?eventid=176954&copyo
 wnerid=126800
UID:cfp978640-E@wikicfp.com
END:VEVENT
BEGIN:VEVENT
DTSTAMP:20260422T172822Z
DTSTART;VALUE=DATE:20240201
SUMMARY:ICML 2024 Deadline
DESCRIPTION:International Conference on Machine Learning
URL:http://www.wikicfp.com/cfp/servlet/event.showcfp?eventid=176954&copyo
 wnerid=126800
UID:cfp978640-D@wikicfp.com
END:VEVENT
BEGIN:VEVENT
DTSTAMP:20260422T172822Z
DTSTART;VALUE=DATE:20240501
SUMMARY:ICML 2024 Notification Due
DESCRIPTION:International Conference on Machine Learning
URL:http://www.wikicfp.com/cfp/servlet/event.showcfp?eventid=176954&copyo
 wnerid=126800
UID:cfp978640-N@wikicfp.com
END:VEVENT
BEGIN:VEVENT
DTSTAMP:20260422T172822Z
DTSTART;VALUE=DATE:20240529
SUMMARY:ICML 2024 Final Version Due
DESCRIPTION:International Conference on Machine Learning
URL:http://www.wikicfp.com/cfp/servlet/event.showcfp?eventid=176954&copyo
 wnerid=126800
UID:cfp978640-N@wikicfp.com
END:VEVENT
END:VCALENDAR
