BEGIN:VCALENDAR
PRODID:-//WikiCFP//arundhati_b 1.0//EN
VERSION:2.0
CALSCALE:GREGORIAN
BEGIN:VEVENT
DTSTAMP:20260421T123824Z
DTSTART;VALUE=DATE:20181111
DTEND;VALUE=DATE:20181113
SUMMARY:MLHPC 2018
DESCRIPTION:The 4th Workshop on Machine Learning in HPC Environments - in
  conjunction with Supercomputing
URL:http://www.wikicfp.com/cfp/servlet/event.showcfp?eventid=77413&copyow
 nerid=126232
UID:cfp741401-E@wikicfp.com
END:VEVENT
BEGIN:VEVENT
DTSTAMP:20260421T123824Z
DTSTART;VALUE=DATE:20180901
SUMMARY:MLHPC 2018 Deadline
DESCRIPTION:The 4th Workshop on Machine Learning in HPC Environments - in
  conjunction with Supercomputing
URL:http://www.wikicfp.com/cfp/servlet/event.showcfp?eventid=77413&copyow
 nerid=126232
UID:cfp741401-D@wikicfp.com
END:VEVENT
BEGIN:VEVENT
DTSTAMP:20260421T123824Z
DTSTART;VALUE=DATE:20180914
SUMMARY:MLHPC 2018 Notification Due
DESCRIPTION:The 4th Workshop on Machine Learning in HPC Environments - in
  conjunction with Supercomputing
URL:http://www.wikicfp.com/cfp/servlet/event.showcfp?eventid=77413&copyow
 nerid=126232
UID:cfp741401-N@wikicfp.com
END:VEVENT
BEGIN:VEVENT
DTSTAMP:20260421T123824Z
DTSTART;VALUE=DATE:20180928
SUMMARY:MLHPC 2018 Final Version Due
DESCRIPTION:The 4th Workshop on Machine Learning in HPC Environments - in
  conjunction with Supercomputing
URL:http://www.wikicfp.com/cfp/servlet/event.showcfp?eventid=77413&copyow
 nerid=126232
UID:cfp741401-N@wikicfp.com
END:VEVENT
BEGIN:VEVENT
DTSTAMP:20260421T123824Z
DTSTART;VALUE=DATE:20190430
DTEND;VALUE=DATE:20190501
SUMMARY:ICLR 2019
DESCRIPTION:International Conference for Learning Representations
URL:http://www.wikicfp.com/cfp/servlet/event.showcfp?eventid=78931&copyow
 nerid=126232
UID:cfp741404-E@wikicfp.com
END:VEVENT
BEGIN:VEVENT
DTSTAMP:20260421T123824Z
DTSTART;VALUE=DATE:20180927
SUMMARY:ICLR 2019 Deadline
DESCRIPTION:International Conference for Learning Representations
URL:http://www.wikicfp.com/cfp/servlet/event.showcfp?eventid=78931&copyow
 nerid=126232
UID:cfp741404-D@wikicfp.com
END:VEVENT
BEGIN:VEVENT
DTSTAMP:20260421T123824Z
DTSTART;VALUE=DATE:20190331
DTEND;VALUE=DATE:20190403
SUMMARY:SysML 2019
DESCRIPTION:SysML Conference
URL:http://www.wikicfp.com/cfp/servlet/event.showcfp?eventid=75950&copyow
 nerid=126232
UID:cfp741405-E@wikicfp.com
END:VEVENT
BEGIN:VEVENT
DTSTAMP:20260421T123824Z
DTSTART;VALUE=DATE:20180928
SUMMARY:SysML 2019 Deadline
DESCRIPTION:SysML Conference
URL:http://www.wikicfp.com/cfp/servlet/event.showcfp?eventid=75950&copyow
 nerid=126232
UID:cfp741405-D@wikicfp.com
END:VEVENT
BEGIN:VEVENT
DTSTAMP:20260421T123824Z
DTSTART;VALUE=DATE:20190104
SUMMARY:SysML 2019 Notification Due
DESCRIPTION:SysML Conference
URL:http://www.wikicfp.com/cfp/servlet/event.showcfp?eventid=75950&copyow
 nerid=126232
UID:cfp741405-N@wikicfp.com
END:VEVENT
BEGIN:VEVENT
DTSTAMP:20260421T123824Z
DTSTART;VALUE=DATE:20190414
DTEND;VALUE=DATE:20190418
SUMMARY:PAKDD 2019
DESCRIPTION:Pacific-Asia Conference on Knowledge Discovery and Data Minin
 g
URL:http://www.wikicfp.com/cfp/servlet/event.showcfp?eventid=78208&copyow
 nerid=126232
UID:cfp741402-E@wikicfp.com
END:VEVENT
BEGIN:VEVENT
DTSTAMP:20260421T123824Z
DTSTART;VALUE=DATE:20181010
SUMMARY:PAKDD 2019 Deadline
DESCRIPTION:Pacific-Asia Conference on Knowledge Discovery and Data Minin
 g
URL:http://www.wikicfp.com/cfp/servlet/event.showcfp?eventid=78208&copyow
 nerid=126232
UID:cfp741402-D@wikicfp.com
END:VEVENT
BEGIN:VEVENT
DTSTAMP:20260421T123824Z
DTSTART;VALUE=DATE:20181215
SUMMARY:PAKDD 2019 Notification Due
DESCRIPTION:Pacific-Asia Conference on Knowledge Discovery and Data Minin
 g
URL:http://www.wikicfp.com/cfp/servlet/event.showcfp?eventid=78208&copyow
 nerid=126232
UID:cfp741402-N@wikicfp.com
END:VEVENT
BEGIN:VEVENT
DTSTAMP:20260421T123824Z
DTSTART;VALUE=DATE:20190115
SUMMARY:PAKDD 2019 Final Version Due
DESCRIPTION:Pacific-Asia Conference on Knowledge Discovery and Data Minin
 g
URL:http://www.wikicfp.com/cfp/servlet/event.showcfp?eventid=78208&copyow
 nerid=126232
UID:cfp741402-N@wikicfp.com
END:VEVENT
BEGIN:VEVENT
DTSTAMP:20260421T123824Z
DTSTART;VALUE=DATE:20181130
SUMMARY:Advances in HPC for AI 2019 Deadline
DESCRIPTION:Elsevier JPDC - Special Issue on Advances on Parallel and Hig
 h Performance Computing for AI Applications
URL:http://www.wikicfp.com/cfp/servlet/event.showcfp?eventid=81535&copyow
 nerid=126232
UID:cfp750898-D@wikicfp.com
END:VEVENT
BEGIN:VEVENT
DTSTAMP:20260421T123824Z
DTSTART;VALUE=DATE:20190424
DTEND;VALUE=DATE:20190427
SUMMARY:STSIVA 2019
DESCRIPTION:The XXII Symposium on Image\, Signal Processing and Artificia
 l Vision (STSIVA 2019)
URL:http://www.wikicfp.com/cfp/servlet/event.showcfp?eventid=81249&copyow
 nerid=126232
UID:cfp750897-E@wikicfp.com
END:VEVENT
BEGIN:VEVENT
DTSTAMP:20260421T123824Z
DTSTART;VALUE=DATE:20181214
SUMMARY:STSIVA 2019 Deadline
DESCRIPTION:The XXII Symposium on Image\, Signal Processing and Artificia
 l Vision (STSIVA 2019)
URL:http://www.wikicfp.com/cfp/servlet/event.showcfp?eventid=81249&copyow
 nerid=126232
UID:cfp750897-D@wikicfp.com
END:VEVENT
BEGIN:VEVENT
DTSTAMP:20260421T123824Z
DTSTART;VALUE=DATE:20190215
SUMMARY:STSIVA 2019 Notification Due
DESCRIPTION:The XXII Symposium on Image\, Signal Processing and Artificia
 l Vision (STSIVA 2019)
URL:http://www.wikicfp.com/cfp/servlet/event.showcfp?eventid=81249&copyow
 nerid=126232
UID:cfp750897-N@wikicfp.com
END:VEVENT
BEGIN:VEVENT
DTSTAMP:20260421T123824Z
DTSTART;VALUE=DATE:20190203
DTEND;VALUE=DATE:20190209
SUMMARY:RVSS 2019
DESCRIPTION:Robotic Vision Summer School
URL:http://www.wikicfp.com/cfp/servlet/event.showcfp?eventid=80527&copyow
 nerid=126232
UID:cfp750901-E@wikicfp.com
END:VEVENT
BEGIN:VEVENT
DTSTAMP:20260421T123824Z
DTSTART;VALUE=DATE:20181222
SUMMARY:RVSS 2019 Deadline
DESCRIPTION:Robotic Vision Summer School
URL:http://www.wikicfp.com/cfp/servlet/event.showcfp?eventid=80527&copyow
 nerid=126232
UID:cfp750901-D@wikicfp.com
END:VEVENT
BEGIN:VEVENT
DTSTAMP:20260421T123824Z
DTSTART;VALUE=DATE:20190520
DTEND;VALUE=DATE:20190523
SUMMARY:CORES 2019
DESCRIPTION:11th International Conference on Computer Recognition Systems
  CORES 2019
URL:http://www.wikicfp.com/cfp/servlet/event.showcfp?eventid=77323&copyow
 nerid=126232
UID:cfp750896-E@wikicfp.com
END:VEVENT
BEGIN:VEVENT
DTSTAMP:20260421T123824Z
DTSTART;VALUE=DATE:20190111
SUMMARY:CORES 2019 Deadline
DESCRIPTION:11th International Conference on Computer Recognition Systems
  CORES 2019
URL:http://www.wikicfp.com/cfp/servlet/event.showcfp?eventid=77323&copyow
 nerid=126232
UID:cfp750896-D@wikicfp.com
END:VEVENT
BEGIN:VEVENT
DTSTAMP:20260421T123824Z
DTSTART;VALUE=DATE:20190201
SUMMARY:CORES 2019 Notification Due
DESCRIPTION:11th International Conference on Computer Recognition Systems
  CORES 2019
URL:http://www.wikicfp.com/cfp/servlet/event.showcfp?eventid=77323&copyow
 nerid=126232
UID:cfp750896-N@wikicfp.com
END:VEVENT
BEGIN:VEVENT
DTSTAMP:20260421T123824Z
DTSTART;VALUE=DATE:20190215
SUMMARY:CORES 2019 Final Version Due
DESCRIPTION:11th International Conference on Computer Recognition Systems
  CORES 2019
URL:http://www.wikicfp.com/cfp/servlet/event.showcfp?eventid=77323&copyow
 nerid=126232
UID:cfp750896-N@wikicfp.com
END:VEVENT
BEGIN:VEVENT
DTSTAMP:20260421T123824Z
DTSTART;VALUE=DATE:20190626
DTEND;VALUE=DATE:20190629
SUMMARY:WSOM+ 2019
DESCRIPTION:13th International Workshop on Self-Organizing Maps and Learn
 ing Vector Quantization\, Clustering and Data Visualization
URL:http://www.wikicfp.com/cfp/servlet/event.showcfp?eventid=81642&copyow
 nerid=126232
UID:cfp750900-E@wikicfp.com
END:VEVENT
BEGIN:VEVENT
DTSTAMP:20260421T123824Z
DTSTART;VALUE=DATE:20190120
SUMMARY:WSOM+ 2019 Deadline
DESCRIPTION:13th International Workshop on Self-Organizing Maps and Learn
 ing Vector Quantization\, Clustering and Data Visualization
URL:http://www.wikicfp.com/cfp/servlet/event.showcfp?eventid=81642&copyow
 nerid=126232
UID:cfp750900-D@wikicfp.com
END:VEVENT
BEGIN:VEVENT
DTSTAMP:20260421T123824Z
DTSTART;VALUE=DATE:20190224
SUMMARY:WSOM+ 2019 Notification Due
DESCRIPTION:13th International Workshop on Self-Organizing Maps and Learn
 ing Vector Quantization\, Clustering and Data Visualization
URL:http://www.wikicfp.com/cfp/servlet/event.showcfp?eventid=81642&copyow
 nerid=126232
UID:cfp750900-N@wikicfp.com
END:VEVENT
BEGIN:VEVENT
DTSTAMP:20260421T123824Z
DTSTART;VALUE=DATE:20190610
DTEND;VALUE=DATE:20190616
SUMMARY:ICML 2019
DESCRIPTION:36th International Conference on Machine Learning
URL:http://www.wikicfp.com/cfp/servlet/event.showcfp?eventid=81548&copyow
 nerid=126232
UID:cfp750899-E@wikicfp.com
END:VEVENT
BEGIN:VEVENT
DTSTAMP:20260421T123824Z
DTSTART;VALUE=DATE:20190118
SUMMARY:ICML 2019 Abstract Due
DESCRIPTION:36th International Conference on Machine Learning
URL:http://www.wikicfp.com/cfp/servlet/event.showcfp?eventid=81548&copyow
 nerid=126232
UID:cfp750899-A@wikicfp.com
END:VEVENT
BEGIN:VEVENT
DTSTAMP:20260421T123824Z
DTSTART;VALUE=DATE:20190123
SUMMARY:ICML 2019 Deadline
DESCRIPTION:36th International Conference on Machine Learning
URL:http://www.wikicfp.com/cfp/servlet/event.showcfp?eventid=81548&copyow
 nerid=126232
UID:cfp750899-D@wikicfp.com
END:VEVENT
BEGIN:VEVENT
DTSTAMP:20260421T123824Z
DTSTART;VALUE=DATE:20190625
DTEND;VALUE=DATE:20190630
SUMMARY:COLT 2019
DESCRIPTION:Computational Learning Theory
URL:http://www.wikicfp.com/cfp/servlet/event.showcfp?eventid=80559&copyow
 nerid=126232
UID:cfp750895-E@wikicfp.com
END:VEVENT
BEGIN:VEVENT
DTSTAMP:20260421T123824Z
DTSTART;VALUE=DATE:20190201
SUMMARY:COLT 2019 Deadline
DESCRIPTION:Computational Learning Theory
URL:http://www.wikicfp.com/cfp/servlet/event.showcfp?eventid=80559&copyow
 nerid=126232
UID:cfp750895-D@wikicfp.com
END:VEVENT
BEGIN:VEVENT
DTSTAMP:20260421T123824Z
DTSTART;VALUE=DATE:20190417
SUMMARY:COLT 2019 Notification Due
DESCRIPTION:Computational Learning Theory
URL:http://www.wikicfp.com/cfp/servlet/event.showcfp?eventid=80559&copyow
 nerid=126232
UID:cfp750895-N@wikicfp.com
END:VEVENT
BEGIN:VEVENT
DTSTAMP:20260421T123824Z
DTSTART;VALUE=DATE:20200810
DTEND;VALUE=DATE:20200813
SUMMARY:ICSFrontiers 2020 2020
DESCRIPTION:2020 2nd International Conference on Frontiers of Information
  and Communications Security (ICSFrontiers 2020)
URL:http://www.wikicfp.com/cfp/servlet/event.showcfp?eventid=70039&copyow
 nerid=126232
UID:cfp741400-E@wikicfp.com
END:VEVENT
BEGIN:VEVENT
DTSTAMP:20260421T123824Z
DTSTART;VALUE=DATE:20200331
SUMMARY:ICSFrontiers 2020 2020 Deadline
DESCRIPTION:2020 2nd International Conference on Frontiers of Information
  and Communications Security (ICSFrontiers 2020)
URL:http://www.wikicfp.com/cfp/servlet/event.showcfp?eventid=70039&copyow
 nerid=126232
UID:cfp741400-D@wikicfp.com
END:VEVENT
BEGIN:VEVENT
DTSTAMP:20260421T123824Z
DTSTART;VALUE=DATE:20200331
SUMMARY:ICSFrontiers 2020 2020 Final Version Due
DESCRIPTION:2020 2nd International Conference on Frontiers of Information
  and Communications Security (ICSFrontiers 2020)
URL:http://www.wikicfp.com/cfp/servlet/event.showcfp?eventid=70039&copyow
 nerid=126232
UID:cfp741400-N@wikicfp.com
END:VEVENT
BEGIN:VEVENT
DTSTAMP:20260421T123824Z
DTSTART;VALUE=DATE:20200710
DTEND;VALUE=DATE:20200713
SUMMARY:IEEE-CVIV 2020
DESCRIPTION:2020 2nd International Conference on Advances in Computer Vis
 ion\, Image and Virtualization (CVIV 2020)
URL:http://www.wikicfp.com/cfp/servlet/event.showcfp?eventid=77747&copyow
 nerid=126232
UID:cfp741403-E@wikicfp.com
END:VEVENT
BEGIN:VEVENT
DTSTAMP:20260421T123824Z
DTSTART;VALUE=DATE:20200630
SUMMARY:IEEE-CVIV 2020 Deadline
DESCRIPTION:2020 2nd International Conference on Advances in Computer Vis
 ion\, Image and Virtualization (CVIV 2020)
URL:http://www.wikicfp.com/cfp/servlet/event.showcfp?eventid=77747&copyow
 nerid=126232
UID:cfp741403-D@wikicfp.com
END:VEVENT
END:VCALENDAR
