BEGIN:VCALENDAR
PRODID:-//WikiCFP//meeta 1.0//EN
VERSION:2.0
CALSCALE:GREGORIAN
BEGIN:VEVENT
DTSTAMP:20260420T040555Z
DTSTART;VALUE=DATE:20080402
DTEND;VALUE=DATE:20080405
SUMMARY:ISPASS 2008
DESCRIPTION:2008 IEEE International Symposium on Performance Analysis of 
 Systems and Software
URL:http://www.wikicfp.com/cfp/servlet/event.showcfp?eventid=1140&copyown
 erid=1262
UID:cfp10430-E@wikicfp.com
END:VEVENT
BEGIN:VEVENT
DTSTAMP:20260420T040555Z
DTSTART;VALUE=DATE:20070921
SUMMARY:ISPASS 2008 Abstract Due
DESCRIPTION:2008 IEEE International Symposium on Performance Analysis of 
 Systems and Software
URL:http://www.wikicfp.com/cfp/servlet/event.showcfp?eventid=1140&copyown
 erid=1262
UID:cfp10430-A@wikicfp.com
END:VEVENT
BEGIN:VEVENT
DTSTAMP:20260420T040555Z
DTSTART;VALUE=DATE:20070928
SUMMARY:ISPASS 2008 Deadline
DESCRIPTION:2008 IEEE International Symposium on Performance Analysis of 
 Systems and Software
URL:http://www.wikicfp.com/cfp/servlet/event.showcfp?eventid=1140&copyown
 erid=1262
UID:cfp10430-D@wikicfp.com
END:VEVENT
BEGIN:VEVENT
DTSTAMP:20260420T040555Z
DTSTART;VALUE=DATE:20071217
SUMMARY:ISPASS 2008 Notification Due
DESCRIPTION:2008 IEEE International Symposium on Performance Analysis of 
 Systems and Software
URL:http://www.wikicfp.com/cfp/servlet/event.showcfp?eventid=1140&copyown
 erid=1262
UID:cfp10430-N@wikicfp.com
END:VEVENT
BEGIN:VEVENT
DTSTAMP:20260420T040555Z
DTSTART;VALUE=DATE:20080607
DTEND;VALUE=DATE:20080613
SUMMARY:ICS 2008
DESCRIPTION:International Conference on Supercomputing
URL:http://www.wikicfp.com/cfp/servlet/event.showcfp?eventid=1787&copyown
 erid=1262
UID:cfp10425-E@wikicfp.com
END:VEVENT
BEGIN:VEVENT
DTSTAMP:20260420T040555Z
DTSTART;VALUE=DATE:20080107
SUMMARY:ICS 2008 Abstract Due
DESCRIPTION:International Conference on Supercomputing
URL:http://www.wikicfp.com/cfp/servlet/event.showcfp?eventid=1787&copyown
 erid=1262
UID:cfp10425-A@wikicfp.com
END:VEVENT
BEGIN:VEVENT
DTSTAMP:20260420T040555Z
DTSTART;VALUE=DATE:20080114
SUMMARY:ICS 2008 Deadline
DESCRIPTION:International Conference on Supercomputing
URL:http://www.wikicfp.com/cfp/servlet/event.showcfp?eventid=1787&copyown
 erid=1262
UID:cfp10425-D@wikicfp.com
END:VEVENT
BEGIN:VEVENT
DTSTAMP:20260420T040555Z
DTSTART;VALUE=DATE:20080319
SUMMARY:ICS 2008 Notification Due
DESCRIPTION:International Conference on Supercomputing
URL:http://www.wikicfp.com/cfp/servlet/event.showcfp?eventid=1787&copyown
 erid=1262
UID:cfp10425-N@wikicfp.com
END:VEVENT
BEGIN:VEVENT
DTSTAMP:20260420T040555Z
DTSTART;VALUE=DATE:20081004
DTEND;VALUE=DATE:20081009
SUMMARY:PACT 2008
DESCRIPTION:International Conference on Parallel Architectures and Compil
 ation Techniques
URL:http://www.wikicfp.com/cfp/servlet/event.showcfp?eventid=1287&copyown
 erid=1262
UID:cfp10424-E@wikicfp.com
END:VEVENT
BEGIN:VEVENT
DTSTAMP:20260420T040555Z
DTSTART;VALUE=DATE:20080320
SUMMARY:PACT 2008 Abstract Due
DESCRIPTION:International Conference on Parallel Architectures and Compil
 ation Techniques
URL:http://www.wikicfp.com/cfp/servlet/event.showcfp?eventid=1287&copyown
 erid=1262
UID:cfp10424-A@wikicfp.com
END:VEVENT
BEGIN:VEVENT
DTSTAMP:20260420T040555Z
DTSTART;VALUE=DATE:20080328
SUMMARY:PACT 2008 Deadline
DESCRIPTION:International Conference on Parallel Architectures and Compil
 ation Techniques
URL:http://www.wikicfp.com/cfp/servlet/event.showcfp?eventid=1287&copyown
 erid=1262
UID:cfp10424-D@wikicfp.com
END:VEVENT
BEGIN:VEVENT
DTSTAMP:20260420T040555Z
DTSTART;VALUE=DATE:20080609
SUMMARY:PACT 2008 Notification Due
DESCRIPTION:International Conference on Parallel Architectures and Compil
 ation Techniques
URL:http://www.wikicfp.com/cfp/servlet/event.showcfp?eventid=1287&copyown
 erid=1262
UID:cfp10424-N@wikicfp.com
END:VEVENT
BEGIN:VEVENT
DTSTAMP:20260420T040555Z
DTSTART;VALUE=DATE:20080125
DTEND;VALUE=DATE:20080129
SUMMARY:HiPEAC 2009
DESCRIPTION:The 4th International Conference on High Performance and Embe
 dded Architectures and Compilers
URL:http://www.wikicfp.com/cfp/servlet/event.showcfp?eventid=2892&copyown
 erid=1262
UID:cfp10426-E@wikicfp.com
END:VEVENT
BEGIN:VEVENT
DTSTAMP:20260420T040555Z
DTSTART;VALUE=DATE:20080704
SUMMARY:HiPEAC 2009 Abstract Due
DESCRIPTION:The 4th International Conference on High Performance and Embe
 dded Architectures and Compilers
URL:http://www.wikicfp.com/cfp/servlet/event.showcfp?eventid=2892&copyown
 erid=1262
UID:cfp10426-A@wikicfp.com
END:VEVENT
BEGIN:VEVENT
DTSTAMP:20260420T040555Z
DTSTART;VALUE=DATE:20080711
SUMMARY:HiPEAC 2009 Deadline
DESCRIPTION:The 4th International Conference on High Performance and Embe
 dded Architectures and Compilers
URL:http://www.wikicfp.com/cfp/servlet/event.showcfp?eventid=2892&copyown
 erid=1262
UID:cfp10426-D@wikicfp.com
END:VEVENT
BEGIN:VEVENT
DTSTAMP:20260420T040555Z
DTSTART;VALUE=DATE:20080617
SUMMARY:HiPEAC 2009 Notification Due
DESCRIPTION:The 4th International Conference on High Performance and Embe
 dded Architectures and Compilers
URL:http://www.wikicfp.com/cfp/servlet/event.showcfp?eventid=2892&copyown
 erid=1262
UID:cfp10426-N@wikicfp.com
END:VEVENT
BEGIN:VEVENT
DTSTAMP:20260420T040555Z
DTSTART;VALUE=DATE:20090307
DTEND;VALUE=DATE:20090312
SUMMARY:ASPLOS 2009
DESCRIPTION:Fourteenth International Conference on Architectural Support 
 for Programming Languages and Operating Systems (ASPLOS '09)
URL:http://www.wikicfp.com/cfp/servlet/event.showcfp?eventid=2939&copyown
 erid=1262
UID:cfp10427-E@wikicfp.com
END:VEVENT
BEGIN:VEVENT
DTSTAMP:20260420T040555Z
DTSTART;VALUE=DATE:20080801
SUMMARY:ASPLOS 2009 Abstract Due
DESCRIPTION:Fourteenth International Conference on Architectural Support 
 for Programming Languages and Operating Systems (ASPLOS '09)
URL:http://www.wikicfp.com/cfp/servlet/event.showcfp?eventid=2939&copyown
 erid=1262
UID:cfp10427-A@wikicfp.com
END:VEVENT
BEGIN:VEVENT
DTSTAMP:20260420T040555Z
DTSTART;VALUE=DATE:20080807
SUMMARY:ASPLOS 2009 Deadline
DESCRIPTION:Fourteenth International Conference on Architectural Support 
 for Programming Languages and Operating Systems (ASPLOS '09)
URL:http://www.wikicfp.com/cfp/servlet/event.showcfp?eventid=2939&copyown
 erid=1262
UID:cfp10427-D@wikicfp.com
END:VEVENT
BEGIN:VEVENT
DTSTAMP:20260420T040555Z
DTSTART;VALUE=DATE:20081114
SUMMARY:ASPLOS 2009 Notification Due
DESCRIPTION:Fourteenth International Conference on Architectural Support 
 for Programming Languages and Operating Systems (ASPLOS '09)
URL:http://www.wikicfp.com/cfp/servlet/event.showcfp?eventid=2939&copyown
 erid=1262
UID:cfp10427-N@wikicfp.com
END:VEVENT
BEGIN:VEVENT
DTSTAMP:20260420T040555Z
DTSTART;VALUE=DATE:20090214
DTEND;VALUE=DATE:20090219
SUMMARY:HPCA 2009
DESCRIPTION:The 15th International Symposium on High-Performance Computer
  Architecture
URL:http://www.wikicfp.com/cfp/servlet/event.showcfp?eventid=2940&copyown
 erid=1262
UID:cfp10428-E@wikicfp.com
END:VEVENT
BEGIN:VEVENT
DTSTAMP:20260420T040555Z
DTSTART;VALUE=DATE:20080810
SUMMARY:HPCA 2009 Abstract Due
DESCRIPTION:The 15th International Symposium on High-Performance Computer
  Architecture
URL:http://www.wikicfp.com/cfp/servlet/event.showcfp?eventid=2940&copyown
 erid=1262
UID:cfp10428-A@wikicfp.com
END:VEVENT
BEGIN:VEVENT
DTSTAMP:20260420T040555Z
DTSTART;VALUE=DATE:20080817
SUMMARY:HPCA 2009 Deadline
DESCRIPTION:The 15th International Symposium on High-Performance Computer
  Architecture
URL:http://www.wikicfp.com/cfp/servlet/event.showcfp?eventid=2940&copyown
 erid=1262
UID:cfp10428-D@wikicfp.com
END:VEVENT
BEGIN:VEVENT
DTSTAMP:20260420T040555Z
DTSTART;VALUE=DATE:20081031
SUMMARY:HPCA 2009 Notification Due
DESCRIPTION:The 15th International Symposium on High-Performance Computer
  Architecture
URL:http://www.wikicfp.com/cfp/servlet/event.showcfp?eventid=2940&copyown
 erid=1262
UID:cfp10428-N@wikicfp.com
END:VEVENT
BEGIN:VEVENT
DTSTAMP:20260420T040555Z
DTSTART;VALUE=DATE:20090406
DTEND;VALUE=DATE:20090409
SUMMARY:TridentCom 2009
DESCRIPTION:Fifth International Conference on Testbeds and Research Infra
 structures for the Development of Networks and Communities
URL:http://www.wikicfp.com/cfp/servlet/event.showcfp?eventid=3253&copyown
 erid=1262
UID:cfp10429-E@wikicfp.com
END:VEVENT
BEGIN:VEVENT
DTSTAMP:20260420T040555Z
DTSTART;VALUE=DATE:20081015
SUMMARY:TridentCom 2009 Deadline
DESCRIPTION:Fifth International Conference on Testbeds and Research Infra
 structures for the Development of Networks and Communities
URL:http://www.wikicfp.com/cfp/servlet/event.showcfp?eventid=3253&copyown
 erid=1262
UID:cfp10429-D@wikicfp.com
END:VEVENT
BEGIN:VEVENT
DTSTAMP:20260420T040555Z
DTSTART;VALUE=DATE:20081215
SUMMARY:TridentCom 2009 Notification Due
DESCRIPTION:Fifth International Conference on Testbeds and Research Infra
 structures for the Development of Networks and Communities
URL:http://www.wikicfp.com/cfp/servlet/event.showcfp?eventid=3253&copyown
 erid=1262
UID:cfp10429-N@wikicfp.com
END:VEVENT
END:VCALENDAR
