BEGIN:VCALENDAR
PRODID:-//WikiCFP//valtonen 1.0//EN
VERSION:2.0
CALSCALE:GREGORIAN
BEGIN:VEVENT
DTSTAMP:20260419T154610Z
DTSTART;VALUE=DATE:20090713
DTEND;VALUE=DATE:20090717
SUMMARY:MobiQuitous 2009
DESCRIPTION:Sixth Annual International Conference on Mobile and Ubiquitou
 s Systems: Computing\, Networking and Services
URL:http://www.wikicfp.com/cfp/servlet/event.showcfp?eventid=4213&copyown
 erid=12596
UID:cfp90230-E@wikicfp.com
END:VEVENT
BEGIN:VEVENT
DTSTAMP:20260419T154610Z
DTSTART;VALUE=DATE:20090303
SUMMARY:MobiQuitous 2009 Abstract Due
DESCRIPTION:Sixth Annual International Conference on Mobile and Ubiquitou
 s Systems: Computing\, Networking and Services
URL:http://www.wikicfp.com/cfp/servlet/event.showcfp?eventid=4213&copyown
 erid=12596
UID:cfp90230-A@wikicfp.com
END:VEVENT
BEGIN:VEVENT
DTSTAMP:20260419T154610Z
DTSTART;VALUE=DATE:20090320
SUMMARY:MobiQuitous 2009 Deadline
DESCRIPTION:Sixth Annual International Conference on Mobile and Ubiquitou
 s Systems: Computing\, Networking and Services
URL:http://www.wikicfp.com/cfp/servlet/event.showcfp?eventid=4213&copyown
 erid=12596
UID:cfp90230-D@wikicfp.com
END:VEVENT
BEGIN:VEVENT
DTSTAMP:20260419T154610Z
DTSTART;VALUE=DATE:20090515
SUMMARY:MobiQuitous 2009 Notification Due
DESCRIPTION:Sixth Annual International Conference on Mobile and Ubiquitou
 s Systems: Computing\, Networking and Services
URL:http://www.wikicfp.com/cfp/servlet/event.showcfp?eventid=4213&copyown
 erid=12596
UID:cfp90230-N@wikicfp.com
END:VEVENT
BEGIN:VEVENT
DTSTAMP:20260419T154610Z
DTSTART;VALUE=DATE:20090605
SUMMARY:MobiQuitous 2009 Final Version Due
DESCRIPTION:Sixth Annual International Conference on Mobile and Ubiquitou
 s Systems: Computing\, Networking and Services
URL:http://www.wikicfp.com/cfp/servlet/event.showcfp?eventid=4213&copyown
 erid=12596
UID:cfp90230-N@wikicfp.com
END:VEVENT
BEGIN:VEVENT
DTSTAMP:20260419T154610Z
DTSTART;VALUE=DATE:20101102
DTEND;VALUE=DATE:20101103
SUMMARY:PhoneSense 2010
DESCRIPTION:International Workshop on Sensing for App Phones
URL:http://www.wikicfp.com/cfp/servlet/event.showcfp?eventid=10229&copyow
 nerid=12596
UID:cfp90229-E@wikicfp.com
END:VEVENT
BEGIN:VEVENT
DTSTAMP:20260419T154610Z
DTSTART;VALUE=DATE:20100813
SUMMARY:PhoneSense 2010 Deadline
DESCRIPTION:International Workshop on Sensing for App Phones
URL:http://www.wikicfp.com/cfp/servlet/event.showcfp?eventid=10229&copyow
 nerid=12596
UID:cfp90229-D@wikicfp.com
END:VEVENT
BEGIN:VEVENT
DTSTAMP:20260419T154610Z
DTSTART;VALUE=DATE:20100910
SUMMARY:PhoneSense 2010 Notification Due
DESCRIPTION:International Workshop on Sensing for App Phones
URL:http://www.wikicfp.com/cfp/servlet/event.showcfp?eventid=10229&copyow
 nerid=12596
UID:cfp90229-N@wikicfp.com
END:VEVENT
BEGIN:VEVENT
DTSTAMP:20260419T154610Z
DTSTART;VALUE=DATE:20101008
SUMMARY:PhoneSense 2010 Final Version Due
DESCRIPTION:International Workshop on Sensing for App Phones
URL:http://www.wikicfp.com/cfp/servlet/event.showcfp?eventid=10229&copyow
 nerid=12596
UID:cfp90229-N@wikicfp.com
END:VEVENT
END:VCALENDAR
