BEGIN:VCALENDAR
PRODID:-//WikiCFP//jobnz 1.0//EN
VERSION:2.0
CALSCALE:GREGORIAN
BEGIN:VEVENT
DTSTAMP:20260420T053744Z
DTSTART;VALUE=DATE:20190401
DTEND;VALUE=DATE:20190405
SUMMARY:â¹Programmingâº 2019
DESCRIPTION:â¹Programmingâº 2019 Research Papers
URL:http://www.wikicfp.com/cfp/servlet/event.showcfp?eventid=78662&copyow
 nerid=125299
UID:cfp739794-E@wikicfp.com
END:VEVENT
BEGIN:VEVENT
DTSTAMP:20260420T053744Z
DTSTART;VALUE=DATE:20181001
SUMMARY:â¹Programmingâº 2019 Deadline
DESCRIPTION:â¹Programmingâº 2019 Research Papers
URL:http://www.wikicfp.com/cfp/servlet/event.showcfp?eventid=78662&copyow
 nerid=125299
UID:cfp739794-D@wikicfp.com
END:VEVENT
BEGIN:VEVENT
DTSTAMP:20260420T053744Z
DTSTART;VALUE=DATE:20190407
DTEND;VALUE=DATE:20190412
SUMMARY:ACM/SPEC ICPE 2019
DESCRIPTION:10th ACM/SPEC International Conference on Performance Enginee
 ring
URL:http://www.wikicfp.com/cfp/servlet/event.showcfp?eventid=77691&copyow
 nerid=125299
UID:cfp795037-E@wikicfp.com
END:VEVENT
BEGIN:VEVENT
DTSTAMP:20260420T053744Z
DTSTART;VALUE=DATE:20181013
SUMMARY:ACM/SPEC ICPE 2019 Abstract Due
DESCRIPTION:10th ACM/SPEC International Conference on Performance Enginee
 ring
URL:http://www.wikicfp.com/cfp/servlet/event.showcfp?eventid=77691&copyow
 nerid=125299
UID:cfp795037-A@wikicfp.com
END:VEVENT
BEGIN:VEVENT
DTSTAMP:20260420T053744Z
DTSTART;VALUE=DATE:20181015
SUMMARY:ACM/SPEC ICPE 2019 Deadline
DESCRIPTION:10th ACM/SPEC International Conference on Performance Enginee
 ring
URL:http://www.wikicfp.com/cfp/servlet/event.showcfp?eventid=77691&copyow
 nerid=125299
UID:cfp795037-D@wikicfp.com
END:VEVENT
BEGIN:VEVENT
DTSTAMP:20260420T053744Z
DTSTART;VALUE=DATE:20181207
SUMMARY:ACM/SPEC ICPE 2019 Notification Due
DESCRIPTION:10th ACM/SPEC International Conference on Performance Enginee
 ring
URL:http://www.wikicfp.com/cfp/servlet/event.showcfp?eventid=77691&copyow
 nerid=125299
UID:cfp795037-N@wikicfp.com
END:VEVENT
BEGIN:VEVENT
DTSTAMP:20260420T053744Z
DTSTART;VALUE=DATE:20190208
SUMMARY:ACM/SPEC ICPE 2019 Final Version Due
DESCRIPTION:10th ACM/SPEC International Conference on Performance Enginee
 ring
URL:http://www.wikicfp.com/cfp/servlet/event.showcfp?eventid=77691&copyow
 nerid=125299
UID:cfp795037-N@wikicfp.com
END:VEVENT
BEGIN:VEVENT
DTSTAMP:20260420T053744Z
DTSTART;VALUE=DATE:20190408
DTEND;VALUE=DATE:20190412
SUMMARY:ESOP 2019
DESCRIPTION:European Symposium on Programming
URL:http://www.wikicfp.com/cfp/servlet/event.showcfp?eventid=79119&copyow
 nerid=125299
UID:cfp739795-E@wikicfp.com
END:VEVENT
BEGIN:VEVENT
DTSTAMP:20260420T053744Z
DTSTART;VALUE=DATE:20181109
SUMMARY:ESOP 2019 Abstract Due
DESCRIPTION:European Symposium on Programming
URL:http://www.wikicfp.com/cfp/servlet/event.showcfp?eventid=79119&copyow
 nerid=125299
UID:cfp739795-A@wikicfp.com
END:VEVENT
BEGIN:VEVENT
DTSTAMP:20260420T053744Z
DTSTART;VALUE=DATE:20181115
SUMMARY:ESOP 2019 Deadline
DESCRIPTION:European Symposium on Programming
URL:http://www.wikicfp.com/cfp/servlet/event.showcfp?eventid=79119&copyow
 nerid=125299
UID:cfp739795-D@wikicfp.com
END:VEVENT
BEGIN:VEVENT
DTSTAMP:20260420T053744Z
DTSTART;VALUE=DATE:20190125
SUMMARY:ESOP 2019 Notification Due
DESCRIPTION:European Symposium on Programming
URL:http://www.wikicfp.com/cfp/servlet/event.showcfp?eventid=79119&copyow
 nerid=125299
UID:cfp739795-N@wikicfp.com
END:VEVENT
BEGIN:VEVENT
DTSTAMP:20260420T053744Z
DTSTART;VALUE=DATE:20190223
SUMMARY:ESOP 2019 Final Version Due
DESCRIPTION:European Symposium on Programming
URL:http://www.wikicfp.com/cfp/servlet/event.showcfp?eventid=79119&copyow
 nerid=125299
UID:cfp739795-N@wikicfp.com
END:VEVENT
BEGIN:VEVENT
DTSTAMP:20260420T053744Z
DTSTART;VALUE=DATE:20190624
DTEND;VALUE=DATE:20190627
SUMMARY:PLDI 2019
DESCRIPTION:Programming Language Design and Implementation
URL:http://www.wikicfp.com/cfp/servlet/event.showcfp?eventid=79760&copyow
 nerid=125299
UID:cfp739797-E@wikicfp.com
END:VEVENT
BEGIN:VEVENT
DTSTAMP:20260420T053744Z
DTSTART;VALUE=DATE:20181116
SUMMARY:PLDI 2019 Deadline
DESCRIPTION:Programming Language Design and Implementation
URL:http://www.wikicfp.com/cfp/servlet/event.showcfp?eventid=79760&copyow
 nerid=125299
UID:cfp739797-D@wikicfp.com
END:VEVENT
BEGIN:VEVENT
DTSTAMP:20260420T053744Z
DTSTART;VALUE=DATE:20190215
SUMMARY:PLDI 2019 Notification Due
DESCRIPTION:Programming Language Design and Implementation
URL:http://www.wikicfp.com/cfp/servlet/event.showcfp?eventid=79760&copyow
 nerid=125299
UID:cfp739797-N@wikicfp.com
END:VEVENT
BEGIN:VEVENT
DTSTAMP:20260420T053744Z
DTSTART;VALUE=DATE:20190416
SUMMARY:PLDI 2019 Final Version Due
DESCRIPTION:Programming Language Design and Implementation
URL:http://www.wikicfp.com/cfp/servlet/event.showcfp?eventid=79760&copyow
 nerid=125299
UID:cfp739797-N@wikicfp.com
END:VEVENT
BEGIN:VEVENT
DTSTAMP:20260420T053744Z
DTSTART;VALUE=DATE:20190324
DTEND;VALUE=DATE:20190329
SUMMARY:ICONS 2019
DESCRIPTION:The Fourteenth International Conference on Systems
URL:http://www.wikicfp.com/cfp/servlet/event.showcfp?eventid=78497&copyow
 nerid=125299
UID:cfp739796-E@wikicfp.com
END:VEVENT
BEGIN:VEVENT
DTSTAMP:20260420T053744Z
DTSTART;VALUE=DATE:20181207
SUMMARY:ICONS 2019 Deadline
DESCRIPTION:The Fourteenth International Conference on Systems
URL:http://www.wikicfp.com/cfp/servlet/event.showcfp?eventid=78497&copyow
 nerid=125299
UID:cfp739796-D@wikicfp.com
END:VEVENT
BEGIN:VEVENT
DTSTAMP:20260420T053744Z
DTSTART;VALUE=DATE:20190110
SUMMARY:ICONS 2019 Notification Due
DESCRIPTION:The Fourteenth International Conference on Systems
URL:http://www.wikicfp.com/cfp/servlet/event.showcfp?eventid=78497&copyow
 nerid=125299
UID:cfp739796-N@wikicfp.com
END:VEVENT
BEGIN:VEVENT
DTSTAMP:20260420T053744Z
DTSTART;VALUE=DATE:20190204
SUMMARY:ICONS 2019 Final Version Due
DESCRIPTION:The Fourteenth International Conference on Systems
URL:http://www.wikicfp.com/cfp/servlet/event.showcfp?eventid=78497&copyow
 nerid=125299
UID:cfp739796-N@wikicfp.com
END:VEVENT
BEGIN:VEVENT
DTSTAMP:20260420T053744Z
DTSTART;VALUE=DATE:20200120
DTEND;VALUE=DATE:20200123
SUMMARY:HiPEAC 2020
DESCRIPTION:15th International Conference on High Performance Embedded Ar
 chitectures and Compilers
URL:http://www.wikicfp.com/cfp/servlet/event.showcfp?eventid=86354&copyow
 nerid=125299
UID:cfp795036-E@wikicfp.com
END:VEVENT
BEGIN:VEVENT
DTSTAMP:20260420T053744Z
DTSTART;VALUE=DATE:20190601
SUMMARY:HiPEAC 2020 Deadline
DESCRIPTION:15th International Conference on High Performance Embedded Ar
 chitectures and Compilers
URL:http://www.wikicfp.com/cfp/servlet/event.showcfp?eventid=86354&copyow
 nerid=125299
UID:cfp795036-D@wikicfp.com
END:VEVENT
BEGIN:VEVENT
DTSTAMP:20260420T053744Z
DTSTART;VALUE=DATE:20200427
DTEND;VALUE=DATE:20200501
SUMMARY:EuroSys 2020
DESCRIPTION:European Conference on Computer Systems
URL:http://www.wikicfp.com/cfp/servlet/event.showcfp?eventid=89498&copyow
 nerid=125299
UID:cfp795033-E@wikicfp.com
END:VEVENT
BEGIN:VEVENT
DTSTAMP:20260420T053744Z
DTSTART;VALUE=DATE:20191104
SUMMARY:EuroSys 2020 Deadline
DESCRIPTION:European Conference on Computer Systems
URL:http://www.wikicfp.com/cfp/servlet/event.showcfp?eventid=89498&copyow
 nerid=125299
UID:cfp795033-D@wikicfp.com
END:VEVENT
BEGIN:VEVENT
DTSTAMP:20260420T053744Z
DTSTART;VALUE=DATE:20200215
SUMMARY:EuroSys 2020 Notification Due
DESCRIPTION:European Conference on Computer Systems
URL:http://www.wikicfp.com/cfp/servlet/event.showcfp?eventid=89498&copyow
 nerid=125299
UID:cfp795033-N@wikicfp.com
END:VEVENT
BEGIN:VEVENT
DTSTAMP:20260420T053744Z
DTSTART;VALUE=DATE:20200315
SUMMARY:EuroSys 2020 Final Version Due
DESCRIPTION:European Conference on Computer Systems
URL:http://www.wikicfp.com/cfp/servlet/event.showcfp?eventid=89498&copyow
 nerid=125299
UID:cfp795033-N@wikicfp.com
END:VEVENT
END:VCALENDAR
