BEGIN:VCALENDAR
PRODID:-//WikiCFP//thuypham 1.0//EN
VERSION:2.0
CALSCALE:GREGORIAN
BEGIN:VEVENT
DTSTAMP:20260423T005457Z
DTSTART;VALUE=DATE:20190129
DTEND;VALUE=DATE:20190201
SUMMARY:AISC 2019
DESCRIPTION:Australasian Information Security Conference
URL:http://www.wikicfp.com/cfp/servlet/event.showcfp?eventid=79523&copyow
 nerid=125156
UID:cfp739466-E@wikicfp.com
END:VEVENT
BEGIN:VEVENT
DTSTAMP:20260423T005457Z
DTSTART;VALUE=DATE:20180909
SUMMARY:AISC 2019 Deadline
DESCRIPTION:Australasian Information Security Conference
URL:http://www.wikicfp.com/cfp/servlet/event.showcfp?eventid=79523&copyow
 nerid=125156
UID:cfp739466-D@wikicfp.com
END:VEVENT
BEGIN:VEVENT
DTSTAMP:20260423T005457Z
DTSTART;VALUE=DATE:20181015
SUMMARY:AISC 2019 Notification Due
DESCRIPTION:Australasian Information Security Conference
URL:http://www.wikicfp.com/cfp/servlet/event.showcfp?eventid=79523&copyow
 nerid=125156
UID:cfp739466-N@wikicfp.com
END:VEVENT
BEGIN:VEVENT
DTSTAMP:20260423T005457Z
DTSTART;VALUE=DATE:20181029
SUMMARY:AISC 2019 Final Version Due
DESCRIPTION:Australasian Information Security Conference
URL:http://www.wikicfp.com/cfp/servlet/event.showcfp?eventid=79523&copyow
 nerid=125156
UID:cfp739466-N@wikicfp.com
END:VEVENT
END:VCALENDAR
