BEGIN:VCALENDAR
PRODID:-//WikiCFP//Conrardy 1.0//EN
VERSION:2.0
CALSCALE:GREGORIAN
BEGIN:VEVENT
DTSTAMP:20260422T234439Z
DTSTART;VALUE=DATE:20100628
DTEND;VALUE=DATE:20100703
SUMMARY:ICMT 2010
DESCRIPTION:INTERNATIONAL CONFERENCE ON MODEL TRANSFORMATION
URL:http://www.wikicfp.com/cfp/servlet/event.showcfp?eventid=6164&copyown
 erid=12459
UID:cfp89497-E@wikicfp.com
END:VEVENT
BEGIN:VEVENT
DTSTAMP:20260422T234439Z
DTSTART;VALUE=DATE:20100128
SUMMARY:ICMT 2010 Deadline
DESCRIPTION:INTERNATIONAL CONFERENCE ON MODEL TRANSFORMATION
URL:http://www.wikicfp.com/cfp/servlet/event.showcfp?eventid=6164&copyown
 erid=12459
UID:cfp89497-D@wikicfp.com
END:VEVENT
BEGIN:VEVENT
DTSTAMP:20260422T234439Z
DTSTART;VALUE=DATE:20100319
SUMMARY:ICMT 2010 Notification Due
DESCRIPTION:INTERNATIONAL CONFERENCE ON MODEL TRANSFORMATION
URL:http://www.wikicfp.com/cfp/servlet/event.showcfp?eventid=6164&copyown
 erid=12459
UID:cfp89497-N@wikicfp.com
END:VEVENT
BEGIN:VEVENT
DTSTAMP:20260422T234439Z
DTSTART;VALUE=DATE:20100405
SUMMARY:ICMT 2010 Final Version Due
DESCRIPTION:INTERNATIONAL CONFERENCE ON MODEL TRANSFORMATION
URL:http://www.wikicfp.com/cfp/servlet/event.showcfp?eventid=6164&copyown
 erid=12459
UID:cfp89497-N@wikicfp.com
END:VEVENT
BEGIN:VEVENT
DTSTAMP:20260422T234439Z
DTSTART;VALUE=DATE:20101020
DTEND;VALUE=DATE:20101022
SUMMARY:KAM 2010
DESCRIPTION:3rd International Symposium on Knowledge Acquisition and Mode
 ling
URL:http://www.wikicfp.com/cfp/servlet/event.showcfp?eventid=9944&copyown
 erid=12459
UID:cfp89493-E@wikicfp.com
END:VEVENT
BEGIN:VEVENT
DTSTAMP:20260422T234439Z
DTSTART;VALUE=DATE:20100801
SUMMARY:KAM 2010 Deadline
DESCRIPTION:3rd International Symposium on Knowledge Acquisition and Mode
 ling
URL:http://www.wikicfp.com/cfp/servlet/event.showcfp?eventid=9944&copyown
 erid=12459
UID:cfp89493-D@wikicfp.com
END:VEVENT
BEGIN:VEVENT
DTSTAMP:20260422T234439Z
DTSTART;VALUE=DATE:20100901
SUMMARY:KAM 2010 Notification Due
DESCRIPTION:3rd International Symposium on Knowledge Acquisition and Mode
 ling
URL:http://www.wikicfp.com/cfp/servlet/event.showcfp?eventid=9944&copyown
 erid=12459
UID:cfp89493-N@wikicfp.com
END:VEVENT
BEGIN:VEVENT
DTSTAMP:20260422T234439Z
DTSTART;VALUE=DATE:20100915
SUMMARY:KAM 2010 Final Version Due
DESCRIPTION:3rd International Symposium on Knowledge Acquisition and Mode
 ling
URL:http://www.wikicfp.com/cfp/servlet/event.showcfp?eventid=9944&copyown
 erid=12459
UID:cfp89493-N@wikicfp.com
END:VEVENT
BEGIN:VEVENT
DTSTAMP:20260422T234439Z
DTSTART;VALUE=DATE:20101125
DTEND;VALUE=DATE:20101128
SUMMARY:KICSS 2010
DESCRIPTION:The Fifth International Conference on Knowledge\, Information
  and Creativity Support Systems
URL:http://www.wikicfp.com/cfp/servlet/event.showcfp?eventid=10170&copyow
 nerid=12459
UID:cfp89489-E@wikicfp.com
END:VEVENT
BEGIN:VEVENT
DTSTAMP:20260422T234439Z
DTSTART;VALUE=DATE:20100809
SUMMARY:KICSS 2010 Deadline
DESCRIPTION:The Fifth International Conference on Knowledge\, Information
  and Creativity Support Systems
URL:http://www.wikicfp.com/cfp/servlet/event.showcfp?eventid=10170&copyow
 nerid=12459
UID:cfp89489-D@wikicfp.com
END:VEVENT
BEGIN:VEVENT
DTSTAMP:20260422T234439Z
DTSTART;VALUE=DATE:20100920
SUMMARY:KICSS 2010 Notification Due
DESCRIPTION:The Fifth International Conference on Knowledge\, Information
  and Creativity Support Systems
URL:http://www.wikicfp.com/cfp/servlet/event.showcfp?eventid=10170&copyow
 nerid=12459
UID:cfp89489-N@wikicfp.com
END:VEVENT
BEGIN:VEVENT
DTSTAMP:20260422T234439Z
DTSTART;VALUE=DATE:20101011
SUMMARY:KICSS 2010 Final Version Due
DESCRIPTION:The Fifth International Conference on Knowledge\, Information
  and Creativity Support Systems
URL:http://www.wikicfp.com/cfp/servlet/event.showcfp?eventid=10170&copyow
 nerid=12459
UID:cfp89489-N@wikicfp.com
END:VEVENT
BEGIN:VEVENT
DTSTAMP:20260422T234439Z
DTSTART;VALUE=DATE:20110716
DTEND;VALUE=DATE:20110723
SUMMARY:IJCAI 2011
DESCRIPTION:Twenty-second International Joint Conference on Artificial In
 telligence
URL:http://www.wikicfp.com/cfp/servlet/event.showcfp?eventid=7115&copyown
 erid=12459
UID:cfp89492-E@wikicfp.com
END:VEVENT
BEGIN:VEVENT
DTSTAMP:20260422T234439Z
DTSTART;VALUE=DATE:20110119
SUMMARY:IJCAI 2011 Abstract Due
DESCRIPTION:Twenty-second International Joint Conference on Artificial In
 telligence
URL:http://www.wikicfp.com/cfp/servlet/event.showcfp?eventid=7115&copyown
 erid=12459
UID:cfp89492-A@wikicfp.com
END:VEVENT
BEGIN:VEVENT
DTSTAMP:20260422T234439Z
DTSTART;VALUE=DATE:20110124
SUMMARY:IJCAI 2011 Deadline
DESCRIPTION:Twenty-second International Joint Conference on Artificial In
 telligence
URL:http://www.wikicfp.com/cfp/servlet/event.showcfp?eventid=7115&copyown
 erid=12459
UID:cfp89492-D@wikicfp.com
END:VEVENT
BEGIN:VEVENT
DTSTAMP:20260422T234439Z
DTSTART;VALUE=DATE:20110331
SUMMARY:IJCAI 2011 Notification Due
DESCRIPTION:Twenty-second International Joint Conference on Artificial In
 telligence
URL:http://www.wikicfp.com/cfp/servlet/event.showcfp?eventid=7115&copyown
 erid=12459
UID:cfp89492-N@wikicfp.com
END:VEVENT
BEGIN:VEVENT
DTSTAMP:20260422T234439Z
DTSTART;VALUE=DATE:20110415
SUMMARY:IJCAI 2011 Final Version Due
DESCRIPTION:Twenty-second International Joint Conference on Artificial In
 telligence
URL:http://www.wikicfp.com/cfp/servlet/event.showcfp?eventid=7115&copyown
 erid=12459
UID:cfp89492-N@wikicfp.com
END:VEVENT
BEGIN:VEVENT
DTSTAMP:20260422T234439Z
DTSTART;VALUE=DATE:20110905
DTEND;VALUE=DATE:20110910
SUMMARY:INTERACT 2011
DESCRIPTION:13th IFIP TC13 Conference on Human-Computer Interaction
URL:http://www.wikicfp.com/cfp/servlet/event.showcfp?eventid=9513&copyown
 erid=12459
UID:cfp89490-E@wikicfp.com
END:VEVENT
BEGIN:VEVENT
DTSTAMP:20260422T234439Z
DTSTART;VALUE=DATE:20110110
SUMMARY:INTERACT 2011 Abstract Due
DESCRIPTION:13th IFIP TC13 Conference on Human-Computer Interaction
URL:http://www.wikicfp.com/cfp/servlet/event.showcfp?eventid=9513&copyown
 erid=12459
UID:cfp89490-A@wikicfp.com
END:VEVENT
BEGIN:VEVENT
DTSTAMP:20260422T234439Z
DTSTART;VALUE=DATE:20110124
SUMMARY:INTERACT 2011 Deadline
DESCRIPTION:13th IFIP TC13 Conference on Human-Computer Interaction
URL:http://www.wikicfp.com/cfp/servlet/event.showcfp?eventid=9513&copyown
 erid=12459
UID:cfp89490-D@wikicfp.com
END:VEVENT
BEGIN:VEVENT
DTSTAMP:20260422T234439Z
DTSTART;VALUE=DATE:20110328
SUMMARY:INTERACT 2011 Notification Due
DESCRIPTION:13th IFIP TC13 Conference on Human-Computer Interaction
URL:http://www.wikicfp.com/cfp/servlet/event.showcfp?eventid=9513&copyown
 erid=12459
UID:cfp89490-N@wikicfp.com
END:VEVENT
BEGIN:VEVENT
DTSTAMP:20260422T234439Z
DTSTART;VALUE=DATE:20110418
SUMMARY:INTERACT 2011 Final Version Due
DESCRIPTION:13th IFIP TC13 Conference on Human-Computer Interaction
URL:http://www.wikicfp.com/cfp/servlet/event.showcfp?eventid=9513&copyown
 erid=12459
UID:cfp89490-N@wikicfp.com
END:VEVENT
END:VCALENDAR
