BEGIN:VCALENDAR
PRODID:-//WikiCFP//grrrr 1.0//EN
VERSION:2.0
CALSCALE:GREGORIAN
BEGIN:VEVENT
DTSTAMP:20260423T095740Z
DTSTART;VALUE=DATE:20101029
DTEND;VALUE=DATE:20101030
SUMMARY:MML 2010
DESCRIPTION:3rd International Workshop on Machine Learning  and Music
URL:http://www.wikicfp.com/cfp/servlet/event.showcfp?eventid=9744&copyown
 erid=12453
UID:cfp89452-E@wikicfp.com
END:VEVENT
BEGIN:VEVENT
DTSTAMP:20260423T095740Z
DTSTART;VALUE=DATE:20100610
SUMMARY:MML 2010 Deadline
DESCRIPTION:3rd International Workshop on Machine Learning  and Music
URL:http://www.wikicfp.com/cfp/servlet/event.showcfp?eventid=9744&copyown
 erid=12453
UID:cfp89452-D@wikicfp.com
END:VEVENT
BEGIN:VEVENT
DTSTAMP:20260423T095740Z
DTSTART;VALUE=DATE:20100710
SUMMARY:MML 2010 Notification Due
DESCRIPTION:3rd International Workshop on Machine Learning  and Music
URL:http://www.wikicfp.com/cfp/servlet/event.showcfp?eventid=9744&copyown
 erid=12453
UID:cfp89452-N@wikicfp.com
END:VEVENT
BEGIN:VEVENT
DTSTAMP:20260423T095740Z
DTSTART;VALUE=DATE:20100720
SUMMARY:MML 2010 Final Version Due
DESCRIPTION:3rd International Workshop on Machine Learning  and Music
URL:http://www.wikicfp.com/cfp/servlet/event.showcfp?eventid=9744&copyown
 erid=12453
UID:cfp89452-N@wikicfp.com
END:VEVENT
BEGIN:VEVENT
DTSTAMP:20260423T095740Z
DTSTART;VALUE=DATE:20101210
DTEND;VALUE=DATE:20101213
SUMMARY:ArtsIT 2010
DESCRIPTION:2nd International ICST Conference on Arts and Technology
URL:http://www.wikicfp.com/cfp/servlet/event.showcfp?eventid=8342&copyown
 erid=12453
UID:cfp89453-E@wikicfp.com
END:VEVENT
BEGIN:VEVENT
DTSTAMP:20260423T095740Z
DTSTART;VALUE=DATE:20100612
SUMMARY:ArtsIT 2010 Deadline
DESCRIPTION:2nd International ICST Conference on Arts and Technology
URL:http://www.wikicfp.com/cfp/servlet/event.showcfp?eventid=8342&copyown
 erid=12453
UID:cfp89453-D@wikicfp.com
END:VEVENT
BEGIN:VEVENT
DTSTAMP:20260423T095740Z
DTSTART;VALUE=DATE:20100812
SUMMARY:ArtsIT 2010 Notification Due
DESCRIPTION:2nd International ICST Conference on Arts and Technology
URL:http://www.wikicfp.com/cfp/servlet/event.showcfp?eventid=8342&copyown
 erid=12453
UID:cfp89453-N@wikicfp.com
END:VEVENT
BEGIN:VEVENT
DTSTAMP:20260423T095740Z
DTSTART;VALUE=DATE:20100912
SUMMARY:ArtsIT 2010 Final Version Due
DESCRIPTION:2nd International ICST Conference on Arts and Technology
URL:http://www.wikicfp.com/cfp/servlet/event.showcfp?eventid=8342&copyown
 erid=12453
UID:cfp89453-N@wikicfp.com
END:VEVENT
BEGIN:VEVENT
DTSTAMP:20260423T095740Z
DTSTART;VALUE=DATE:20101213
DTEND;VALUE=DATE:20101216
SUMMARY:MIPR 2010
DESCRIPTION:The Sixth IEEE International Workshop on Multimedia Informati
 on Processing and Retrieval
URL:http://www.wikicfp.com/cfp/servlet/event.showcfp?eventid=10171&copyow
 nerid=12453
UID:cfp90468-E@wikicfp.com
END:VEVENT
BEGIN:VEVENT
DTSTAMP:20260423T095740Z
DTSTART;VALUE=DATE:20100725
SUMMARY:MIPR 2010 Deadline
DESCRIPTION:The Sixth IEEE International Workshop on Multimedia Informati
 on Processing and Retrieval
URL:http://www.wikicfp.com/cfp/servlet/event.showcfp?eventid=10171&copyow
 nerid=12453
UID:cfp90468-D@wikicfp.com
END:VEVENT
BEGIN:VEVENT
DTSTAMP:20260423T095740Z
DTSTART;VALUE=DATE:20100907
SUMMARY:MIPR 2010 Notification Due
DESCRIPTION:The Sixth IEEE International Workshop on Multimedia Informati
 on Processing and Retrieval
URL:http://www.wikicfp.com/cfp/servlet/event.showcfp?eventid=10171&copyow
 nerid=12453
UID:cfp90468-N@wikicfp.com
END:VEVENT
BEGIN:VEVENT
DTSTAMP:20260423T095740Z
DTSTART;VALUE=DATE:20100924
SUMMARY:MIPR 2010 Final Version Due
DESCRIPTION:The Sixth IEEE International Workshop on Multimedia Informati
 on Processing and Retrieval
URL:http://www.wikicfp.com/cfp/servlet/event.showcfp?eventid=10171&copyow
 nerid=12453
UID:cfp90468-N@wikicfp.com
END:VEVENT
BEGIN:VEVENT
DTSTAMP:20260423T095740Z
DTSTART;VALUE=DATE:20110522
DTEND;VALUE=DATE:20110528
SUMMARY:ICASSP 2011
DESCRIPTION:IEEE International Conference on Acoustics\, Speech and Signa
 l Processing 2011
URL:http://www.wikicfp.com/cfp/servlet/event.showcfp?eventid=7408&copyown
 erid=12453
UID:cfp90461-E@wikicfp.com
END:VEVENT
BEGIN:VEVENT
DTSTAMP:20260423T095740Z
DTSTART;VALUE=DATE:20101020
SUMMARY:ICASSP 2011 Deadline
DESCRIPTION:IEEE International Conference on Acoustics\, Speech and Signa
 l Processing 2011
URL:http://www.wikicfp.com/cfp/servlet/event.showcfp?eventid=7408&copyown
 erid=12453
UID:cfp90461-D@wikicfp.com
END:VEVENT
BEGIN:VEVENT
DTSTAMP:20260423T095740Z
DTSTART;VALUE=DATE:20110117
SUMMARY:ICASSP 2011 Notification Due
DESCRIPTION:IEEE International Conference on Acoustics\, Speech and Signa
 l Processing 2011
URL:http://www.wikicfp.com/cfp/servlet/event.showcfp?eventid=7408&copyown
 erid=12453
UID:cfp90461-N@wikicfp.com
END:VEVENT
BEGIN:VEVENT
DTSTAMP:20260423T095740Z
DTSTART;VALUE=DATE:20110220
SUMMARY:ICASSP 2011 Final Version Due
DESCRIPTION:IEEE International Conference on Acoustics\, Speech and Signa
 l Processing 2011
URL:http://www.wikicfp.com/cfp/servlet/event.showcfp?eventid=7408&copyown
 erid=12453
UID:cfp90461-N@wikicfp.com
END:VEVENT
BEGIN:VEVENT
DTSTAMP:20260423T095740Z
DTSTART;VALUE=DATE:20110411
DTEND;VALUE=DATE:20110416
SUMMARY:CIMSIVP 2011
DESCRIPTION:2011 IEEE Symposium on Computational Intelligence for Multime
 dia\, Signal and Vision Processing
URL:http://www.wikicfp.com/cfp/servlet/event.showcfp?eventid=9918&copyown
 erid=12453
UID:cfp90463-E@wikicfp.com
END:VEVENT
BEGIN:VEVENT
DTSTAMP:20260423T095740Z
DTSTART;VALUE=DATE:20101031
SUMMARY:CIMSIVP 2011 Deadline
DESCRIPTION:2011 IEEE Symposium on Computational Intelligence for Multime
 dia\, Signal and Vision Processing
URL:http://www.wikicfp.com/cfp/servlet/event.showcfp?eventid=9918&copyown
 erid=12453
UID:cfp90463-D@wikicfp.com
END:VEVENT
BEGIN:VEVENT
DTSTAMP:20260423T095740Z
DTSTART;VALUE=DATE:20101215
SUMMARY:CIMSIVP 2011 Notification Due
DESCRIPTION:2011 IEEE Symposium on Computational Intelligence for Multime
 dia\, Signal and Vision Processing
URL:http://www.wikicfp.com/cfp/servlet/event.showcfp?eventid=9918&copyown
 erid=12453
UID:cfp90463-N@wikicfp.com
END:VEVENT
BEGIN:VEVENT
DTSTAMP:20260423T095740Z
DTSTART;VALUE=DATE:20110115
SUMMARY:CIMSIVP 2011 Final Version Due
DESCRIPTION:2011 IEEE Symposium on Computational Intelligence for Multime
 dia\, Signal and Vision Processing
URL:http://www.wikicfp.com/cfp/servlet/event.showcfp?eventid=9918&copyown
 erid=12453
UID:cfp90463-N@wikicfp.com
END:VEVENT
BEGIN:VEVENT
DTSTAMP:20260423T095740Z
DTSTART;VALUE=DATE:20110417
DTEND;VALUE=DATE:20110421
SUMMARY:ICMR 2011
DESCRIPTION:ACM International Conference on Multimedia Retrieval
URL:http://www.wikicfp.com/cfp/servlet/event.showcfp?eventid=9418&copyown
 erid=12453
UID:cfp90462-E@wikicfp.com
END:VEVENT
BEGIN:VEVENT
DTSTAMP:20260423T095740Z
DTSTART;VALUE=DATE:20101215
SUMMARY:ICMR 2011 Deadline
DESCRIPTION:ACM International Conference on Multimedia Retrieval
URL:http://www.wikicfp.com/cfp/servlet/event.showcfp?eventid=9418&copyown
 erid=12453
UID:cfp90462-D@wikicfp.com
END:VEVENT
BEGIN:VEVENT
DTSTAMP:20260423T095740Z
DTSTART;VALUE=DATE:20110211
SUMMARY:ICMR 2011 Notification Due
DESCRIPTION:ACM International Conference on Multimedia Retrieval
URL:http://www.wikicfp.com/cfp/servlet/event.showcfp?eventid=9418&copyown
 erid=12453
UID:cfp90462-N@wikicfp.com
END:VEVENT
BEGIN:VEVENT
DTSTAMP:20260423T095740Z
DTSTART;VALUE=DATE:20110304
SUMMARY:ICMR 2011 Final Version Due
DESCRIPTION:ACM International Conference on Multimedia Retrieval
URL:http://www.wikicfp.com/cfp/servlet/event.showcfp?eventid=9418&copyown
 erid=12453
UID:cfp90462-N@wikicfp.com
END:VEVENT
END:VCALENDAR
