BEGIN:VCALENDAR
PRODID:-//WikiCFP//Knotk4 1.0//EN
VERSION:2.0
CALSCALE:GREGORIAN
BEGIN:VEVENT
DTSTAMP:20260422T213342Z
DTSTART;VALUE=DATE:20190529
DTEND;VALUE=DATE:20190601
SUMMARY:ICSE NIER 2019
DESCRIPTION:ICSE New Ideas and Emerging Results
URL:http://www.wikicfp.com/cfp/servlet/event.showcfp?eventid=79225&copyow
 nerid=124220
UID:cfp737718-E@wikicfp.com
END:VEVENT
BEGIN:VEVENT
DTSTAMP:20260422T213342Z
DTSTART;VALUE=DATE:20181001
SUMMARY:ICSE NIER 2019 Deadline
DESCRIPTION:ICSE New Ideas and Emerging Results
URL:http://www.wikicfp.com/cfp/servlet/event.showcfp?eventid=79225&copyow
 nerid=124220
UID:cfp737718-D@wikicfp.com
END:VEVENT
BEGIN:VEVENT
DTSTAMP:20260422T213342Z
DTSTART;VALUE=DATE:20181117
SUMMARY:ICSE NIER 2019 Notification Due
DESCRIPTION:ICSE New Ideas and Emerging Results
URL:http://www.wikicfp.com/cfp/servlet/event.showcfp?eventid=79225&copyow
 nerid=124220
UID:cfp737718-N@wikicfp.com
END:VEVENT
BEGIN:VEVENT
DTSTAMP:20260422T213342Z
DTSTART;VALUE=DATE:20190209
SUMMARY:ICSE NIER 2019 Final Version Due
DESCRIPTION:ICSE New Ideas and Emerging Results
URL:http://www.wikicfp.com/cfp/servlet/event.showcfp?eventid=79225&copyow
 nerid=124220
UID:cfp737718-N@wikicfp.com
END:VEVENT
BEGIN:VEVENT
DTSTAMP:20260422T213342Z
DTSTART;VALUE=DATE:20190411
DTEND;VALUE=DATE:20190413
SUMMARY:ICGR 2019
DESCRIPTION:2nd International Conference on Gender Research
URL:http://www.wikicfp.com/cfp/servlet/event.showcfp?eventid=79293&copyow
 nerid=124220
UID:cfp737721-E@wikicfp.com
END:VEVENT
BEGIN:VEVENT
DTSTAMP:20260422T213342Z
DTSTART;VALUE=DATE:20180920
SUMMARY:ICGR 2019 Abstract Due
DESCRIPTION:2nd International Conference on Gender Research
URL:http://www.wikicfp.com/cfp/servlet/event.showcfp?eventid=79293&copyow
 nerid=124220
UID:cfp737721-A@wikicfp.com
END:VEVENT
BEGIN:VEVENT
DTSTAMP:20260422T213342Z
DTSTART;VALUE=DATE:20181002
SUMMARY:ICGR 2019 Deadline
DESCRIPTION:2nd International Conference on Gender Research
URL:http://www.wikicfp.com/cfp/servlet/event.showcfp?eventid=79293&copyow
 nerid=124220
UID:cfp737721-D@wikicfp.com
END:VEVENT
BEGIN:VEVENT
DTSTAMP:20260422T213342Z
DTSTART;VALUE=DATE:20180117
SUMMARY:ICGR 2019 Notification Due
DESCRIPTION:2nd International Conference on Gender Research
URL:http://www.wikicfp.com/cfp/servlet/event.showcfp?eventid=79293&copyow
 nerid=124220
UID:cfp737721-N@wikicfp.com
END:VEVENT
BEGIN:VEVENT
DTSTAMP:20260422T213342Z
DTSTART;VALUE=DATE:20180214
SUMMARY:ICGR 2019 Final Version Due
DESCRIPTION:2nd International Conference on Gender Research
URL:http://www.wikicfp.com/cfp/servlet/event.showcfp?eventid=79293&copyow
 nerid=124220
UID:cfp737721-N@wikicfp.com
END:VEVENT
BEGIN:VEVENT
DTSTAMP:20260422T213342Z
DTSTART;VALUE=DATE:20190613
DTEND;VALUE=DATE:20190615
SUMMARY:ECSM 2019
DESCRIPTION:6th European Conference on Social Media
URL:http://www.wikicfp.com/cfp/servlet/event.showcfp?eventid=79291&copyow
 nerid=124220
UID:cfp737720-E@wikicfp.com
END:VEVENT
BEGIN:VEVENT
DTSTAMP:20260422T213342Z
DTSTART;VALUE=DATE:20181122
SUMMARY:ECSM 2019 Deadline
DESCRIPTION:6th European Conference on Social Media
URL:http://www.wikicfp.com/cfp/servlet/event.showcfp?eventid=79291&copyow
 nerid=124220
UID:cfp737720-D@wikicfp.com
END:VEVENT
BEGIN:VEVENT
DTSTAMP:20260422T213342Z
DTSTART;VALUE=DATE:20181203
SUMMARY:ECSM 2019 Notification Due
DESCRIPTION:6th European Conference on Social Media
URL:http://www.wikicfp.com/cfp/servlet/event.showcfp?eventid=79291&copyow
 nerid=124220
UID:cfp737720-N@wikicfp.com
END:VEVENT
BEGIN:VEVENT
DTSTAMP:20260422T213342Z
DTSTART;VALUE=DATE:20190417
SUMMARY:ECSM 2019 Final Version Due
DESCRIPTION:6th European Conference on Social Media
URL:http://www.wikicfp.com/cfp/servlet/event.showcfp?eventid=79291&copyow
 nerid=124220
UID:cfp737720-N@wikicfp.com
END:VEVENT
END:VCALENDAR
