BEGIN:VCALENDAR
PRODID:-//WikiCFP//saverio_giallorenzo 1.0//EN
VERSION:2.0
CALSCALE:GREGORIAN
BEGIN:VEVENT
DTSTAMP:20260419T134357Z
DTSTART;VALUE=DATE:20190408
DTEND;VALUE=DATE:20190413
SUMMARY:MiDOS @ SAC 2019
DESCRIPTION:Microservices\, DevOps\, and Service-Oriented Architecture
URL:http://www.wikicfp.com/cfp/servlet/event.showcfp?eventid=78406&copyow
 nerid=121826
UID:cfp734054-E@wikicfp.com
END:VEVENT
BEGIN:VEVENT
DTSTAMP:20260419T134357Z
DTSTART;VALUE=DATE:20190910
SUMMARY:MiDOS @ SAC 2019 Deadline
DESCRIPTION:Microservices\, DevOps\, and Service-Oriented Architecture
URL:http://www.wikicfp.com/cfp/servlet/event.showcfp?eventid=78406&copyow
 nerid=121826
UID:cfp734054-D@wikicfp.com
END:VEVENT
BEGIN:VEVENT
DTSTAMP:20260419T134357Z
DTSTART;VALUE=DATE:20191110
SUMMARY:MiDOS @ SAC 2019 Notification Due
DESCRIPTION:Microservices\, DevOps\, and Service-Oriented Architecture
URL:http://www.wikicfp.com/cfp/servlet/event.showcfp?eventid=78406&copyow
 nerid=121826
UID:cfp734054-N@wikicfp.com
END:VEVENT
BEGIN:VEVENT
DTSTAMP:20260419T134357Z
DTSTART;VALUE=DATE:20181225
SUMMARY:MiDOS @ SAC 2019 Final Version Due
DESCRIPTION:Microservices\, DevOps\, and Service-Oriented Architecture
URL:http://www.wikicfp.com/cfp/servlet/event.showcfp?eventid=78406&copyow
 nerid=121826
UID:cfp734054-N@wikicfp.com
END:VEVENT
BEGIN:VEVENT
DTSTAMP:20260419T134357Z
DTSTART;VALUE=DATE:20240518
DTEND;VALUE=DATE:20240521
SUMMARY:COORDINATION 2024
DESCRIPTION:26th International Conference on Coordination Models and Lang
 uages
URL:http://www.wikicfp.com/cfp/servlet/event.showcfp?eventid=177455&copyo
 wnerid=121826
UID:cfp979468-E@wikicfp.com
END:VEVENT
BEGIN:VEVENT
DTSTAMP:20260419T134357Z
DTSTART;VALUE=DATE:20240202
SUMMARY:COORDINATION 2024 Abstract Due
DESCRIPTION:26th International Conference on Coordination Models and Lang
 uages
URL:http://www.wikicfp.com/cfp/servlet/event.showcfp?eventid=177455&copyo
 wnerid=121826
UID:cfp979468-A@wikicfp.com
END:VEVENT
BEGIN:VEVENT
DTSTAMP:20260419T134357Z
DTSTART;VALUE=DATE:20240209
SUMMARY:COORDINATION 2024 Deadline
DESCRIPTION:26th International Conference on Coordination Models and Lang
 uages
URL:http://www.wikicfp.com/cfp/servlet/event.showcfp?eventid=177455&copyo
 wnerid=121826
UID:cfp979468-D@wikicfp.com
END:VEVENT
BEGIN:VEVENT
DTSTAMP:20260419T134357Z
DTSTART;VALUE=DATE:20240329
SUMMARY:COORDINATION 2024 Notification Due
DESCRIPTION:26th International Conference on Coordination Models and Lang
 uages
URL:http://www.wikicfp.com/cfp/servlet/event.showcfp?eventid=177455&copyo
 wnerid=121826
UID:cfp979468-N@wikicfp.com
END:VEVENT
BEGIN:VEVENT
DTSTAMP:20260419T134357Z
DTSTART;VALUE=DATE:20240424
SUMMARY:COORDINATION 2024 Final Version Due
DESCRIPTION:26th International Conference on Coordination Models and Lang
 uages
URL:http://www.wikicfp.com/cfp/servlet/event.showcfp?eventid=177455&copyo
 wnerid=121826
UID:cfp979468-N@wikicfp.com
END:VEVENT
END:VCALENDAR
