BEGIN:VCALENDAR
PRODID:-//WikiCFP//rakshaps25 1.0//EN
VERSION:2.0
CALSCALE:GREGORIAN
BEGIN:VEVENT
DTSTAMP:20260422T064622Z
DTSTART;VALUE=DATE:20180423
DTEND;VALUE=DATE:20180428
SUMMARY:WWW 2018
DESCRIPTION:World Wide Web (The Web Conference)
URL:http://www.wikicfp.com/cfp/servlet/event.showcfp?eventid=63231&copyow
 nerid=121364
UID:cfp732382-E@wikicfp.com
END:VEVENT
BEGIN:VEVENT
DTSTAMP:20260422T064622Z
DTSTART;VALUE=DATE:20171027
SUMMARY:WWW 2018 Abstract Due
DESCRIPTION:World Wide Web (The Web Conference)
URL:http://www.wikicfp.com/cfp/servlet/event.showcfp?eventid=63231&copyow
 nerid=121364
UID:cfp732382-A@wikicfp.com
END:VEVENT
BEGIN:VEVENT
DTSTAMP:20260422T064622Z
DTSTART;VALUE=DATE:20171031
SUMMARY:WWW 2018 Deadline
DESCRIPTION:World Wide Web (The Web Conference)
URL:http://www.wikicfp.com/cfp/servlet/event.showcfp?eventid=63231&copyow
 nerid=121364
UID:cfp732382-D@wikicfp.com
END:VEVENT
BEGIN:VEVENT
DTSTAMP:20260422T064622Z
DTSTART;VALUE=DATE:20171222
SUMMARY:WWW 2018 Notification Due
DESCRIPTION:World Wide Web (The Web Conference)
URL:http://www.wikicfp.com/cfp/servlet/event.showcfp?eventid=63231&copyow
 nerid=121364
UID:cfp732382-N@wikicfp.com
END:VEVENT
BEGIN:VEVENT
DTSTAMP:20260422T064622Z
DTSTART;VALUE=DATE:20180214
SUMMARY:WWW 2018 Final Version Due
DESCRIPTION:World Wide Web (The Web Conference)
URL:http://www.wikicfp.com/cfp/servlet/event.showcfp?eventid=63231&copyow
 nerid=121364
UID:cfp732382-N@wikicfp.com
END:VEVENT
BEGIN:VEVENT
DTSTAMP:20260422T064622Z
DTSTART;VALUE=DATE:20180517
DTEND;VALUE=DATE:20180521
SUMMARY:ICWSM 2018
DESCRIPTION:12th International AAAI Conference on Web and Social Media
URL:http://www.wikicfp.com/cfp/servlet/event.showcfp?eventid=64659&copyow
 nerid=121364
UID:cfp732385-E@wikicfp.com
END:VEVENT
BEGIN:VEVENT
DTSTAMP:20260422T064622Z
DTSTART;VALUE=DATE:20180119
SUMMARY:ICWSM 2018 Abstract Due
DESCRIPTION:12th International AAAI Conference on Web and Social Media
URL:http://www.wikicfp.com/cfp/servlet/event.showcfp?eventid=64659&copyow
 nerid=121364
UID:cfp732385-A@wikicfp.com
END:VEVENT
BEGIN:VEVENT
DTSTAMP:20260422T064622Z
DTSTART;VALUE=DATE:20180125
SUMMARY:ICWSM 2018 Deadline
DESCRIPTION:12th International AAAI Conference on Web and Social Media
URL:http://www.wikicfp.com/cfp/servlet/event.showcfp?eventid=64659&copyow
 nerid=121364
UID:cfp732385-D@wikicfp.com
END:VEVENT
BEGIN:VEVENT
DTSTAMP:20260422T064622Z
DTSTART;VALUE=DATE:20180322
SUMMARY:ICWSM 2018 Notification Due
DESCRIPTION:12th International AAAI Conference on Web and Social Media
URL:http://www.wikicfp.com/cfp/servlet/event.showcfp?eventid=64659&copyow
 nerid=121364
UID:cfp732385-N@wikicfp.com
END:VEVENT
BEGIN:VEVENT
DTSTAMP:20260422T064622Z
DTSTART;VALUE=DATE:20180410
SUMMARY:ICWSM 2018 Final Version Due
DESCRIPTION:12th International AAAI Conference on Web and Social Media
URL:http://www.wikicfp.com/cfp/servlet/event.showcfp?eventid=64659&copyow
 nerid=121364
UID:cfp732385-N@wikicfp.com
END:VEVENT
BEGIN:VEVENT
DTSTAMP:20260422T064622Z
DTSTART;VALUE=DATE:20180709
DTEND;VALUE=DATE:20180713
SUMMARY:ACM HT 2018
DESCRIPTION:29th ACM Conference on Hypertext and Social Media 2018 
URL:http://www.wikicfp.com/cfp/servlet/event.showcfp?eventid=69771&copyow
 nerid=121364
UID:cfp732381-E@wikicfp.com
END:VEVENT
BEGIN:VEVENT
DTSTAMP:20260422T064622Z
DTSTART;VALUE=DATE:20180126
SUMMARY:ACM HT 2018 Abstract Due
DESCRIPTION:29th ACM Conference on Hypertext and Social Media 2018 
URL:http://www.wikicfp.com/cfp/servlet/event.showcfp?eventid=69771&copyow
 nerid=121364
UID:cfp732381-A@wikicfp.com
END:VEVENT
BEGIN:VEVENT
DTSTAMP:20260422T064622Z
DTSTART;VALUE=DATE:20180410
SUMMARY:ACM HT 2018 Deadline
DESCRIPTION:29th ACM Conference on Hypertext and Social Media 2018 
URL:http://www.wikicfp.com/cfp/servlet/event.showcfp?eventid=69771&copyow
 nerid=121364
UID:cfp732381-D@wikicfp.com
END:VEVENT
BEGIN:VEVENT
DTSTAMP:20260422T064622Z
DTSTART;VALUE=DATE:20180508
SUMMARY:ACM HT 2018 Notification Due
DESCRIPTION:29th ACM Conference on Hypertext and Social Media 2018 
URL:http://www.wikicfp.com/cfp/servlet/event.showcfp?eventid=69771&copyow
 nerid=121364
UID:cfp732381-N@wikicfp.com
END:VEVENT
BEGIN:VEVENT
DTSTAMP:20260422T064622Z
DTSTART;VALUE=DATE:20180828
DTEND;VALUE=DATE:20180901
SUMMARY:ASONAM 2018
DESCRIPTION:Advances in Social Networks Analysis and Mining
URL:http://www.wikicfp.com/cfp/servlet/event.showcfp?eventid=72383&copyow
 nerid=121364
UID:cfp732384-E@wikicfp.com
END:VEVENT
BEGIN:VEVENT
DTSTAMP:20260422T064622Z
DTSTART;VALUE=DATE:20180415
SUMMARY:ASONAM 2018 Deadline
DESCRIPTION:Advances in Social Networks Analysis and Mining
URL:http://www.wikicfp.com/cfp/servlet/event.showcfp?eventid=72383&copyow
 nerid=121364
UID:cfp732384-D@wikicfp.com
END:VEVENT
BEGIN:VEVENT
DTSTAMP:20260422T064622Z
DTSTART;VALUE=DATE:20180618
SUMMARY:ASONAM 2018 Notification Due
DESCRIPTION:Advances in Social Networks Analysis and Mining
URL:http://www.wikicfp.com/cfp/servlet/event.showcfp?eventid=72383&copyow
 nerid=121364
UID:cfp732384-N@wikicfp.com
END:VEVENT
BEGIN:VEVENT
DTSTAMP:20260422T064622Z
DTSTART;VALUE=DATE:20180702
SUMMARY:ASONAM 2018 Final Version Due
DESCRIPTION:Advances in Social Networks Analysis and Mining
URL:http://www.wikicfp.com/cfp/servlet/event.showcfp?eventid=72383&copyow
 nerid=121364
UID:cfp732384-N@wikicfp.com
END:VEVENT
BEGIN:VEVENT
DTSTAMP:20260422T064622Z
DTSTART;VALUE=DATE:20181022
DTEND;VALUE=DATE:20181027
SUMMARY:OnTheMove 2018
DESCRIPTION:â¶ CFP: OntheMove Federated Conferences 2018\, Valletta\, Ma
 lta\, 22-26 October 2018
URL:http://www.wikicfp.com/cfp/servlet/event.showcfp?eventid=72160&copyow
 nerid=121364
UID:cfp732383-E@wikicfp.com
END:VEVENT
BEGIN:VEVENT
DTSTAMP:20260422T064622Z
DTSTART;VALUE=DATE:20180701
SUMMARY:OnTheMove 2018 Abstract Due
DESCRIPTION:â¶ CFP: OntheMove Federated Conferences 2018\, Valletta\, Ma
 lta\, 22-26 October 2018
URL:http://www.wikicfp.com/cfp/servlet/event.showcfp?eventid=72160&copyow
 nerid=121364
UID:cfp732383-A@wikicfp.com
END:VEVENT
BEGIN:VEVENT
DTSTAMP:20260422T064622Z
DTSTART;VALUE=DATE:20180715
SUMMARY:OnTheMove 2018 Deadline
DESCRIPTION:â¶ CFP: OntheMove Federated Conferences 2018\, Valletta\, Ma
 lta\, 22-26 October 2018
URL:http://www.wikicfp.com/cfp/servlet/event.showcfp?eventid=72160&copyow
 nerid=121364
UID:cfp732383-D@wikicfp.com
END:VEVENT
BEGIN:VEVENT
DTSTAMP:20260422T064622Z
DTSTART;VALUE=DATE:20180820
SUMMARY:OnTheMove 2018 Notification Due
DESCRIPTION:â¶ CFP: OntheMove Federated Conferences 2018\, Valletta\, Ma
 lta\, 22-26 October 2018
URL:http://www.wikicfp.com/cfp/servlet/event.showcfp?eventid=72160&copyow
 nerid=121364
UID:cfp732383-N@wikicfp.com
END:VEVENT
BEGIN:VEVENT
DTSTAMP:20260422T064622Z
DTSTART;VALUE=DATE:20180830
SUMMARY:OnTheMove 2018 Final Version Due
DESCRIPTION:â¶ CFP: OntheMove Federated Conferences 2018\, Valletta\, Ma
 lta\, 22-26 October 2018
URL:http://www.wikicfp.com/cfp/servlet/event.showcfp?eventid=72160&copyow
 nerid=121364
UID:cfp732383-N@wikicfp.com
END:VEVENT
BEGIN:VEVENT
DTSTAMP:20260422T064622Z
DTSTART;VALUE=DATE:20190211
DTEND;VALUE=DATE:20190216
SUMMARY:WSDM 2019
DESCRIPTION:WSDM 2019: The 12th ACM International Conference on Web Searc
 h and Data Mining
URL:http://www.wikicfp.com/cfp/servlet/event.showcfp?eventid=76060&copyow
 nerid=121364
UID:cfp732380-E@wikicfp.com
END:VEVENT
BEGIN:VEVENT
DTSTAMP:20260422T064622Z
DTSTART;VALUE=DATE:20180808
SUMMARY:WSDM 2019 Abstract Due
DESCRIPTION:WSDM 2019: The 12th ACM International Conference on Web Searc
 h and Data Mining
URL:http://www.wikicfp.com/cfp/servlet/event.showcfp?eventid=76060&copyow
 nerid=121364
UID:cfp732380-A@wikicfp.com
END:VEVENT
BEGIN:VEVENT
DTSTAMP:20260422T064622Z
DTSTART;VALUE=DATE:20180814
SUMMARY:WSDM 2019 Deadline
DESCRIPTION:WSDM 2019: The 12th ACM International Conference on Web Searc
 h and Data Mining
URL:http://www.wikicfp.com/cfp/servlet/event.showcfp?eventid=76060&copyow
 nerid=121364
UID:cfp732380-D@wikicfp.com
END:VEVENT
BEGIN:VEVENT
DTSTAMP:20260422T064622Z
DTSTART;VALUE=DATE:20181024
SUMMARY:WSDM 2019 Notification Due
DESCRIPTION:WSDM 2019: The 12th ACM International Conference on Web Searc
 h and Data Mining
URL:http://www.wikicfp.com/cfp/servlet/event.showcfp?eventid=76060&copyow
 nerid=121364
UID:cfp732380-N@wikicfp.com
END:VEVENT
END:VCALENDAR
