BEGIN:VCALENDAR
PRODID:-//WikiCFP//eseo 1.0//EN
VERSION:2.0
CALSCALE:GREGORIAN
BEGIN:VEVENT
DTSTAMP:20260421T024601Z
DTSTART;VALUE=DATE:20100429
DTEND;VALUE=DATE:20100502
SUMMARY:SDM 2010
DESCRIPTION:Tenth SIAM International Conference on Data Mining
URL:http://www.wikicfp.com/cfp/servlet/event.showcfp?eventid=6377&copyown
 erid=12009
UID:cfp87116-E@wikicfp.com
END:VEVENT
BEGIN:VEVENT
DTSTAMP:20260421T024601Z
DTSTART;VALUE=DATE:20091009
SUMMARY:SDM 2010 Deadline
DESCRIPTION:Tenth SIAM International Conference on Data Mining
URL:http://www.wikicfp.com/cfp/servlet/event.showcfp?eventid=6377&copyown
 erid=12009
UID:cfp87116-D@wikicfp.com
END:VEVENT
BEGIN:VEVENT
DTSTAMP:20260421T024601Z
DTSTART;VALUE=DATE:20091215
SUMMARY:SDM 2010 Notification Due
DESCRIPTION:Tenth SIAM International Conference on Data Mining
URL:http://www.wikicfp.com/cfp/servlet/event.showcfp?eventid=6377&copyown
 erid=12009
UID:cfp87116-N@wikicfp.com
END:VEVENT
BEGIN:VEVENT
DTSTAMP:20260421T024601Z
DTSTART;VALUE=DATE:20100125
SUMMARY:SDM 2010 Final Version Due
DESCRIPTION:Tenth SIAM International Conference on Data Mining
URL:http://www.wikicfp.com/cfp/servlet/event.showcfp?eventid=6377&copyown
 erid=12009
UID:cfp87116-N@wikicfp.com
END:VEVENT
BEGIN:VEVENT
DTSTAMP:20260421T024601Z
DTSTART;VALUE=DATE:20100823
DTEND;VALUE=DATE:20100827
SUMMARY:ICPR 2010
DESCRIPTION:20th IAPR International Conference on Pattern Recognition
URL:http://www.wikicfp.com/cfp/servlet/event.showcfp?eventid=4312&copyown
 erid=12009
UID:cfp87115-E@wikicfp.com
END:VEVENT
BEGIN:VEVENT
DTSTAMP:20260421T024601Z
DTSTART;VALUE=DATE:20100115
SUMMARY:ICPR 2010 Deadline
DESCRIPTION:20th IAPR International Conference on Pattern Recognition
URL:http://www.wikicfp.com/cfp/servlet/event.showcfp?eventid=4312&copyown
 erid=12009
UID:cfp87115-D@wikicfp.com
END:VEVENT
BEGIN:VEVENT
DTSTAMP:20260421T024601Z
DTSTART;VALUE=DATE:20100330
SUMMARY:ICPR 2010 Notification Due
DESCRIPTION:20th IAPR International Conference on Pattern Recognition
URL:http://www.wikicfp.com/cfp/servlet/event.showcfp?eventid=4312&copyown
 erid=12009
UID:cfp87115-N@wikicfp.com
END:VEVENT
BEGIN:VEVENT
DTSTAMP:20260421T024601Z
DTSTART;VALUE=DATE:20100430
SUMMARY:ICPR 2010 Final Version Due
DESCRIPTION:20th IAPR International Conference on Pattern Recognition
URL:http://www.wikicfp.com/cfp/servlet/event.showcfp?eventid=4312&copyown
 erid=12009
UID:cfp87115-N@wikicfp.com
END:VEVENT
BEGIN:VEVENT
DTSTAMP:20260421T024601Z
DTSTART;VALUE=DATE:20100711
DTEND;VALUE=DATE:20100716
SUMMARY:AAAI 2010
DESCRIPTION:The Twenty-Fourth AAAI Conference on Artificial Intelligence
URL:http://www.wikicfp.com/cfp/servlet/event.showcfp?eventid=6149&copyown
 erid=12009
UID:cfp87121-E@wikicfp.com
END:VEVENT
BEGIN:VEVENT
DTSTAMP:20260421T024601Z
DTSTART;VALUE=DATE:20100118
SUMMARY:AAAI 2010 Abstract Due
DESCRIPTION:The Twenty-Fourth AAAI Conference on Artificial Intelligence
URL:http://www.wikicfp.com/cfp/servlet/event.showcfp?eventid=6149&copyown
 erid=12009
UID:cfp87121-A@wikicfp.com
END:VEVENT
BEGIN:VEVENT
DTSTAMP:20260421T024601Z
DTSTART;VALUE=DATE:20100121
SUMMARY:AAAI 2010 Deadline
DESCRIPTION:The Twenty-Fourth AAAI Conference on Artificial Intelligence
URL:http://www.wikicfp.com/cfp/servlet/event.showcfp?eventid=6149&copyown
 erid=12009
UID:cfp87121-D@wikicfp.com
END:VEVENT
BEGIN:VEVENT
DTSTAMP:20260421T024601Z
DTSTART;VALUE=DATE:20100326
SUMMARY:AAAI 2010 Notification Due
DESCRIPTION:The Twenty-Fourth AAAI Conference on Artificial Intelligence
URL:http://www.wikicfp.com/cfp/servlet/event.showcfp?eventid=6149&copyown
 erid=12009
UID:cfp87121-N@wikicfp.com
END:VEVENT
BEGIN:VEVENT
DTSTAMP:20260421T024601Z
DTSTART;VALUE=DATE:20100413
SUMMARY:AAAI 2010 Final Version Due
DESCRIPTION:The Twenty-Fourth AAAI Conference on Artificial Intelligence
URL:http://www.wikicfp.com/cfp/servlet/event.showcfp?eventid=6149&copyown
 erid=12009
UID:cfp87121-N@wikicfp.com
END:VEVENT
BEGIN:VEVENT
DTSTAMP:20260421T024601Z
DTSTART;VALUE=DATE:20100718
DTEND;VALUE=DATE:20100724
SUMMARY:SIGIR 2010
DESCRIPTION:The 33rd International ACM SIGIR Conference on Research and D
 evelopment in Information Retrieval
URL:http://www.wikicfp.com/cfp/servlet/event.showcfp?eventid=6254&copyown
 erid=12009
UID:cfp87119-E@wikicfp.com
END:VEVENT
BEGIN:VEVENT
DTSTAMP:20260421T024601Z
DTSTART;VALUE=DATE:20100115
SUMMARY:SIGIR 2010 Abstract Due
DESCRIPTION:The 33rd International ACM SIGIR Conference on Research and D
 evelopment in Information Retrieval
URL:http://www.wikicfp.com/cfp/servlet/event.showcfp?eventid=6254&copyown
 erid=12009
UID:cfp87119-A@wikicfp.com
END:VEVENT
BEGIN:VEVENT
DTSTAMP:20260421T024601Z
DTSTART;VALUE=DATE:20100122
SUMMARY:SIGIR 2010 Deadline
DESCRIPTION:The 33rd International ACM SIGIR Conference on Research and D
 evelopment in Information Retrieval
URL:http://www.wikicfp.com/cfp/servlet/event.showcfp?eventid=6254&copyown
 erid=12009
UID:cfp87119-D@wikicfp.com
END:VEVENT
BEGIN:VEVENT
DTSTAMP:20260421T024601Z
DTSTART;VALUE=DATE:20100324
SUMMARY:SIGIR 2010 Notification Due
DESCRIPTION:The 33rd International ACM SIGIR Conference on Research and D
 evelopment in Information Retrieval
URL:http://www.wikicfp.com/cfp/servlet/event.showcfp?eventid=6254&copyown
 erid=12009
UID:cfp87119-N@wikicfp.com
END:VEVENT
BEGIN:VEVENT
DTSTAMP:20260421T024601Z
DTSTART;VALUE=DATE:20100621
DTEND;VALUE=DATE:20100625
SUMMARY:ICML 2010
DESCRIPTION:The 27th International Conference on Machine Learning
URL:http://www.wikicfp.com/cfp/servlet/event.showcfp?eventid=6668&copyown
 erid=12009
UID:cfp87120-E@wikicfp.com
END:VEVENT
BEGIN:VEVENT
DTSTAMP:20260421T024601Z
DTSTART;VALUE=DATE:20100201
SUMMARY:ICML 2010 Deadline
DESCRIPTION:The 27th International Conference on Machine Learning
URL:http://www.wikicfp.com/cfp/servlet/event.showcfp?eventid=6668&copyown
 erid=12009
UID:cfp87120-D@wikicfp.com
END:VEVENT
BEGIN:VEVENT
DTSTAMP:20260421T024601Z
DTSTART;VALUE=DATE:20100416
SUMMARY:ICML 2010 Notification Due
DESCRIPTION:The 27th International Conference on Machine Learning
URL:http://www.wikicfp.com/cfp/servlet/event.showcfp?eventid=6668&copyown
 erid=12009
UID:cfp87120-N@wikicfp.com
END:VEVENT
BEGIN:VEVENT
DTSTAMP:20260421T024601Z
DTSTART;VALUE=DATE:20100725
DTEND;VALUE=DATE:20100729
SUMMARY:KDD 2010
DESCRIPTION:The 16th ACM SIGKDD Conference on Knowledge Discovery and Dat
 a Mining
URL:http://www.wikicfp.com/cfp/servlet/event.showcfp?eventid=6690&copyown
 erid=12009
UID:cfp87123-E@wikicfp.com
END:VEVENT
BEGIN:VEVENT
DTSTAMP:20260421T024601Z
DTSTART;VALUE=DATE:20100202
SUMMARY:KDD 2010 Abstract Due
DESCRIPTION:The 16th ACM SIGKDD Conference on Knowledge Discovery and Dat
 a Mining
URL:http://www.wikicfp.com/cfp/servlet/event.showcfp?eventid=6690&copyown
 erid=12009
UID:cfp87123-A@wikicfp.com
END:VEVENT
BEGIN:VEVENT
DTSTAMP:20260421T024601Z
DTSTART;VALUE=DATE:20100205
SUMMARY:KDD 2010 Deadline
DESCRIPTION:The 16th ACM SIGKDD Conference on Knowledge Discovery and Dat
 a Mining
URL:http://www.wikicfp.com/cfp/servlet/event.showcfp?eventid=6690&copyown
 erid=12009
UID:cfp87123-D@wikicfp.com
END:VEVENT
BEGIN:VEVENT
DTSTAMP:20260421T024601Z
DTSTART;VALUE=DATE:20100430
SUMMARY:KDD 2010 Notification Due
DESCRIPTION:The 16th ACM SIGKDD Conference on Knowledge Discovery and Dat
 a Mining
URL:http://www.wikicfp.com/cfp/servlet/event.showcfp?eventid=6690&copyown
 erid=12009
UID:cfp87123-N@wikicfp.com
END:VEVENT
BEGIN:VEVENT
DTSTAMP:20260421T024601Z
DTSTART;VALUE=DATE:20100908
DTEND;VALUE=DATE:20100911
SUMMARY:KES 2010
DESCRIPTION:14th International Conference on Knowledge-Based and Intellig
 ent Information and Engineering Systems
URL:http://www.wikicfp.com/cfp/servlet/event.showcfp?eventid=7416&copyown
 erid=12009
UID:cfp87111-E@wikicfp.com
END:VEVENT
BEGIN:VEVENT
DTSTAMP:20260421T024601Z
DTSTART;VALUE=DATE:20100301
SUMMARY:KES 2010 Deadline
DESCRIPTION:14th International Conference on Knowledge-Based and Intellig
 ent Information and Engineering Systems
URL:http://www.wikicfp.com/cfp/servlet/event.showcfp?eventid=7416&copyown
 erid=12009
UID:cfp87111-D@wikicfp.com
END:VEVENT
BEGIN:VEVENT
DTSTAMP:20260421T024601Z
DTSTART;VALUE=DATE:20100401
SUMMARY:KES 2010 Notification Due
DESCRIPTION:14th International Conference on Knowledge-Based and Intellig
 ent Information and Engineering Systems
URL:http://www.wikicfp.com/cfp/servlet/event.showcfp?eventid=7416&copyown
 erid=12009
UID:cfp87111-N@wikicfp.com
END:VEVENT
BEGIN:VEVENT
DTSTAMP:20260421T024601Z
DTSTART;VALUE=DATE:20100501
SUMMARY:KES 2010 Final Version Due
DESCRIPTION:14th International Conference on Knowledge-Based and Intellig
 ent Information and Engineering Systems
URL:http://www.wikicfp.com/cfp/servlet/event.showcfp?eventid=7416&copyown
 erid=12009
UID:cfp87111-N@wikicfp.com
END:VEVENT
BEGIN:VEVENT
DTSTAMP:20260421T024601Z
DTSTART;VALUE=DATE:20100926
DTEND;VALUE=DATE:20101001
SUMMARY:RecSys 2010
DESCRIPTION:Fourth ACM Conference on Recommender Systems
URL:http://www.wikicfp.com/cfp/servlet/event.showcfp?eventid=7431&copyown
 erid=12009
UID:cfp87104-E@wikicfp.com
END:VEVENT
BEGIN:VEVENT
DTSTAMP:20260421T024601Z
DTSTART;VALUE=DATE:20100416
SUMMARY:RecSys 2010 Abstract Due
DESCRIPTION:Fourth ACM Conference on Recommender Systems
URL:http://www.wikicfp.com/cfp/servlet/event.showcfp?eventid=7431&copyown
 erid=12009
UID:cfp87104-A@wikicfp.com
END:VEVENT
BEGIN:VEVENT
DTSTAMP:20260421T024601Z
DTSTART;VALUE=DATE:20100423
SUMMARY:RecSys 2010 Deadline
DESCRIPTION:Fourth ACM Conference on Recommender Systems
URL:http://www.wikicfp.com/cfp/servlet/event.showcfp?eventid=7431&copyown
 erid=12009
UID:cfp87104-D@wikicfp.com
END:VEVENT
BEGIN:VEVENT
DTSTAMP:20260421T024601Z
DTSTART;VALUE=DATE:20100623
SUMMARY:RecSys 2010 Notification Due
DESCRIPTION:Fourth ACM Conference on Recommender Systems
URL:http://www.wikicfp.com/cfp/servlet/event.showcfp?eventid=7431&copyown
 erid=12009
UID:cfp87104-N@wikicfp.com
END:VEVENT
BEGIN:VEVENT
DTSTAMP:20260421T024601Z
DTSTART;VALUE=DATE:20100721
SUMMARY:RecSys 2010 Final Version Due
DESCRIPTION:Fourth ACM Conference on Recommender Systems
URL:http://www.wikicfp.com/cfp/servlet/event.showcfp?eventid=7431&copyown
 erid=12009
UID:cfp87104-N@wikicfp.com
END:VEVENT
BEGIN:VEVENT
DTSTAMP:20260421T024601Z
DTSTART;VALUE=DATE:20101029
DTEND;VALUE=DATE:20101101
SUMMARY:ICIS 2010
DESCRIPTION:2th IEEE International Conference on Intelligent Computing an
 d Intelligent Systems
URL:http://www.wikicfp.com/cfp/servlet/event.showcfp?eventid=7786&copyown
 erid=12009
UID:cfp87118-E@wikicfp.com
END:VEVENT
BEGIN:VEVENT
DTSTAMP:20260421T024601Z
DTSTART;VALUE=DATE:20100530
SUMMARY:ICIS 2010 Deadline
DESCRIPTION:2th IEEE International Conference on Intelligent Computing an
 d Intelligent Systems
URL:http://www.wikicfp.com/cfp/servlet/event.showcfp?eventid=7786&copyown
 erid=12009
UID:cfp87118-D@wikicfp.com
END:VEVENT
BEGIN:VEVENT
DTSTAMP:20260421T024601Z
DTSTART;VALUE=DATE:20100730
SUMMARY:ICIS 2010 Notification Due
DESCRIPTION:2th IEEE International Conference on Intelligent Computing an
 d Intelligent Systems
URL:http://www.wikicfp.com/cfp/servlet/event.showcfp?eventid=7786&copyown
 erid=12009
UID:cfp87118-N@wikicfp.com
END:VEVENT
BEGIN:VEVENT
DTSTAMP:20260421T024601Z
DTSTART;VALUE=DATE:20100830
SUMMARY:ICIS 2010 Final Version Due
DESCRIPTION:2th IEEE International Conference on Intelligent Computing an
 d Intelligent Systems
URL:http://www.wikicfp.com/cfp/servlet/event.showcfp?eventid=7786&copyown
 erid=12009
UID:cfp87118-N@wikicfp.com
END:VEVENT
BEGIN:VEVENT
DTSTAMP:20260421T024601Z
DTSTART;VALUE=DATE:20100712
DTEND;VALUE=DATE:20100713
SUMMARY:AIPR 2010
DESCRIPTION:2010 International Conference on Artificial Intelligence and 
 Pattern Recognition
URL:http://www.wikicfp.com/cfp/servlet/event.showcfp?eventid=8436&copyown
 erid=12009
UID:cfp87109-E@wikicfp.com
END:VEVENT
BEGIN:VEVENT
DTSTAMP:20260421T024601Z
DTSTART;VALUE=DATE:20100531
SUMMARY:AIPR 2010 Deadline
DESCRIPTION:2010 International Conference on Artificial Intelligence and 
 Pattern Recognition
URL:http://www.wikicfp.com/cfp/servlet/event.showcfp?eventid=8436&copyown
 erid=12009
UID:cfp87109-D@wikicfp.com
END:VEVENT
BEGIN:VEVENT
DTSTAMP:20260421T024601Z
DTSTART;VALUE=DATE:20101025
DTEND;VALUE=DATE:20101030
SUMMARY:CIKM 2010
DESCRIPTION:International Conference on Information and Knowledge Managem
 ent
URL:http://www.wikicfp.com/cfp/servlet/event.showcfp?eventid=5822&copyown
 erid=12009
UID:cfp87107-E@wikicfp.com
END:VEVENT
BEGIN:VEVENT
DTSTAMP:20260421T024601Z
DTSTART;VALUE=DATE:20100527
SUMMARY:CIKM 2010 Abstract Due
DESCRIPTION:International Conference on Information and Knowledge Managem
 ent
URL:http://www.wikicfp.com/cfp/servlet/event.showcfp?eventid=5822&copyown
 erid=12009
UID:cfp87107-A@wikicfp.com
END:VEVENT
BEGIN:VEVENT
DTSTAMP:20260421T024601Z
DTSTART;VALUE=DATE:20100603
SUMMARY:CIKM 2010 Deadline
DESCRIPTION:International Conference on Information and Knowledge Managem
 ent
URL:http://www.wikicfp.com/cfp/servlet/event.showcfp?eventid=5822&copyown
 erid=12009
UID:cfp87107-D@wikicfp.com
END:VEVENT
BEGIN:VEVENT
DTSTAMP:20260421T024601Z
DTSTART;VALUE=DATE:20100715
SUMMARY:CIKM 2010 Notification Due
DESCRIPTION:International Conference on Information and Knowledge Managem
 ent
URL:http://www.wikicfp.com/cfp/servlet/event.showcfp?eventid=5822&copyown
 erid=12009
UID:cfp87107-N@wikicfp.com
END:VEVENT
BEGIN:VEVENT
DTSTAMP:20260421T024601Z
DTSTART;VALUE=DATE:20101027
DTEND;VALUE=DATE:20101030
SUMMARY:ICTAI 2010
DESCRIPTION:22th IEEE International Conference on Tools with Artificial I
 ntelligence
URL:http://www.wikicfp.com/cfp/servlet/event.showcfp?eventid=8772&copyown
 erid=12009
UID:cfp87114-E@wikicfp.com
END:VEVENT
BEGIN:VEVENT
DTSTAMP:20260421T024601Z
DTSTART;VALUE=DATE:20100606
SUMMARY:ICTAI 2010 Deadline
DESCRIPTION:22th IEEE International Conference on Tools with Artificial I
 ntelligence
URL:http://www.wikicfp.com/cfp/servlet/event.showcfp?eventid=8772&copyown
 erid=12009
UID:cfp87114-D@wikicfp.com
END:VEVENT
BEGIN:VEVENT
DTSTAMP:20260421T024601Z
DTSTART;VALUE=DATE:20100715
SUMMARY:ICTAI 2010 Notification Due
DESCRIPTION:22th IEEE International Conference on Tools with Artificial I
 ntelligence
URL:http://www.wikicfp.com/cfp/servlet/event.showcfp?eventid=8772&copyown
 erid=12009
UID:cfp87114-N@wikicfp.com
END:VEVENT
BEGIN:VEVENT
DTSTAMP:20260421T024601Z
DTSTART;VALUE=DATE:20100831
SUMMARY:ICTAI 2010 Final Version Due
DESCRIPTION:22th IEEE International Conference on Tools with Artificial I
 ntelligence
URL:http://www.wikicfp.com/cfp/servlet/event.showcfp?eventid=8772&copyown
 erid=12009
UID:cfp87114-N@wikicfp.com
END:VEVENT
BEGIN:VEVENT
DTSTAMP:20260421T024601Z
DTSTART;VALUE=DATE:20101027
DTEND;VALUE=DATE:20101030
SUMMARY:CoopIS 2010
DESCRIPTION:18th International Conference on COOPERATIVE INFORMATION SYST
 EMS (CoopIS 2010)
URL:http://www.wikicfp.com/cfp/servlet/event.showcfp?eventid=9100&copyown
 erid=12009
UID:cfp87117-E@wikicfp.com
END:VEVENT
BEGIN:VEVENT
DTSTAMP:20260421T024601Z
DTSTART;VALUE=DATE:20100614
SUMMARY:CoopIS 2010 Deadline
DESCRIPTION:18th International Conference on COOPERATIVE INFORMATION SYST
 EMS (CoopIS 2010)
URL:http://www.wikicfp.com/cfp/servlet/event.showcfp?eventid=9100&copyown
 erid=12009
UID:cfp87117-D@wikicfp.com
END:VEVENT
BEGIN:VEVENT
DTSTAMP:20260421T024601Z
DTSTART;VALUE=DATE:20100802
SUMMARY:CoopIS 2010 Notification Due
DESCRIPTION:18th International Conference on COOPERATIVE INFORMATION SYST
 EMS (CoopIS 2010)
URL:http://www.wikicfp.com/cfp/servlet/event.showcfp?eventid=9100&copyown
 erid=12009
UID:cfp87117-N@wikicfp.com
END:VEVENT
BEGIN:VEVENT
DTSTAMP:20260421T024601Z
DTSTART;VALUE=DATE:20100813
SUMMARY:CoopIS 2010 Final Version Due
DESCRIPTION:18th International Conference on COOPERATIVE INFORMATION SYST
 EMS (CoopIS 2010)
URL:http://www.wikicfp.com/cfp/servlet/event.showcfp?eventid=9100&copyown
 erid=12009
UID:cfp87117-N@wikicfp.com
END:VEVENT
BEGIN:VEVENT
DTSTAMP:20260421T024601Z
DTSTART;VALUE=DATE:20101212
DTEND;VALUE=DATE:20101215
SUMMARY:WISE 2010
DESCRIPTION:The 11th International Conference on Web Information Systems 
 Engineering
URL:http://www.wikicfp.com/cfp/servlet/event.showcfp?eventid=8310&copyown
 erid=12009
UID:cfp87112-E@wikicfp.com
END:VEVENT
BEGIN:VEVENT
DTSTAMP:20260421T024601Z
DTSTART;VALUE=DATE:20100615
SUMMARY:WISE 2010 Deadline
DESCRIPTION:The 11th International Conference on Web Information Systems 
 Engineering
URL:http://www.wikicfp.com/cfp/servlet/event.showcfp?eventid=8310&copyown
 erid=12009
UID:cfp87112-D@wikicfp.com
END:VEVENT
BEGIN:VEVENT
DTSTAMP:20260421T024601Z
DTSTART;VALUE=DATE:20100930
DTEND;VALUE=DATE:20101001
SUMMARY:PRSAT 2010
DESCRIPTION:International Workshop on the Practical Use of Recommender Sy
 stems\, Algorithms and Technologies
URL:http://www.wikicfp.com/cfp/servlet/event.showcfp?eventid=9956&copyown
 erid=12009
UID:cfp87105-E@wikicfp.com
END:VEVENT
BEGIN:VEVENT
DTSTAMP:20260421T024601Z
DTSTART;VALUE=DATE:20100701
SUMMARY:PRSAT 2010 Deadline
DESCRIPTION:International Workshop on the Practical Use of Recommender Sy
 stems\, Algorithms and Technologies
URL:http://www.wikicfp.com/cfp/servlet/event.showcfp?eventid=9956&copyown
 erid=12009
UID:cfp87105-D@wikicfp.com
END:VEVENT
BEGIN:VEVENT
DTSTAMP:20260421T024601Z
DTSTART;VALUE=DATE:20100726
SUMMARY:PRSAT 2010 Notification Due
DESCRIPTION:International Workshop on the Practical Use of Recommender Sy
 stems\, Algorithms and Technologies
URL:http://www.wikicfp.com/cfp/servlet/event.showcfp?eventid=9956&copyown
 erid=12009
UID:cfp87105-N@wikicfp.com
END:VEVENT
BEGIN:VEVENT
DTSTAMP:20260421T024601Z
DTSTART;VALUE=DATE:20100816
SUMMARY:PRSAT 2010 Final Version Due
DESCRIPTION:International Workshop on the Practical Use of Recommender Sy
 stems\, Algorithms and Technologies
URL:http://www.wikicfp.com/cfp/servlet/event.showcfp?eventid=9956&copyown
 erid=12009
UID:cfp87105-N@wikicfp.com
END:VEVENT
BEGIN:VEVENT
DTSTAMP:20260421T024601Z
DTSTART;VALUE=DATE:20101213
DTEND;VALUE=DATE:20101218
SUMMARY:ICDM 2010
DESCRIPTION:The 10th IEEE International Conference on Data Mining
URL:http://www.wikicfp.com/cfp/servlet/event.showcfp?eventid=7127&copyown
 erid=12009
UID:cfp87108-E@wikicfp.com
END:VEVENT
BEGIN:VEVENT
DTSTAMP:20260421T024601Z
DTSTART;VALUE=DATE:20100702
SUMMARY:ICDM 2010 Deadline
DESCRIPTION:The 10th IEEE International Conference on Data Mining
URL:http://www.wikicfp.com/cfp/servlet/event.showcfp?eventid=7127&copyown
 erid=12009
UID:cfp87108-D@wikicfp.com
END:VEVENT
BEGIN:VEVENT
DTSTAMP:20260421T024601Z
DTSTART;VALUE=DATE:20100910
SUMMARY:ICDM 2010 Notification Due
DESCRIPTION:The 10th IEEE International Conference on Data Mining
URL:http://www.wikicfp.com/cfp/servlet/event.showcfp?eventid=7127&copyown
 erid=12009
UID:cfp87108-N@wikicfp.com
END:VEVENT
BEGIN:VEVENT
DTSTAMP:20260421T024601Z
DTSTART;VALUE=DATE:20101004
SUMMARY:ICDM 2010 Final Version Due
DESCRIPTION:The 10th IEEE International Conference on Data Mining
URL:http://www.wikicfp.com/cfp/servlet/event.showcfp?eventid=7127&copyown
 erid=12009
UID:cfp87108-N@wikicfp.com
END:VEVENT
BEGIN:VEVENT
DTSTAMP:20260421T024601Z
DTSTART;VALUE=DATE:20110411
DTEND;VALUE=DATE:20110417
SUMMARY:ICDE 2011
DESCRIPTION:IEEE International Conference on Data Engineering
URL:http://www.wikicfp.com/cfp/servlet/event.showcfp?eventid=8847&copyown
 erid=12009
UID:cfp87124-E@wikicfp.com
END:VEVENT
BEGIN:VEVENT
DTSTAMP:20260421T024601Z
DTSTART;VALUE=DATE:20100716
SUMMARY:ICDE 2011 Abstract Due
DESCRIPTION:IEEE International Conference on Data Engineering
URL:http://www.wikicfp.com/cfp/servlet/event.showcfp?eventid=8847&copyown
 erid=12009
UID:cfp87124-A@wikicfp.com
END:VEVENT
BEGIN:VEVENT
DTSTAMP:20260421T024601Z
DTSTART;VALUE=DATE:20100723
SUMMARY:ICDE 2011 Deadline
DESCRIPTION:IEEE International Conference on Data Engineering
URL:http://www.wikicfp.com/cfp/servlet/event.showcfp?eventid=8847&copyown
 erid=12009
UID:cfp87124-D@wikicfp.com
END:VEVENT
BEGIN:VEVENT
DTSTAMP:20260421T024601Z
DTSTART;VALUE=DATE:20101030
SUMMARY:ICDE 2011 Notification Due
DESCRIPTION:IEEE International Conference on Data Engineering
URL:http://www.wikicfp.com/cfp/servlet/event.showcfp?eventid=8847&copyown
 erid=12009
UID:cfp87124-N@wikicfp.com
END:VEVENT
BEGIN:VEVENT
DTSTAMP:20260421T024601Z
DTSTART;VALUE=DATE:20101130
SUMMARY:ICDE 2011 Final Version Due
DESCRIPTION:IEEE International Conference on Data Engineering
URL:http://www.wikicfp.com/cfp/servlet/event.showcfp?eventid=8847&copyown
 erid=12009
UID:cfp87124-N@wikicfp.com
END:VEVENT
BEGIN:VEVENT
DTSTAMP:20260421T024601Z
DTSTART;VALUE=DATE:20110128
DTEND;VALUE=DATE:20110131
SUMMARY:ICAART 2011
DESCRIPTION:3rd International Conference on Agents and Artificial Intelli
 gence (ICAART)
URL:http://www.wikicfp.com/cfp/servlet/event.showcfp?eventid=8991&copyown
 erid=12009
UID:cfp87110-E@wikicfp.com
END:VEVENT
BEGIN:VEVENT
DTSTAMP:20260421T024601Z
DTSTART;VALUE=DATE:20100726
SUMMARY:ICAART 2011 Deadline
DESCRIPTION:3rd International Conference on Agents and Artificial Intelli
 gence (ICAART)
URL:http://www.wikicfp.com/cfp/servlet/event.showcfp?eventid=8991&copyown
 erid=12009
UID:cfp87110-D@wikicfp.com
END:VEVENT
BEGIN:VEVENT
DTSTAMP:20260421T024601Z
DTSTART;VALUE=DATE:20101006
SUMMARY:ICAART 2011 Notification Due
DESCRIPTION:3rd International Conference on Agents and Artificial Intelli
 gence (ICAART)
URL:http://www.wikicfp.com/cfp/servlet/event.showcfp?eventid=8991&copyown
 erid=12009
UID:cfp87110-N@wikicfp.com
END:VEVENT
BEGIN:VEVENT
DTSTAMP:20260421T024601Z
DTSTART;VALUE=DATE:20101026
SUMMARY:ICAART 2011 Final Version Due
DESCRIPTION:3rd International Conference on Agents and Artificial Intelli
 gence (ICAART)
URL:http://www.wikicfp.com/cfp/servlet/event.showcfp?eventid=8991&copyown
 erid=12009
UID:cfp87110-N@wikicfp.com
END:VEVENT
BEGIN:VEVENT
DTSTAMP:20260421T024601Z
DTSTART;VALUE=DATE:20101119
DTEND;VALUE=DATE:20101122
SUMMARY:ADMA 2010
DESCRIPTION:The Sixth International Conference on Advanced Data Mining an
 d Applications 
URL:http://www.wikicfp.com/cfp/servlet/event.showcfp?eventid=8799&copyown
 erid=12009
UID:cfp87113-E@wikicfp.com
END:VEVENT
BEGIN:VEVENT
DTSTAMP:20260421T024601Z
DTSTART;VALUE=DATE:20100801
SUMMARY:ADMA 2010 Deadline
DESCRIPTION:The Sixth International Conference on Advanced Data Mining an
 d Applications 
URL:http://www.wikicfp.com/cfp/servlet/event.showcfp?eventid=8799&copyown
 erid=12009
UID:cfp87113-D@wikicfp.com
END:VEVENT
BEGIN:VEVENT
DTSTAMP:20260421T024601Z
DTSTART;VALUE=DATE:20100825
SUMMARY:ADMA 2010 Notification Due
DESCRIPTION:The Sixth International Conference on Advanced Data Mining an
 d Applications 
URL:http://www.wikicfp.com/cfp/servlet/event.showcfp?eventid=8799&copyown
 erid=12009
UID:cfp87113-N@wikicfp.com
END:VEVENT
BEGIN:VEVENT
DTSTAMP:20260421T024601Z
DTSTART;VALUE=DATE:20101003
SUMMARY:ADMA 2010 Final Version Due
DESCRIPTION:The Sixth International Conference on Advanced Data Mining an
 d Applications 
URL:http://www.wikicfp.com/cfp/servlet/event.showcfp?eventid=8799&copyown
 erid=12009
UID:cfp87113-N@wikicfp.com
END:VEVENT
BEGIN:VEVENT
DTSTAMP:20260421T024601Z
DTSTART;VALUE=DATE:20110716
DTEND;VALUE=DATE:20110723
SUMMARY:IJCAI 2011
DESCRIPTION:Twenty-second International Joint Conference on Artificial In
 telligence
URL:http://www.wikicfp.com/cfp/servlet/event.showcfp?eventid=7115&copyown
 erid=12009
UID:cfp87122-E@wikicfp.com
END:VEVENT
BEGIN:VEVENT
DTSTAMP:20260421T024601Z
DTSTART;VALUE=DATE:20110119
SUMMARY:IJCAI 2011 Abstract Due
DESCRIPTION:Twenty-second International Joint Conference on Artificial In
 telligence
URL:http://www.wikicfp.com/cfp/servlet/event.showcfp?eventid=7115&copyown
 erid=12009
UID:cfp87122-A@wikicfp.com
END:VEVENT
BEGIN:VEVENT
DTSTAMP:20260421T024601Z
DTSTART;VALUE=DATE:20110124
SUMMARY:IJCAI 2011 Deadline
DESCRIPTION:Twenty-second International Joint Conference on Artificial In
 telligence
URL:http://www.wikicfp.com/cfp/servlet/event.showcfp?eventid=7115&copyown
 erid=12009
UID:cfp87122-D@wikicfp.com
END:VEVENT
BEGIN:VEVENT
DTSTAMP:20260421T024601Z
DTSTART;VALUE=DATE:20110331
SUMMARY:IJCAI 2011 Notification Due
DESCRIPTION:Twenty-second International Joint Conference on Artificial In
 telligence
URL:http://www.wikicfp.com/cfp/servlet/event.showcfp?eventid=7115&copyown
 erid=12009
UID:cfp87122-N@wikicfp.com
END:VEVENT
BEGIN:VEVENT
DTSTAMP:20260421T024601Z
DTSTART;VALUE=DATE:20110415
SUMMARY:IJCAI 2011 Final Version Due
DESCRIPTION:Twenty-second International Joint Conference on Artificial In
 telligence
URL:http://www.wikicfp.com/cfp/servlet/event.showcfp?eventid=7115&copyown
 erid=12009
UID:cfp87122-N@wikicfp.com
END:VEVENT
END:VCALENDAR
