BEGIN:VCALENDAR
PRODID:-//WikiCFP//adba 1.0//EN
VERSION:2.0
CALSCALE:GREGORIAN
BEGIN:VEVENT
DTSTAMP:20260420T053748Z
DTSTART;VALUE=DATE:20101201
DTEND;VALUE=DATE:20101205
SUMMARY:ATS 2010
DESCRIPTION:19th Asian Test Symposium
URL:http://www.wikicfp.com/cfp/servlet/event.showcfp?eventid=7791&copyown
 erid=11935
UID:cfp86572-E@wikicfp.com
END:VEVENT
BEGIN:VEVENT
DTSTAMP:20260420T053748Z
DTSTART;VALUE=DATE:20100503
DTEND;VALUE=DATE:20100507
SUMMARY:NOCS 2010
DESCRIPTION:International Symposium on Networks-on-Chips
URL:http://www.wikicfp.com/cfp/servlet/event.showcfp?eventid=6773&copyown
 erid=11935
UID:cfp86565-E@wikicfp.com
END:VEVENT
BEGIN:VEVENT
DTSTAMP:20260420T053748Z
DTSTART;VALUE=DATE:20091211
SUMMARY:NOCS 2010 Abstract Due
DESCRIPTION:International Symposium on Networks-on-Chips
URL:http://www.wikicfp.com/cfp/servlet/event.showcfp?eventid=6773&copyown
 erid=11935
UID:cfp86565-A@wikicfp.com
END:VEVENT
BEGIN:VEVENT
DTSTAMP:20260420T053748Z
DTSTART;VALUE=DATE:20091218
SUMMARY:NOCS 2010 Deadline
DESCRIPTION:International Symposium on Networks-on-Chips
URL:http://www.wikicfp.com/cfp/servlet/event.showcfp?eventid=6773&copyown
 erid=11935
UID:cfp86565-D@wikicfp.com
END:VEVENT
BEGIN:VEVENT
DTSTAMP:20260420T053748Z
DTSTART;VALUE=DATE:20100212
SUMMARY:NOCS 2010 Notification Due
DESCRIPTION:International Symposium on Networks-on-Chips
URL:http://www.wikicfp.com/cfp/servlet/event.showcfp?eventid=6773&copyown
 erid=11935
UID:cfp86565-N@wikicfp.com
END:VEVENT
BEGIN:VEVENT
DTSTAMP:20260420T053748Z
DTSTART;VALUE=DATE:20100312
SUMMARY:NOCS 2010 Final Version Due
DESCRIPTION:International Symposium on Networks-on-Chips
URL:http://www.wikicfp.com/cfp/servlet/event.showcfp?eventid=6773&copyown
 erid=11935
UID:cfp86565-N@wikicfp.com
END:VEVENT
BEGIN:VEVENT
DTSTAMP:20260420T053748Z
DTSTART;VALUE=DATE:20100601
DTEND;VALUE=DATE:20100605
SUMMARY:ICS 2010
DESCRIPTION:24th International Conference on Supercomputing
URL:http://www.wikicfp.com/cfp/servlet/event.showcfp?eventid=7165&copyown
 erid=11935
UID:cfp86566-E@wikicfp.com
END:VEVENT
BEGIN:VEVENT
DTSTAMP:20260420T053748Z
DTSTART;VALUE=DATE:20100111
SUMMARY:ICS 2010 Abstract Due
DESCRIPTION:24th International Conference on Supercomputing
URL:http://www.wikicfp.com/cfp/servlet/event.showcfp?eventid=7165&copyown
 erid=11935
UID:cfp86566-A@wikicfp.com
END:VEVENT
BEGIN:VEVENT
DTSTAMP:20260420T053748Z
DTSTART;VALUE=DATE:20100118
SUMMARY:ICS 2010 Deadline
DESCRIPTION:24th International Conference on Supercomputing
URL:http://www.wikicfp.com/cfp/servlet/event.showcfp?eventid=7165&copyown
 erid=11935
UID:cfp86566-D@wikicfp.com
END:VEVENT
BEGIN:VEVENT
DTSTAMP:20260420T053748Z
DTSTART;VALUE=DATE:20100322
SUMMARY:ICS 2010 Notification Due
DESCRIPTION:24th International Conference on Supercomputing
URL:http://www.wikicfp.com/cfp/servlet/event.showcfp?eventid=7165&copyown
 erid=11935
UID:cfp86566-N@wikicfp.com
END:VEVENT
BEGIN:VEVENT
DTSTAMP:20260420T053748Z
DTSTART;VALUE=DATE:20100415
SUMMARY:ICS 2010 Final Version Due
DESCRIPTION:24th International Conference on Supercomputing
URL:http://www.wikicfp.com/cfp/servlet/event.showcfp?eventid=7165&copyown
 erid=11935
UID:cfp86566-N@wikicfp.com
END:VEVENT
BEGIN:VEVENT
DTSTAMP:20260420T053748Z
DTSTART;VALUE=DATE:20100913
DTEND;VALUE=DATE:20100917
SUMMARY:ICPP 2010
DESCRIPTION:39th International Conference on Parallel Processing
URL:http://www.wikicfp.com/cfp/servlet/event.showcfp?eventid=7179&copyown
 erid=11935
UID:cfp86567-E@wikicfp.com
END:VEVENT
BEGIN:VEVENT
DTSTAMP:20260420T053748Z
DTSTART;VALUE=DATE:20100224
SUMMARY:ICPP 2010 Deadline
DESCRIPTION:39th International Conference on Parallel Processing
URL:http://www.wikicfp.com/cfp/servlet/event.showcfp?eventid=7179&copyown
 erid=11935
UID:cfp86567-D@wikicfp.com
END:VEVENT
BEGIN:VEVENT
DTSTAMP:20260420T053748Z
DTSTART;VALUE=DATE:20100525
SUMMARY:ICPP 2010 Notification Due
DESCRIPTION:39th International Conference on Parallel Processing
URL:http://www.wikicfp.com/cfp/servlet/event.showcfp?eventid=7179&copyown
 erid=11935
UID:cfp86567-N@wikicfp.com
END:VEVENT
BEGIN:VEVENT
DTSTAMP:20260420T053748Z
DTSTART;VALUE=DATE:20100628
SUMMARY:ICPP 2010 Final Version Due
DESCRIPTION:39th International Conference on Parallel Processing
URL:http://www.wikicfp.com/cfp/servlet/event.showcfp?eventid=7179&copyown
 erid=11935
UID:cfp86567-N@wikicfp.com
END:VEVENT
BEGIN:VEVENT
DTSTAMP:20260420T053748Z
DTSTART;VALUE=DATE:20101003
DTEND;VALUE=DATE:20101007
SUMMARY:ICCD 2010
DESCRIPTION:International Conference on Computer Design
URL:http://www.wikicfp.com/cfp/servlet/event.showcfp?eventid=9192&copyown
 erid=11935
UID:cfp86571-E@wikicfp.com
END:VEVENT
BEGIN:VEVENT
DTSTAMP:20260420T053748Z
DTSTART;VALUE=DATE:20100514
SUMMARY:ICCD 2010 Abstract Due
DESCRIPTION:International Conference on Computer Design
URL:http://www.wikicfp.com/cfp/servlet/event.showcfp?eventid=9192&copyown
 erid=11935
UID:cfp86571-A@wikicfp.com
END:VEVENT
BEGIN:VEVENT
DTSTAMP:20260420T053748Z
DTSTART;VALUE=DATE:20100521
SUMMARY:ICCD 2010 Deadline
DESCRIPTION:International Conference on Computer Design
URL:http://www.wikicfp.com/cfp/servlet/event.showcfp?eventid=9192&copyown
 erid=11935
UID:cfp86571-D@wikicfp.com
END:VEVENT
BEGIN:VEVENT
DTSTAMP:20260420T053748Z
DTSTART;VALUE=DATE:20100723
SUMMARY:ICCD 2010 Notification Due
DESCRIPTION:International Conference on Computer Design
URL:http://www.wikicfp.com/cfp/servlet/event.showcfp?eventid=9192&copyown
 erid=11935
UID:cfp86571-N@wikicfp.com
END:VEVENT
BEGIN:VEVENT
DTSTAMP:20260420T053748Z
DTSTART;VALUE=DATE:20100823
SUMMARY:ICCD 2010 Final Version Due
DESCRIPTION:International Conference on Computer Design
URL:http://www.wikicfp.com/cfp/servlet/event.showcfp?eventid=9192&copyown
 erid=11935
UID:cfp86571-N@wikicfp.com
END:VEVENT
BEGIN:VEVENT
DTSTAMP:20260420T053748Z
DTSTART;VALUE=DATE:20101204
DTEND;VALUE=DATE:20101209
SUMMARY:MICRO 2010
DESCRIPTION:The 43rd Annual IEEE/ACM International Symposium on Microarch
 itecture
URL:http://www.wikicfp.com/cfp/servlet/event.showcfp?eventid=8688&copyown
 erid=11935
UID:cfp86569-E@wikicfp.com
END:VEVENT
BEGIN:VEVENT
DTSTAMP:20260420T053748Z
DTSTART;VALUE=DATE:20100611
SUMMARY:MICRO 2010 Deadline
DESCRIPTION:The 43rd Annual IEEE/ACM International Symposium on Microarch
 itecture
URL:http://www.wikicfp.com/cfp/servlet/event.showcfp?eventid=8688&copyown
 erid=11935
UID:cfp86569-D@wikicfp.com
END:VEVENT
BEGIN:VEVENT
DTSTAMP:20260420T053748Z
DTSTART;VALUE=DATE:20100816
SUMMARY:MICRO 2010 Notification Due
DESCRIPTION:The 43rd Annual IEEE/ACM International Symposium on Microarch
 itecture
URL:http://www.wikicfp.com/cfp/servlet/event.showcfp?eventid=8688&copyown
 erid=11935
UID:cfp86569-N@wikicfp.com
END:VEVENT
BEGIN:VEVENT
DTSTAMP:20260420T053748Z
DTSTART;VALUE=DATE:20110125
DTEND;VALUE=DATE:20110129
SUMMARY:ASP-DAC 2011
DESCRIPTION:16th Asia and South Pacific Design Automation Conference
URL:http://www.wikicfp.com/cfp/servlet/event.showcfp?eventid=9052&copyown
 erid=11935
UID:cfp86568-E@wikicfp.com
END:VEVENT
BEGIN:VEVENT
DTSTAMP:20260420T053748Z
DTSTART;VALUE=DATE:20100719
SUMMARY:ASP-DAC 2011 Deadline
DESCRIPTION:16th Asia and South Pacific Design Automation Conference
URL:http://www.wikicfp.com/cfp/servlet/event.showcfp?eventid=9052&copyown
 erid=11935
UID:cfp86568-D@wikicfp.com
END:VEVENT
BEGIN:VEVENT
DTSTAMP:20260420T053748Z
DTSTART;VALUE=DATE:20100924
SUMMARY:ASP-DAC 2011 Notification Due
DESCRIPTION:16th Asia and South Pacific Design Automation Conference
URL:http://www.wikicfp.com/cfp/servlet/event.showcfp?eventid=9052&copyown
 erid=11935
UID:cfp86568-N@wikicfp.com
END:VEVENT
BEGIN:VEVENT
DTSTAMP:20260420T053748Z
DTSTART;VALUE=DATE:20101115
SUMMARY:ASP-DAC 2011 Final Version Due
DESCRIPTION:16th Asia and South Pacific Design Automation Conference
URL:http://www.wikicfp.com/cfp/servlet/event.showcfp?eventid=9052&copyown
 erid=11935
UID:cfp86568-N@wikicfp.com
END:VEVENT
BEGIN:VEVENT
DTSTAMP:20260420T053748Z
DTSTART;VALUE=DATE:20110212
DTEND;VALUE=DATE:20110217
SUMMARY:HPCA 2011
DESCRIPTION:IEEE 17th International Symposium on High Performance Compute
 r Architecture
URL:http://www.wikicfp.com/cfp/servlet/event.showcfp?eventid=9619&copyown
 erid=11935
UID:cfp86570-E@wikicfp.com
END:VEVENT
BEGIN:VEVENT
DTSTAMP:20260420T053748Z
DTSTART;VALUE=DATE:20100820
SUMMARY:HPCA 2011 Abstract Due
DESCRIPTION:IEEE 17th International Symposium on High Performance Compute
 r Architecture
URL:http://www.wikicfp.com/cfp/servlet/event.showcfp?eventid=9619&copyown
 erid=11935
UID:cfp86570-A@wikicfp.com
END:VEVENT
BEGIN:VEVENT
DTSTAMP:20260420T053748Z
DTSTART;VALUE=DATE:20100827
SUMMARY:HPCA 2011 Deadline
DESCRIPTION:IEEE 17th International Symposium on High Performance Compute
 r Architecture
URL:http://www.wikicfp.com/cfp/servlet/event.showcfp?eventid=9619&copyown
 erid=11935
UID:cfp86570-D@wikicfp.com
END:VEVENT
BEGIN:VEVENT
DTSTAMP:20260420T053748Z
DTSTART;VALUE=DATE:20101109
SUMMARY:HPCA 2011 Notification Due
DESCRIPTION:IEEE 17th International Symposium on High Performance Compute
 r Architecture
URL:http://www.wikicfp.com/cfp/servlet/event.showcfp?eventid=9619&copyown
 erid=11935
UID:cfp86570-N@wikicfp.com
END:VEVENT
BEGIN:VEVENT
DTSTAMP:20260420T053748Z
DTSTART;VALUE=DATE:20101212
SUMMARY:HPCA 2011 Final Version Due
DESCRIPTION:IEEE 17th International Symposium on High Performance Compute
 r Architecture
URL:http://www.wikicfp.com/cfp/servlet/event.showcfp?eventid=9619&copyown
 erid=11935
UID:cfp86570-N@wikicfp.com
END:VEVENT
END:VCALENDAR
