BEGIN:VCALENDAR
PRODID:-//WikiCFP//SmitaGhosh 1.0//EN
VERSION:2.0
CALSCALE:GREGORIAN
BEGIN:VEVENT
DTSTAMP:20260422T042721Z
DTSTART;VALUE=DATE:20190707
DTEND;VALUE=DATE:20190711
SUMMARY:ICDCS 2019
DESCRIPTION:International Conference on Distributed Computing Systems
URL:http://www.wikicfp.com/cfp/servlet/event.showcfp?eventid=77280&copyow
 nerid=119233
UID:cfp729182-E@wikicfp.com
END:VEVENT
BEGIN:VEVENT
DTSTAMP:20260422T042721Z
DTSTART;VALUE=DATE:20190105
SUMMARY:ICDCS 2019 Abstract Due
DESCRIPTION:International Conference on Distributed Computing Systems
URL:http://www.wikicfp.com/cfp/servlet/event.showcfp?eventid=77280&copyow
 nerid=119233
UID:cfp729182-A@wikicfp.com
END:VEVENT
BEGIN:VEVENT
DTSTAMP:20260422T042721Z
DTSTART;VALUE=DATE:20190112
SUMMARY:ICDCS 2019 Deadline
DESCRIPTION:International Conference on Distributed Computing Systems
URL:http://www.wikicfp.com/cfp/servlet/event.showcfp?eventid=77280&copyow
 nerid=119233
UID:cfp729182-D@wikicfp.com
END:VEVENT
BEGIN:VEVENT
DTSTAMP:20260422T042721Z
DTSTART;VALUE=DATE:20190328
SUMMARY:ICDCS 2019 Notification Due
DESCRIPTION:International Conference on Distributed Computing Systems
URL:http://www.wikicfp.com/cfp/servlet/event.showcfp?eventid=77280&copyow
 nerid=119233
UID:cfp729182-N@wikicfp.com
END:VEVENT
BEGIN:VEVENT
DTSTAMP:20260422T042721Z
DTSTART;VALUE=DATE:20190403
SUMMARY:ICDCS 2019 Final Version Due
DESCRIPTION:International Conference on Distributed Computing Systems
URL:http://www.wikicfp.com/cfp/servlet/event.showcfp?eventid=77280&copyow
 nerid=119233
UID:cfp729182-N@wikicfp.com
END:VEVENT
END:VCALENDAR
