BEGIN:VCALENDAR
PRODID:-//WikiCFP//deanlo 1.0//EN
VERSION:2.0
CALSCALE:GREGORIAN
BEGIN:VEVENT
DTSTAMP:20260422T140214Z
DTSTART;VALUE=DATE:20101108
DTEND;VALUE=DATE:20101111
SUMMARY:iiWAS 2010
DESCRIPTION:12th International Conference on Information Integration and 
 Web-based Applications & Services
URL:http://www.wikicfp.com/cfp/servlet/event.showcfp?eventid=8335&copyown
 erid=11883
UID:cfp86129-E@wikicfp.com
END:VEVENT
BEGIN:VEVENT
DTSTAMP:20260422T140214Z
DTSTART;VALUE=DATE:20100604
SUMMARY:iiWAS 2010 Deadline
DESCRIPTION:12th International Conference on Information Integration and 
 Web-based Applications & Services
URL:http://www.wikicfp.com/cfp/servlet/event.showcfp?eventid=8335&copyown
 erid=11883
UID:cfp86129-D@wikicfp.com
END:VEVENT
BEGIN:VEVENT
DTSTAMP:20260422T140214Z
DTSTART;VALUE=DATE:20100809
SUMMARY:iiWAS 2010 Notification Due
DESCRIPTION:12th International Conference on Information Integration and 
 Web-based Applications & Services
URL:http://www.wikicfp.com/cfp/servlet/event.showcfp?eventid=8335&copyown
 erid=11883
UID:cfp86129-N@wikicfp.com
END:VEVENT
BEGIN:VEVENT
DTSTAMP:20260422T140214Z
DTSTART;VALUE=DATE:20100830
SUMMARY:iiWAS 2010 Final Version Due
DESCRIPTION:12th International Conference on Information Integration and 
 Web-based Applications & Services
URL:http://www.wikicfp.com/cfp/servlet/event.showcfp?eventid=8335&copyown
 erid=11883
UID:cfp86129-N@wikicfp.com
END:VEVENT
BEGIN:VEVENT
DTSTAMP:20260422T140214Z
DTSTART;VALUE=DATE:20101129
DTEND;VALUE=DATE:20101202
SUMMARY:ITS 2010
DESCRIPTION:IADIS International Conference on Internet Technologies & Soc
 iety 
URL:http://www.wikicfp.com/cfp/servlet/event.showcfp?eventid=9885&copyown
 erid=11883
UID:cfp88913-E@wikicfp.com
END:VEVENT
BEGIN:VEVENT
DTSTAMP:20260422T140214Z
DTSTART;VALUE=DATE:20100607
SUMMARY:ITS 2010 Deadline
DESCRIPTION:IADIS International Conference on Internet Technologies & Soc
 iety 
URL:http://www.wikicfp.com/cfp/servlet/event.showcfp?eventid=9885&copyown
 erid=11883
UID:cfp88913-D@wikicfp.com
END:VEVENT
BEGIN:VEVENT
DTSTAMP:20260422T140214Z
DTSTART;VALUE=DATE:20100705
SUMMARY:ITS 2010 Notification Due
DESCRIPTION:IADIS International Conference on Internet Technologies & Soc
 iety 
URL:http://www.wikicfp.com/cfp/servlet/event.showcfp?eventid=9885&copyown
 erid=11883
UID:cfp88913-N@wikicfp.com
END:VEVENT
BEGIN:VEVENT
DTSTAMP:20260422T140214Z
DTSTART;VALUE=DATE:20100728
SUMMARY:ITS 2010 Final Version Due
DESCRIPTION:IADIS International Conference on Internet Technologies & Soc
 iety 
URL:http://www.wikicfp.com/cfp/servlet/event.showcfp?eventid=9885&copyown
 erid=11883
UID:cfp88913-N@wikicfp.com
END:VEVENT
BEGIN:VEVENT
DTSTAMP:20260422T140214Z
DTSTART;VALUE=DATE:20100921
DTEND;VALUE=DATE:20100924
SUMMARY:TCUK 2010
DESCRIPTION:Technical Communication UK
URL:http://www.wikicfp.com/cfp/servlet/event.showcfp?eventid=9910&copyown
 erid=11883
UID:cfp88912-E@wikicfp.com
END:VEVENT
BEGIN:VEVENT
DTSTAMP:20260422T140214Z
DTSTART;VALUE=DATE:20100615
SUMMARY:TCUK 2010 Deadline
DESCRIPTION:Technical Communication UK
URL:http://www.wikicfp.com/cfp/servlet/event.showcfp?eventid=9910&copyown
 erid=11883
UID:cfp88912-D@wikicfp.com
END:VEVENT
END:VCALENDAR
