BEGIN:VCALENDAR
PRODID:-//WikiCFP//kitayuta 1.0//EN
VERSION:2.0
CALSCALE:GREGORIAN
BEGIN:VEVENT
DTSTAMP:20260421T010254Z
DTSTART;VALUE=DATE:20191208
DTEND;VALUE=DATE:20191215
SUMMARY:NeurIPS 2019
DESCRIPTION:Thirty-third Conference on Neural Information Processing Syst
 ems
URL:http://www.wikicfp.com/cfp/servlet/event.showcfp?eventid=86511&copyow
 nerid=118089
UID:cfp774187-E@wikicfp.com
END:VEVENT
BEGIN:VEVENT
DTSTAMP:20260421T010254Z
DTSTART;VALUE=DATE:20190516
SUMMARY:NeurIPS 2019 Abstract Due
DESCRIPTION:Thirty-third Conference on Neural Information Processing Syst
 ems
URL:http://www.wikicfp.com/cfp/servlet/event.showcfp?eventid=86511&copyow
 nerid=118089
UID:cfp774187-A@wikicfp.com
END:VEVENT
BEGIN:VEVENT
DTSTAMP:20260421T010254Z
DTSTART;VALUE=DATE:20190523
SUMMARY:NeurIPS 2019 Deadline
DESCRIPTION:Thirty-third Conference on Neural Information Processing Syst
 ems
URL:http://www.wikicfp.com/cfp/servlet/event.showcfp?eventid=86511&copyow
 nerid=118089
UID:cfp774187-D@wikicfp.com
END:VEVENT
BEGIN:VEVENT
DTSTAMP:20260421T010254Z
DTSTART;VALUE=DATE:20190904
SUMMARY:NeurIPS 2019 Notification Due
DESCRIPTION:Thirty-third Conference on Neural Information Processing Syst
 ems
URL:http://www.wikicfp.com/cfp/servlet/event.showcfp?eventid=86511&copyow
 nerid=118089
UID:cfp774187-N@wikicfp.com
END:VEVENT
END:VCALENDAR
