BEGIN:VCALENDAR
PRODID:-//WikiCFP//Dr_Pace 1.0//EN
VERSION:2.0
CALSCALE:GREGORIAN
BEGIN:VEVENT
DTSTAMP:20260420T065528Z
DTSTART;VALUE=DATE:20180722
DTEND;VALUE=DATE:20180725
SUMMARY:BEM 2018
DESCRIPTION:2018 3rd International Conference on Business\, Economics and
  Management 
URL:http://www.wikicfp.com/cfp/servlet/event.showcfp?eventid=72683&copyow
 nerid=116858
UID:cfp725228-E@wikicfp.com
END:VEVENT
BEGIN:VEVENT
DTSTAMP:20260420T065528Z
DTSTART;VALUE=DATE:20180530
SUMMARY:BEM 2018 Deadline
DESCRIPTION:2018 3rd International Conference on Business\, Economics and
  Management 
URL:http://www.wikicfp.com/cfp/servlet/event.showcfp?eventid=72683&copyow
 nerid=116858
UID:cfp725228-D@wikicfp.com
END:VEVENT
BEGIN:VEVENT
DTSTAMP:20260420T065528Z
DTSTART;VALUE=DATE:20180610
SUMMARY:BEM 2018 Notification Due
DESCRIPTION:2018 3rd International Conference on Business\, Economics and
  Management 
URL:http://www.wikicfp.com/cfp/servlet/event.showcfp?eventid=72683&copyow
 nerid=116858
UID:cfp725228-N@wikicfp.com
END:VEVENT
BEGIN:VEVENT
DTSTAMP:20260420T065528Z
DTSTART;VALUE=DATE:20180625
SUMMARY:BEM 2018 Final Version Due
DESCRIPTION:2018 3rd International Conference on Business\, Economics and
  Management 
URL:http://www.wikicfp.com/cfp/servlet/event.showcfp?eventid=72683&copyow
 nerid=116858
UID:cfp725228-N@wikicfp.com
END:VEVENT
BEGIN:VEVENT
DTSTAMP:20260420T065528Z
DTSTART;VALUE=DATE:20180822
DTEND;VALUE=DATE:20180825
SUMMARY:ICICM--ACM\, Ei Compendex & Scopus 2018
DESCRIPTION:2018 The 8th International Conference on Information Communic
 ation and Management (ICICM 2018)--ACM\, Ei Compendex & Scopus
URL:http://www.wikicfp.com/cfp/servlet/event.showcfp?eventid=71640&copyow
 nerid=116858
UID:cfp725227-E@wikicfp.com
END:VEVENT
BEGIN:VEVENT
DTSTAMP:20260420T065528Z
DTSTART;VALUE=DATE:20180625
SUMMARY:ICICM--ACM\, Ei Compendex & Scopus 2018 Deadline
DESCRIPTION:2018 The 8th International Conference on Information Communic
 ation and Management (ICICM 2018)--ACM\, Ei Compendex & Scopus
URL:http://www.wikicfp.com/cfp/servlet/event.showcfp?eventid=71640&copyow
 nerid=116858
UID:cfp725227-D@wikicfp.com
END:VEVENT
BEGIN:VEVENT
DTSTAMP:20260420T065528Z
DTSTART;VALUE=DATE:20180825
DTEND;VALUE=DATE:20180828
SUMMARY:IMMS--Ei Compendex and Scopus 2018
DESCRIPTION:2018 International Conference on Information Management and M
 anagement Sciences (IMMS 2018)--Ei Compendex and Scopus
URL:http://www.wikicfp.com/cfp/servlet/event.showcfp?eventid=72864&copyow
 nerid=116858
UID:cfp725229-E@wikicfp.com
END:VEVENT
BEGIN:VEVENT
DTSTAMP:20260420T065528Z
DTSTART;VALUE=DATE:20180710
SUMMARY:IMMS--Ei Compendex and Scopus 2018 Deadline
DESCRIPTION:2018 International Conference on Information Management and M
 anagement Sciences (IMMS 2018)--Ei Compendex and Scopus
URL:http://www.wikicfp.com/cfp/servlet/event.showcfp?eventid=72864&copyow
 nerid=116858
UID:cfp725229-D@wikicfp.com
END:VEVENT
BEGIN:VEVENT
DTSTAMP:20260420T065528Z
DTSTART;VALUE=DATE:20181024
DTEND;VALUE=DATE:20181027
SUMMARY:ICCPM 2018
DESCRIPTION:2018 9th International Conference on Construction and Project
  Management (ICCPM 2018)
URL:http://www.wikicfp.com/cfp/servlet/event.showcfp?eventid=72866&copyow
 nerid=116858
UID:cfp725231-E@wikicfp.com
END:VEVENT
BEGIN:VEVENT
DTSTAMP:20260420T065528Z
DTSTART;VALUE=DATE:20180830
SUMMARY:ICCPM 2018 Deadline
DESCRIPTION:2018 9th International Conference on Construction and Project
  Management (ICCPM 2018)
URL:http://www.wikicfp.com/cfp/servlet/event.showcfp?eventid=72866&copyow
 nerid=116858
UID:cfp725231-D@wikicfp.com
END:VEVENT
BEGIN:VEVENT
DTSTAMP:20260420T065528Z
DTSTART;VALUE=DATE:20180420
DTEND;VALUE=DATE:20181001
SUMMARY:Big Data Era 2018
DESCRIPTION:BEYOND TECHNOLOGY: MANAGEMENT CHALLENGES IN THE BIG DATA ERA
URL:http://www.wikicfp.com/cfp/servlet/event.showcfp?eventid=75815&copyow
 nerid=116858
UID:cfp725232-E@wikicfp.com
END:VEVENT
BEGIN:VEVENT
DTSTAMP:20260420T065528Z
DTSTART;VALUE=DATE:20180930
SUMMARY:Big Data Era 2018 Deadline
DESCRIPTION:BEYOND TECHNOLOGY: MANAGEMENT CHALLENGES IN THE BIG DATA ERA
URL:http://www.wikicfp.com/cfp/servlet/event.showcfp?eventid=75815&copyow
 nerid=116858
UID:cfp725232-D@wikicfp.com
END:VEVENT
BEGIN:VEVENT
DTSTAMP:20260420T065528Z
DTSTART;VALUE=DATE:20190121
DTEND;VALUE=DATE:20190124
SUMMARY:ICBCMM 2019
DESCRIPTION:International Conference on Business Communiation\, Marketing
 \, and Management
URL:http://www.wikicfp.com/cfp/servlet/event.showcfp?eventid=77553&copyow
 nerid=116858
UID:cfp752614-E@wikicfp.com
END:VEVENT
BEGIN:VEVENT
DTSTAMP:20260420T065528Z
DTSTART;VALUE=DATE:20181130
SUMMARY:ICBCMM 2019 Deadline
DESCRIPTION:International Conference on Business Communiation\, Marketing
 \, and Management
URL:http://www.wikicfp.com/cfp/servlet/event.showcfp?eventid=77553&copyow
 nerid=116858
UID:cfp752614-D@wikicfp.com
END:VEVENT
BEGIN:VEVENT
DTSTAMP:20260420T065528Z
DTSTART;VALUE=DATE:20190107
SUMMARY:ICBCMM 2019 Final Version Due
DESCRIPTION:International Conference on Business Communiation\, Marketing
 \, and Management
URL:http://www.wikicfp.com/cfp/servlet/event.showcfp?eventid=77553&copyow
 nerid=116858
UID:cfp752614-N@wikicfp.com
END:VEVENT
BEGIN:VEVENT
DTSTAMP:20260420T065528Z
DTSTART;VALUE=DATE:20191003
DTEND;VALUE=DATE:20191005
SUMMARY:ECGBL 2019
DESCRIPTION:13th European Conference on Games Based Learning 
URL:http://www.wikicfp.com/cfp/servlet/event.showcfp?eventid=82167&copyow
 nerid=116858
UID:cfp752612-E@wikicfp.com
END:VEVENT
BEGIN:VEVENT
DTSTAMP:20260420T065528Z
DTSTART;VALUE=DATE:20190325
SUMMARY:ECGBL 2019 Deadline
DESCRIPTION:13th European Conference on Games Based Learning 
URL:http://www.wikicfp.com/cfp/servlet/event.showcfp?eventid=82167&copyow
 nerid=116858
UID:cfp752612-D@wikicfp.com
END:VEVENT
BEGIN:VEVENT
DTSTAMP:20260420T065528Z
DTSTART;VALUE=DATE:20190711
SUMMARY:ECGBL 2019 Notification Due
DESCRIPTION:13th European Conference on Games Based Learning 
URL:http://www.wikicfp.com/cfp/servlet/event.showcfp?eventid=82167&copyow
 nerid=116858
UID:cfp752612-N@wikicfp.com
END:VEVENT
BEGIN:VEVENT
DTSTAMP:20260420T065528Z
DTSTART;VALUE=DATE:20190808
SUMMARY:ECGBL 2019 Final Version Due
DESCRIPTION:13th European Conference on Games Based Learning 
URL:http://www.wikicfp.com/cfp/servlet/event.showcfp?eventid=82167&copyow
 nerid=116858
UID:cfp752612-N@wikicfp.com
END:VEVENT
BEGIN:VEVENT
DTSTAMP:20260420T065528Z
DTSTART;VALUE=DATE:20191114
DTEND;VALUE=DATE:20191116
SUMMARY:ECMLG 2019
DESCRIPTION:15th European Conference on Management Leadership and Governa
 nce
URL:http://www.wikicfp.com/cfp/servlet/event.showcfp?eventid=82169&copyow
 nerid=116858
UID:cfp752613-E@wikicfp.com
END:VEVENT
BEGIN:VEVENT
DTSTAMP:20260420T065528Z
DTSTART;VALUE=DATE:20190425
SUMMARY:ECMLG 2019 Deadline
DESCRIPTION:15th European Conference on Management Leadership and Governa
 nce
URL:http://www.wikicfp.com/cfp/servlet/event.showcfp?eventid=82169&copyow
 nerid=116858
UID:cfp752613-D@wikicfp.com
END:VEVENT
BEGIN:VEVENT
DTSTAMP:20260420T065528Z
DTSTART;VALUE=DATE:20190506
SUMMARY:ECMLG 2019 Notification Due
DESCRIPTION:15th European Conference on Management Leadership and Governa
 nce
URL:http://www.wikicfp.com/cfp/servlet/event.showcfp?eventid=82169&copyow
 nerid=116858
UID:cfp752613-N@wikicfp.com
END:VEVENT
BEGIN:VEVENT
DTSTAMP:20260420T065528Z
DTSTART;VALUE=DATE:20190919
SUMMARY:ECMLG 2019 Final Version Due
DESCRIPTION:15th European Conference on Management Leadership and Governa
 nce
URL:http://www.wikicfp.com/cfp/servlet/event.showcfp?eventid=82169&copyow
 nerid=116858
UID:cfp752613-N@wikicfp.com
END:VEVENT
BEGIN:VEVENT
DTSTAMP:20260420T065528Z
DTSTART;VALUE=DATE:20201219
DTEND;VALUE=DATE:20201221
SUMMARY:SEMIT 2020
DESCRIPTION:International Conference on Software Engineering and Managing
  Information Technology
URL:http://www.wikicfp.com/cfp/servlet/event.showcfp?eventid=65250&copyow
 nerid=116858
UID:cfp725226-E@wikicfp.com
END:VEVENT
BEGIN:VEVENT
DTSTAMP:20260420T065528Z
DTSTART;VALUE=DATE:20201205
SUMMARY:SEMIT 2020 Deadline
DESCRIPTION:International Conference on Software Engineering and Managing
  Information Technology
URL:http://www.wikicfp.com/cfp/servlet/event.showcfp?eventid=65250&copyow
 nerid=116858
UID:cfp725226-D@wikicfp.com
END:VEVENT
BEGIN:VEVENT
DTSTAMP:20260420T065528Z
DTSTART;VALUE=DATE:20201210
SUMMARY:SEMIT 2020 Notification Due
DESCRIPTION:International Conference on Software Engineering and Managing
  Information Technology
URL:http://www.wikicfp.com/cfp/servlet/event.showcfp?eventid=65250&copyow
 nerid=116858
UID:cfp725226-N@wikicfp.com
END:VEVENT
BEGIN:VEVENT
DTSTAMP:20260420T065528Z
DTSTART;VALUE=DATE:20201215
SUMMARY:SEMIT 2020 Final Version Due
DESCRIPTION:International Conference on Software Engineering and Managing
  Information Technology
URL:http://www.wikicfp.com/cfp/servlet/event.showcfp?eventid=65250&copyow
 nerid=116858
UID:cfp725226-N@wikicfp.com
END:VEVENT
BEGIN:VEVENT
DTSTAMP:20260420T065528Z
DTSTART;VALUE=DATE:20210320
DTEND;VALUE=DATE:20210322
SUMMARY:MLSC 2021
DESCRIPTION:2nd International Conference on Machine Learning and Soft Com
 puting 
URL:http://www.wikicfp.com/cfp/servlet/event.showcfp?eventid=76164&copyow
 nerid=116858
UID:cfp725225-E@wikicfp.com
END:VEVENT
BEGIN:VEVENT
DTSTAMP:20260420T065528Z
DTSTART;VALUE=DATE:20210306
SUMMARY:MLSC 2021 Deadline
DESCRIPTION:2nd International Conference on Machine Learning and Soft Com
 puting 
URL:http://www.wikicfp.com/cfp/servlet/event.showcfp?eventid=76164&copyow
 nerid=116858
UID:cfp725225-D@wikicfp.com
END:VEVENT
BEGIN:VEVENT
DTSTAMP:20260420T065528Z
DTSTART;VALUE=DATE:20210315
SUMMARY:MLSC 2021 Notification Due
DESCRIPTION:2nd International Conference on Machine Learning and Soft Com
 puting 
URL:http://www.wikicfp.com/cfp/servlet/event.showcfp?eventid=76164&copyow
 nerid=116858
UID:cfp725225-N@wikicfp.com
END:VEVENT
BEGIN:VEVENT
DTSTAMP:20260420T065528Z
DTSTART;VALUE=DATE:20210318
SUMMARY:MLSC 2021 Final Version Due
DESCRIPTION:2nd International Conference on Machine Learning and Soft Com
 puting 
URL:http://www.wikicfp.com/cfp/servlet/event.showcfp?eventid=76164&copyow
 nerid=116858
UID:cfp725225-N@wikicfp.com
END:VEVENT
BEGIN:VEVENT
DTSTAMP:20260420T065528Z
DTSTART;VALUE=DATE:20220430
SUMMARY:EJEMS - 2 2022 Deadline
DESCRIPTION:The European Journal of Economics and Management Sciences
URL:http://www.wikicfp.com/cfp/servlet/event.showcfp?eventid=43178&copyow
 nerid=116858
UID:cfp725230-D@wikicfp.com
END:VEVENT
BEGIN:VEVENT
DTSTAMP:20260420T065528Z
DTSTART;VALUE=DATE:20250831
SUMMARY:IJIBM 2025 Deadline
DESCRIPTION:Call For Papers - International Journal of Information\, Busi
 ness and Management
URL:http://www.wikicfp.com/cfp/servlet/event.showcfp?eventid=76482&copyow
 nerid=116858
UID:cfp752616-D@wikicfp.com
END:VEVENT
BEGIN:VEVENT
DTSTAMP:20260420T065528Z
DTSTART;VALUE=DATE:20260425
SUMMARY:IJMIT 2026 Deadline
DESCRIPTION:International Journal of Managing Information Technology
URL:http://www.wikicfp.com/cfp/servlet/event.showcfp?eventid=79414&copyow
 nerid=116858
UID:cfp752615-D@wikicfp.com
END:VEVENT
BEGIN:VEVENT
DTSTAMP:20260420T065528Z
DTSTART;VALUE=DATE:20260520
SUMMARY:IJMIT 2026 Notification Due
DESCRIPTION:International Journal of Managing Information Technology
URL:http://www.wikicfp.com/cfp/servlet/event.showcfp?eventid=79414&copyow
 nerid=116858
UID:cfp752615-N@wikicfp.com
END:VEVENT
BEGIN:VEVENT
DTSTAMP:20260420T065528Z
DTSTART;VALUE=DATE:20260526
SUMMARY:IJMIT 2026 Final Version Due
DESCRIPTION:International Journal of Managing Information Technology
URL:http://www.wikicfp.com/cfp/servlet/event.showcfp?eventid=79414&copyow
 nerid=116858
UID:cfp752615-N@wikicfp.com
END:VEVENT
END:VCALENDAR
